BEGIN:VCALENDAR
VERSION:2.0
PRODID:-//Ateneu Enciclopèdic Popular - ECPv6.0.13.1//NONSGML v1.0//EN
CALSCALE:GREGORIAN
METHOD:PUBLISH
X-ORIGINAL-URL:https://ateneuenciclopedicpopular.org
X-WR-CALDESC:Esdeveniments per Ateneu Enciclopèdic Popular
REFRESH-INTERVAL;VALUE=DURATION:PT1H
X-Robots-Tag:noindex
X-PUBLISHED-TTL:PT1H
BEGIN:VTIMEZONE
TZID:UTC
BEGIN:STANDARD
TZOFFSETFROM:+0000
TZOFFSETTO:+0000
TZNAME:UTC
DTSTART:20210101T000000
END:STANDARD
END:VTIMEZONE
BEGIN:VEVENT
DTSTART;TZID=UTC:20211102T183000
DTEND;TZID=UTC:20211125T210000
DTSTAMP:20260420T183837
CREATED:20210729T190424Z
LAST-MODIFIED:20211020T095802Z
UID:4886-1635877800-1637874000@ateneuenciclopedicpopular.org
SUMMARY:Exposició sobre la vida i obra d'Antoni Téllez Solà
DESCRIPTION:Exposició de fotografies de guerrillers recopilades per l’autor i de llibres publicats per Antoni Téllez. \nEn el mateix àmbit de l’Exposició\, en commemoració del centenari del seu naixement\, es durà a terme una xerrada sobre la seva vida i obra el 6 de novembre.
URL:https://ateneuenciclopedicpopular.org/activitat/exposicio-sobre-la-vida-i-obra-dantoni-tellez-sola/
LOCATION:Sala Margarita Xirgu
CATEGORIES:Exposició
ATTACH;FMTTYPE=image/jpeg:https://ateneuenciclopedicpopular.org/wp-content/uploads/2021/07/44_Facerias-catala_web-1.jpg
END:VEVENT
BEGIN:VEVENT
DTSTART;TZID=UTC:20211123T184500
DTEND;TZID=UTC:20211123T210000
DTSTAMP:20260420T183837
CREATED:20211112T113241Z
LAST-MODIFIED:20211112T113241Z
UID:5350-1637693100-1637701200@ateneuenciclopedicpopular.org
SUMMARY:Cine Fòrum a l'Ateneu: La dictadura perfecta
DESCRIPTION:Segona Sessió del Cine Fòrum de l’Ateneu Enciclopèdic Popular. \nCine Fòrum… gaudir del cinema i fer servir el cinema per parlar\, reflexionar i debatre d’aspectes de la vida i la societat actuals. \nLa dictadura perfecta és una pel·lícula del director mexicà Luis Estrada\, estrenada el 2014 \nEn to de sàtira\, el film explica que\, una cadena de televisió intenta desviar l’atenció d’un error comés pel president de la república emetent un vidéo que involucra en alguns crims a un altre polític\, el governador Carmelo Vargas i com aquest decideix negociar amb la cadena per a canviar la seva imatge i convertir-se en una estrella política. \nUs hi esperem! El 23 de novembre a les 18’45 hores
URL:https://ateneuenciclopedicpopular.org/activitat/cine-forum-a-lateneu-la-dictadura-perfecta/
LOCATION:Sala Margarita Xirgu
CATEGORIES:Cine Club
ATTACH;FMTTYPE=image/jpeg:https://ateneuenciclopedicpopular.org/wp-content/uploads/2021/11/La-dictadura-perfecta_2.jpg
END:VEVENT
END:VCALENDAR