BEGIN:VCALENDAR
VERSION:2.0
PRODID:-//Ateneu Enciclopèdic Popular - ECPv6.0.13.1//NONSGML v1.0//EN
CALSCALE:GREGORIAN
METHOD:PUBLISH
X-ORIGINAL-URL:https://ateneuenciclopedicpopular.org
X-WR-CALDESC:Esdeveniments per Ateneu Enciclopèdic Popular
REFRESH-INTERVAL;VALUE=DURATION:PT1H
X-Robots-Tag:noindex
X-PUBLISHED-TTL:PT1H
BEGIN:VTIMEZONE
TZID:UTC
BEGIN:STANDARD
TZOFFSETFROM:+0000
TZOFFSETTO:+0000
TZNAME:UTC
DTSTART:20220101T000000
END:STANDARD
END:VTIMEZONE
BEGIN:VEVENT
DTSTART;TZID=UTC:20220120T184500
DTEND;TZID=UTC:20220120T210000
DTSTAMP:20260420T171424
CREATED:20211130T171158Z
LAST-MODIFIED:20211227T120514Z
UID:5446-1642704300-1642712400@ateneuenciclopedicpopular.org
SUMMARY:Taula Rodona: Els ateneus llibertaris en temps de la transacció\, a propòsit del llibre de Xavier Oller "Nosaltres no vàrem pactar"
DESCRIPTION:Nosaltres no vàrem pactar. La transició a peu de carrer\n\n\n\n\n\n\n\nTaula Rodona. Els ateneus llibertaris en temps de la transacció\, a propòsit del llibre de X Oller “Nosaltres no vàrem pactar“ \nEls ateneus llibertaris sota la transacció foren uns espais de llibertat en el que encara no es tenia clar el que es volia fer\, però es tenia clar que es necessitava interrelacionar amb aquells que volien d’alguna manera gaudir de la llibertat del moment. \nI de la recerca de descobrir el que havia estat allò que ens explicaven els avis de la Barcelona revolucionaria\, per això aquella pintada d’« Abuelo ya estamos aqui». \nLes ganes de canviar les coses i de participar en aquell projecte va fer que molts joves s’agrupessin en els ateneus llibertaris i en grups afins que buscaven d’alguna manera alliberar-se d’un bon grapat de perjudicis que durant el franquisme estaven ben visibles o inclús alguns de soterrats.\nAquests joves d’alguna manera establiren una dinamització d’una part de la societat\, aquella que realment volia canviar el món. \nPer això la gran majoria dels ateneistes es multiplicaren i foren la base d’una ressorgida CNT que aleshores agrupava a tot el moviment llibertari.\nEsperem que el debat entorn del llibre de Xavier Oller «Nosaltres no Vàrem pactar» sigui enriquidor per a totes.\nContarem en el debat a destacats militants dels ateneus d’aquells anys com José Pérez Albalate\, Charli\, Manel Aisa \, Xavi Oller autor del llibre. \norganitza Secció d’Història de l’Ateneu Enciclopèdic/CDHS \nUs hi esperem
URL:https://ateneuenciclopedicpopular.org/activitat/taula-rodona-sobre-la-transicio-a-peu-de-carrer-seguint-les-petjades-del-llibre-editat-recentment-de-xavier-oller-nosaltres-no-varem-pactar/
LOCATION:Sala Margarita Xirgu
ATTACH;FMTTYPE=image/jpeg:https://ateneuenciclopedicpopular.org/wp-content/uploads/2021/11/Cartell-Xavi-Oller.jpg
END:VEVENT
END:VCALENDAR