BEGIN:VCALENDAR
VERSION:2.0
PRODID:-//Ateneu Enciclopèdic Popular - ECPv6.0.13.1//NONSGML v1.0//EN
CALSCALE:GREGORIAN
METHOD:PUBLISH
X-WR-CALNAME:Ateneu Enciclopèdic Popular
X-ORIGINAL-URL:https://ateneuenciclopedicpopular.org
X-WR-CALDESC:Esdeveniments per Ateneu Enciclopèdic Popular
REFRESH-INTERVAL;VALUE=DURATION:PT1H
X-Robots-Tag:noindex
X-PUBLISHED-TTL:PT1H
BEGIN:VTIMEZONE
TZID:UTC
BEGIN:STANDARD
TZOFFSETFROM:+0000
TZOFFSETTO:+0000
TZNAME:UTC
DTSTART:20220101T000000
END:STANDARD
END:VTIMEZONE
BEGIN:VEVENT
DTSTART;TZID=UTC:20220125T184500
DTEND;TZID=UTC:20220125T210000
DTSTAMP:20260420T171316
CREATED:20220113T100926Z
LAST-MODIFIED:20220113T100926Z
UID:5631-1643136300-1643144400@ateneuenciclopedicpopular.org
SUMMARY:Cine Fòrum a l'Ateneu: Brutos\, sucios y malos
DESCRIPTION:Sisena Sessió del Cine Fòrum de l’Ateneu Enciclopèdic Popular. \nCine Fòrum… gaudir del cinema i fer servir el cinema per parlar\, reflexionar i debatre sobre aspectes de la vida i la societat actuals. \nBrutos\, sucios y malos és una pel·lícula dirigida per Ettore Escola el 1976 \nUna familia nombrosa d’immigrant viu de forma mísera a la periferia de Roma. Al patriarca\, una asseguradora li ha lliurat un milió de lires per la perdua d’un ull. I el seu objectiu\, des d’aquell moment és allunyar els diners dels seus cobdiciosos familiars. Una lluita dins una familia on tots són extremadament egoïstes.
URL:https://ateneuenciclopedicpopular.org/activitat/cine-forum-a-lateneu-brutos-sucios-y-malos/
LOCATION:Sala Margarita Xirgu
CATEGORIES:Cine Club
ATTACH;FMTTYPE=image/jpeg:https://ateneuenciclopedicpopular.org/wp-content/uploads/2022/01/Brutos.jpg
END:VEVENT
END:VCALENDAR