BEGIN:VCALENDAR
VERSION:2.0
PRODID:-//Ateneu Enciclopèdic Popular - ECPv6.0.13.1//NONSGML v1.0//EN
CALSCALE:GREGORIAN
METHOD:PUBLISH
X-WR-CALNAME:Ateneu Enciclopèdic Popular
X-ORIGINAL-URL:https://ateneuenciclopedicpopular.org
X-WR-CALDESC:Esdeveniments per Ateneu Enciclopèdic Popular
REFRESH-INTERVAL;VALUE=DURATION:PT1H
X-Robots-Tag:noindex
X-PUBLISHED-TTL:PT1H
BEGIN:VTIMEZONE
TZID:UTC
BEGIN:STANDARD
TZOFFSETFROM:+0000
TZOFFSETTO:+0000
TZNAME:UTC
DTSTART:20220101T000000
END:STANDARD
END:VTIMEZONE
BEGIN:VEVENT
DTSTART;TZID=UTC:20220425T080000
DTEND;TZID=UTC:20220530T170000
DTSTAMP:20260420T101936
CREATED:20220420T164905Z
LAST-MODIFIED:20220420T165644Z
UID:6129-1650873600-1653930000@ateneuenciclopedicpopular.org
SUMMARY:Taller d'introducció a l'anarquisme (2a. part)
DESCRIPTION:El taller es una propuesta de debate sobre distintas temáticas relacionadas con el anarquismo. No está pensado como un curso académico\, sinó como un espacio autoorganizado en el que se puedan tocar temas de actualidad.  Cada lunes\, y con la ayuda de algo de bibliografía\, nos reuniremos en el AEP para compartir conocimiento y experiencias. No hace falta inscripción. Para tener acceso a la bibliografía puedes mandar un correo a joueling@gmail.com\n[Esta segunda parte del taller se realiza en 6 sesiones todos los lunes\, a partir del 25 de abril y hasta el 30 de mayo\, a las 19h. Es necesario disponer de la bibliografía marco con algo de antelación a cada sesión.]\n\n\n\nEl taller és una proposta de debat sobre diferents temàtiques relacionades amb l’anarquisme. No està pensat com un curs acadèmic\, sinó com un espai autoorganitzat on poder tocar temes d’actualitat. Cada dilluns\, i amb l’ajuda d’una mica de bibliografia\, ens reunirem a l’AEP per compartir coneixement i experiències. No fa falta inscripció. Per tenir accés a la bibliografia pots enviar un correu a joueling@gmail.com\n[La segona part del taller es realitza en 6 sessions tots els dilluns\, a partir del 25 d’abril i fins al 30 de maig\, a les 19h. Cal disposar de la bibliografia marc amb una mica d’antelació de cada sessió.]
URL:https://ateneuenciclopedicpopular.org/activitat/taller-dintroduccio-a-lanarquisme-2a-part/
LOCATION:Aula Llib. Rodenas
CATEGORIES:Taller - Curs
ATTACH;FMTTYPE=image/png:https://ateneuenciclopedicpopular.org/wp-content/uploads/2022/04/Introduccion-al-anarquismo-2a-parte-png-2.png
END:VEVENT
BEGIN:VEVENT
DTSTART;TZID=UTC:20220527T183000
DTEND;TZID=UTC:20220527T183000
DTSTAMP:20260420T101936
CREATED:20220516T091558Z
LAST-MODIFIED:20220516T091558Z
UID:6226-1653676200-1653676200@ateneuenciclopedicpopular.org
SUMMARY:Presentación del libro "Cómo matar a la muerte. Agustín García Calvo y la filosofía de la contracultura"\, de Jordi Carmona Hurtado (La oveja roja\, 2022).
DESCRIPTION:El libro “Cómo matar a la muerte” es un ensayo sobre la filosofía de la contracultura\nespañola\, que recorre sus grandes temas (el pacto con el diablo\, el viaje\, las búsquedas\nrítmicas\, las experimentaciones sexuales y deseantes\, el papel de lo popular\, la acracia\ny el antifranquismo). Consiste principalmente en una presentación del pensamiento de\nAgustín García Calvo\, que constituye el verdadero núcleo de esta filosofía\ncontracultural y por tanto el objeto de análisis privilegiado en “Cómo matar a la\nmuerte”. Mostramos la originalidad filosófica de su comprensión del pensamiento\ncomo acción negativa\, comparada con la de otros pensadores contemporáneos como\nDeleuze\, Lacan\, Adorno o Agamben. Pero el libro analiza también otras producciones\nculturales afines de ese período\, como las de Fernando Savater y Eugenio Trías\,\nLeopoldo María Panero o los hermanos Rafael y Chicho Sánchez Ferlosio.\nEl libro sitúa\, por tanto\, el pensamiento de García Calvo en su contexto histórico\, y\nmuestra que este pensamiento fue la doctrina más original de la contracultura\nespañola y de su proyecto de otra salida del franquismo\, y la que le da una unidad y\nuna coherencia. También muestra cómo este pensamiento hereda una singular\ntradición española tanto cultural (la cultura de las edades de “oro” y de “plata”) como\npolítica (el carácter prioritariamente anarquista del movimiento obrero español). Y\nmuestra cómo este pensamiento no solo se queda en la contracultura\, no solo tiene un\nvalor histórico sino que también nos siguió hablando después\, cómo nos habló con\ntanta fuerza en el 15M\, cómo nos sigue hablando hoy con fuerza en cierto feminismo\nlibertario. \nCon la presencia del autor (profesor en la Universidad de Granada)\, de Max Hidalgo Nácher (profesor en la UB) y Félix Pérez Hita.
URL:https://ateneuenciclopedicpopular.org/activitat/presentacion-del-libro-como-matar-a-la-muerte-agustin-garcia-calvo-y-la-filosofia-de-la-contracultura-de-jordi-carmona-hurtado-la-oveja-roja-2022/
LOCATION:Sala Margarita Xirgu
CATEGORIES:Presentacions de llibres
ATTACH;FMTTYPE=image/jpeg:https://ateneuenciclopedicpopular.org/wp-content/uploads/2022/05/27.5.como_.matar_.a.la_.muerte.jpeg
END:VEVENT
END:VCALENDAR