BEGIN:VCALENDAR
VERSION:2.0
PRODID:-//Ateneu Enciclopèdic Popular - ECPv6.0.13.1//NONSGML v1.0//EN
CALSCALE:GREGORIAN
METHOD:PUBLISH
X-WR-CALNAME:Ateneu Enciclopèdic Popular
X-ORIGINAL-URL:https://ateneuenciclopedicpopular.org
X-WR-CALDESC:Esdeveniments per Ateneu Enciclopèdic Popular
REFRESH-INTERVAL;VALUE=DURATION:PT1H
X-Robots-Tag:noindex
X-PUBLISHED-TTL:PT1H
BEGIN:VTIMEZONE
TZID:UTC
BEGIN:STANDARD
TZOFFSETFROM:+0000
TZOFFSETTO:+0000
TZNAME:UTC
DTSTART:20220101T000000
END:STANDARD
END:VTIMEZONE
BEGIN:VEVENT
DTSTART;TZID=UTC:20221111T190000
DTEND;TZID=UTC:20221111T210000
DTSTAMP:20260419T193534
CREATED:20221107T115428Z
LAST-MODIFIED:20221107T115428Z
UID:6796-1668193200-1668200400@ateneuenciclopedicpopular.org
SUMMARY:Negres tempestes. Canvi climàtic: causes\, efectes\, accions
DESCRIPTION:La CNT de Barcelona organitza una xerrada debat sobre aquest tema de cabdal prioritat i actualitat
URL:https://ateneuenciclopedicpopular.org/activitat/negres-tempestes-canvi-climatic-causes-efectes-accions/
LOCATION:Sala Margarita Xirgu
CATEGORIES:Conferència,Debat
ATTACH;FMTTYPE=image/jpeg:https://ateneuenciclopedicpopular.org/wp-content/uploads/2022/11/CNT-Barcelona-Negres-Tempestes.jpg
END:VEVENT
END:VCALENDAR