BEGIN:VCALENDAR
VERSION:2.0
PRODID:-//Ateneu Enciclopèdic Popular - ECPv6.0.13.1//NONSGML v1.0//EN
CALSCALE:GREGORIAN
METHOD:PUBLISH
X-ORIGINAL-URL:https://ateneuenciclopedicpopular.org
X-WR-CALDESC:Esdeveniments per Ateneu Enciclopèdic Popular
REFRESH-INTERVAL;VALUE=DURATION:PT1H
X-Robots-Tag:noindex
X-PUBLISHED-TTL:PT1H
BEGIN:VTIMEZONE
TZID:UTC
BEGIN:STANDARD
TZOFFSETFROM:+0000
TZOFFSETTO:+0000
TZNAME:UTC
DTSTART:20220101T000000
END:STANDARD
END:VTIMEZONE
BEGIN:VEVENT
DTSTART;VALUE=DATE:20221130
DTEND;VALUE=DATE:20221207
DTSTAMP:20260419T181036
CREATED:20221129T173339Z
LAST-MODIFIED:20221201T153057Z
UID:6860-1669766400-1670371199@ateneuenciclopedicpopular.org
SUMMARY:Exposició: Francesc Ferrer. L'Escola Moderna
DESCRIPTION:L’Exposició Francesc Ferrer. L’Escola Moderna\, comissariada per en Pere Solà\, és un clàssic de l’Ateneu Enciclopèdic Popular\, que volem compartir amb vosaltres amb ocasió de la celebració del XII Congrés de la CNT a Canovelles. \nEl 13 d’octubre de 1909 va ser afusellat Francesc Ferrer i Guàrdia al castell de Montjuïc\, acusat de ser l’instigador dels fets de la Setmana Tràgica de Barcelona\, ocorreguts al juliol del mateix any. L’Exposició mostra tot l’univers de Ferrer i l’Escola Moderna\, abans i després del seu afusellament. La feina pedagògica\, els antecedents\, les conseqüències de la seva mort\, la resposta internacional… \nUs hi esperem!!! \n  \n 
URL:https://ateneuenciclopedicpopular.org/activitat/exposicio-francesc-ferrer-lescola-moderna/
LOCATION:Sala Margarita Xirgu
CATEGORIES:Exposició
ATTACH;FMTTYPE=image/jpeg:https://ateneuenciclopedicpopular.org/wp-content/uploads/2022/11/FFG_CNT.jpg
END:VEVENT
BEGIN:VEVENT
DTSTART;TZID=UTC:20221205T183000
DTEND;TZID=UTC:20230114T210000
DTSTAMP:20260419T181036
CREATED:20221222T100554Z
LAST-MODIFIED:20230110T091506Z
UID:6923-1670265000-1673730000@ateneuenciclopedicpopular.org
SUMMARY:Las Kellys\, las que limpian. Expo de Fotomovimiento
DESCRIPTION:A principis de 2016 un grup de cambreres de pis (dones que netegen habitacions d’hotels) varen crear l’associació “Las Kellys”. Aquesta associació agrupa a totes aquestes dones per lluitar pels seus drets laborals. \nTal com diuen elles: \n“Les reivindicacions comprenen des del dret a la jubilació anticipada fins a la vinculació de la categoria dels hotels a la qualitat del treball que generen\, passant pel fi de les externalitzacions o l’augment de les inspeccions de treball”
URL:https://ateneuenciclopedicpopular.org/activitat/las-kellys-las-que-limpian-expo-de-fotomovimiento/
LOCATION:Recepció
CATEGORIES:Exposició
ATTACH;FMTTYPE=image/jpeg:https://ateneuenciclopedicpopular.org/wp-content/uploads/2022/12/WhatsApp-Image-2022-12-20-at-17.27.09.jpeg
END:VEVENT
END:VCALENDAR