BEGIN:VCALENDAR
VERSION:2.0
PRODID:-//Ateneu Enciclopèdic Popular - ECPv6.0.13.1//NONSGML v1.0//EN
CALSCALE:GREGORIAN
METHOD:PUBLISH
X-ORIGINAL-URL:https://ateneuenciclopedicpopular.org
X-WR-CALDESC:Esdeveniments per Ateneu Enciclopèdic Popular
REFRESH-INTERVAL;VALUE=DURATION:PT1H
X-Robots-Tag:noindex
X-PUBLISHED-TTL:PT1H
BEGIN:VTIMEZONE
TZID:UTC
BEGIN:STANDARD
TZOFFSETFROM:+0000
TZOFFSETTO:+0000
TZNAME:UTC
DTSTART:20220101T000000
END:STANDARD
END:VTIMEZONE
BEGIN:VEVENT
DTSTART;TZID=UTC:20221212T183000
DTEND;TZID=UTC:20230211T210000
DTSTAMP:20260419T133826
CREATED:20221210T094746Z
LAST-MODIFIED:20230131T093522Z
UID:6879-1670869800-1676149200@ateneuenciclopedicpopular.org
SUMMARY:Exposició de poesia i pintura PANDORA
DESCRIPTION:Pandora\, grup artístic de l’Ateneu d’Oficis del Poble Sec. PANDORA es un proyecto que nace bajo la necesidad de unir varias disciplinas artísticas\, nacidas dentro de las ideas de apoyo mutuo. \nEl resultado debe ser un compromiso entre nosotrxs\, para que la crítica social pueda liberarse en forma de versos\, música y acuarelas que llenen de luz las viejas estructuras grises del fascismo. El arte es el viaje no el destino. \nEl arte como creación de nuestras propias vidas\, como expresión de las heridas de un sistema cruel e insensible\, como revelación de todo lo que permanece oculto en una sociedad marcada por el individualismo exacerbado.
URL:https://ateneuenciclopedicpopular.org/activitat/exposicio-de-poesia-i-pintura-pandora/
LOCATION:Sala Margarita Xirgu
CATEGORIES:Exposició
ATTACH;FMTTYPE=image/jpeg:https://ateneuenciclopedicpopular.org/wp-content/uploads/2022/12/WhatsApp-Image-2022-12-08-at-13.17.06.jpeg
END:VEVENT
BEGIN:VEVENT
DTSTART;TZID=UTC:20230116T183000
DTEND;TZID=UTC:20230218T210000
DTSTAMP:20260419T133826
CREATED:20230121T115238Z
LAST-MODIFIED:20230121T115238Z
UID:6949-1673893800-1676754000@ateneuenciclopedicpopular.org
SUMMARY:Exposició fotogràfica: Migrar y resistir
DESCRIPTION:Migrar y resistir. Històries de l’últim èxode a Europa. \nProjecte de Fotomovimento \nFotografies de Mònica Parra Ràfols
URL:https://ateneuenciclopedicpopular.org/activitat/exposicio-fotografica-migrar-y-resistir/
LOCATION:Recepció
CATEGORIES:Exposició
ATTACH;FMTTYPE=image/jpeg:https://ateneuenciclopedicpopular.org/wp-content/uploads/2023/01/WhatsApp-Image-2023-01-17-at-17.36.29.jpeg
END:VEVENT
BEGIN:VEVENT
DTSTART;TZID=UTC:20230207T184500
DTEND;TZID=UTC:20230207T210000
DTSTAMP:20260419T133826
CREATED:20230122T193118Z
LAST-MODIFIED:20230123T142540Z
UID:6952-1675795500-1675803600@ateneuenciclopedicpopular.org
SUMMARY:Cine Fòrum a l'Ateneu: Nuevo orden
DESCRIPTION:Vint-i-vuitena Sessió del Cine Fòrum de l’Ateneu Enciclopèdic Popular. \nCine Fòrum… gaudir del cinema i fer servir el cinema per parlar\, reflexionar i debatre sobre aspectes de la vida i la societat actuals. \nNuevo orden és una pel·lícula dirigida per Michel Franco l’any 2020 \nEl 2021 l’esquerda entre classes socials a Mèxic és immensa. A la capital\, una boda de l’alta societat\, la protagonista de la qual serà la visió de la pel·lícula\, es celebra al mateix temps que manifestacions massives de les classes populars arreu del pais. L’acte l’interrompen homes armats que prenen els participants com a hostatges. \nL’èxercit i el govern utilitzen el desordre provocat pels disturis per a instaurar una dictadura militar que segresta i saqueja la classe alta responsabilitzant i reprimint la classe treballadora\, creant desgavell per a mantenir la dictadura. \n. \n. \n  \n  \n 
URL:https://ateneuenciclopedicpopular.org/activitat/cine-forum-a-lateneu-nuevo-orden/
LOCATION:Sala Margarita Xirgu
CATEGORIES:Cine Club,Cinefòrum
ATTACH;FMTTYPE=image/jpeg:https://ateneuenciclopedicpopular.org/wp-content/uploads/2023/01/IMG-20230122-WA0003.jpg
END:VEVENT
END:VCALENDAR