BEGIN:VCALENDAR
VERSION:2.0
PRODID:-//Ateneu Enciclopèdic Popular - ECPv6.0.13.1//NONSGML v1.0//EN
CALSCALE:GREGORIAN
METHOD:PUBLISH
X-WR-CALNAME:Ateneu Enciclopèdic Popular
X-ORIGINAL-URL:https://ateneuenciclopedicpopular.org
X-WR-CALDESC:Esdeveniments per Ateneu Enciclopèdic Popular
REFRESH-INTERVAL;VALUE=DURATION:PT1H
X-Robots-Tag:noindex
X-PUBLISHED-TTL:PT1H
BEGIN:VTIMEZONE
TZID:UTC
BEGIN:STANDARD
TZOFFSETFROM:+0000
TZOFFSETTO:+0000
TZNAME:UTC
DTSTART:20230101T000000
END:STANDARD
END:VTIMEZONE
BEGIN:VEVENT
DTSTART;TZID=UTC:20230221T184500
DTEND;TZID=UTC:20230221T210000
DTSTAMP:20260419T133753
CREATED:20230123T141008Z
LAST-MODIFIED:20230123T141008Z
UID:6959-1677005100-1677013200@ateneuenciclopedicpopular.org
SUMMARY:Cine Fòrum a l'Ateneu: Cuando el destino nos alcance
DESCRIPTION:Vint-i-novena Sessió del Cine Fòrum de l’Ateneu Enciclopèdic Popular. \nCine Fòrum… gaudir del cinema i fer servir el cinema per parlar\, reflexionar i debatre sobre aspectes de la vida i la societat actuals. \nCuando el destino nos alcance és una pel·lícula dirigida per Richard Fleischer l’any 1973 \nEls quaranta milions d’habitants de Nova York l’any 2022\, viuen en condicions miserables. No hi ha producció\, no hi ha aliments… Una empresa treu un aliment sintètic al mercat\, el soylent green\, que sembla que podria alleujar la situació. Però Thorn\, un polícia\, i Roth\, un supervivent d’una altra època\, sospiten que darrera del nou aliment hi ha quelcom d’inquietant. \n 
URL:https://ateneuenciclopedicpopular.org/activitat/cine-forum-a-lateneu-cuando-el-destino-nos-alcance/
LOCATION:Sala Margarita Xirgu
CATEGORIES:Cine Club,Cinefòrum
ATTACH;FMTTYPE=image/jpeg:https://ateneuenciclopedicpopular.org/wp-content/uploads/2023/01/Cuando-el-destino.jpg
END:VEVENT
END:VCALENDAR