BEGIN:VCALENDAR
VERSION:2.0
PRODID:-//Ateneu Enciclopèdic Popular - ECPv6.0.13.1//NONSGML v1.0//EN
CALSCALE:GREGORIAN
METHOD:PUBLISH
X-WR-CALNAME:Ateneu Enciclopèdic Popular
X-ORIGINAL-URL:https://ateneuenciclopedicpopular.org
X-WR-CALDESC:Esdeveniments per Ateneu Enciclopèdic Popular
REFRESH-INTERVAL;VALUE=DURATION:PT1H
X-Robots-Tag:noindex
X-PUBLISHED-TTL:PT1H
BEGIN:VTIMEZONE
TZID:UTC
BEGIN:STANDARD
TZOFFSETFROM:+0000
TZOFFSETTO:+0000
TZNAME:UTC
DTSTART:20230101T000000
END:STANDARD
END:VTIMEZONE
BEGIN:VEVENT
DTSTART;TZID=UTC:20230225T120000
DTEND;TZID=UTC:20230225T120000
DTSTAMP:20260419T133839
CREATED:20230208T101620Z
LAST-MODIFIED:20230213T081109Z
UID:6981-1677326400-1677326400@ateneuenciclopedicpopular.org
SUMMARY:32 aniversari Contrabanda FM
DESCRIPTION:Celebrem els 32 anys d’emissora📻 el proper dissabte 25 de febrer amb el següent menú a partir de les 12h: \nRàdio en viu amb convidades especials🎙 \nEspectacle familiar: màgia i humor amb Uri Spaghetti🤹‍♂️🎭 \nConcerts amb Marta Delas\, Maraveli i Cuerva🎤🎸 \nDinar 🍽 per l’autogestió de Contrabanda FM \nAmb la col.laboració de La Capsa de Pandora🎚 \nA l’Ateneu Enciclopèdic Popular. Carrer Reina Amàlia 38\, Raval🏛\nMés info a www.contrabanda.org
URL:https://ateneuenciclopedicpopular.org/activitat/32-aniversari-contrabanda-fm/
LOCATION:Sala Margarita Xirgu
CATEGORIES:Aniversari
ATTACH;FMTTYPE=image/jpeg:https://ateneuenciclopedicpopular.org/wp-content/uploads/2023/02/WhatsApp-Image-2023-02-13-at-07.48.21.jpeg
END:VEVENT
END:VCALENDAR