BEGIN:VCALENDAR
VERSION:2.0
PRODID:-//Ateneu Enciclopèdic Popular - ECPv6.0.13.1//NONSGML v1.0//EN
CALSCALE:GREGORIAN
METHOD:PUBLISH
X-ORIGINAL-URL:https://ateneuenciclopedicpopular.org
X-WR-CALDESC:Esdeveniments per Ateneu Enciclopèdic Popular
REFRESH-INTERVAL;VALUE=DURATION:PT1H
X-Robots-Tag:noindex
X-PUBLISHED-TTL:PT1H
BEGIN:VTIMEZONE
TZID:UTC
BEGIN:STANDARD
TZOFFSETFROM:+0000
TZOFFSETTO:+0000
TZNAME:UTC
DTSTART:20230101T000000
END:STANDARD
END:VTIMEZONE
BEGIN:VEVENT
DTSTART;TZID=UTC:20230403T183000
DTEND;TZID=UTC:20230506T210000
DTSTAMP:20260419T150326
CREATED:20230417T091643Z
LAST-MODIFIED:20230417T091643Z
UID:7122-1680546600-1683406800@ateneuenciclopedicpopular.org
SUMMARY:Exposició: L'any de la Canadenca. De la vaga al locaut.
DESCRIPTION:El 10 de març d’enguany ha fet 100 anys de l’assassinat de Salvador Seguí “El Noi del Sucre” i Francesc Comas “Peronas“\, la vaga de la Canadenca va ser un punt clau en la\, malauradament\, curta trajectòria militant i activista d’aquests dos grans personatges del moviment llibertari i anarcosindicalista espanyol\, alhora que s’ha convertit en un dels fets històrics de més transcendència social del món obrer\, ja que tot i no “guanyar”\, es van aconseguir importants reivindicacions\, com va ser la consecució de la jornada de vuit hores a tot el territori espanyol.\nA través d’aquesta exposició\, volem acostar-vos a la realitat política i social que va forjar als i les militants llibertàries d’aquells temps\, d’entre les quals van destacar aquests dos gegants.
URL:https://ateneuenciclopedicpopular.org/activitat/exposicio-lany-de-la-canadenca-de-la-vaga-al-locaut/
LOCATION:Sala Margarita Xirgu
CATEGORIES:Exposició
ATTACH;FMTTYPE=image/jpeg:https://ateneuenciclopedicpopular.org/wp-content/uploads/2023/04/canadenca_cartell-scaled.jpg
END:VEVENT
BEGIN:VEVENT
DTSTART;TZID=UTC:20230427T183000
DTEND;TZID=UTC:20230427T183000
DTSTAMP:20260419T150326
CREATED:20230414T100947Z
LAST-MODIFIED:20230414T102853Z
UID:7110-1682620200-1682620200@ateneuenciclopedicpopular.org
SUMMARY:Debats sobre la Pandèmia social: “Salut\, corrupció\, manipulació i desorientació”
DESCRIPTION:18:30h Introducció Debat Social BCN\n18:45h Presentació iniciativa “Sobremortalitat Trenca el Silenci”\n19h Ponències:\n-“Crisi capitalista\, pandèmia i control social“ amb Ángeles Maestro\n-“Veritats mitològiques\, veritats científiques i obediència social a Catalunya” amb Gerard Horta \n💥Us hi esperem!!
URL:https://ateneuenciclopedicpopular.org/activitat/debats-sobre-la-pandemia-social-salut-corrupcio-manipulacio-i-desorientacio/
LOCATION:Sala Margarita Xirgu
CATEGORIES:Debat
ATTACH;FMTTYPE=image/jpeg:https://ateneuenciclopedicpopular.org/wp-content/uploads/2023/04/debatsocial27.04.23.jpg
END:VEVENT
END:VCALENDAR