BEGIN:VCALENDAR
VERSION:2.0
PRODID:-//Ateneu Enciclopèdic Popular - ECPv6.0.13.1//NONSGML v1.0//EN
CALSCALE:GREGORIAN
METHOD:PUBLISH
X-WR-CALNAME:Ateneu Enciclopèdic Popular
X-ORIGINAL-URL:https://ateneuenciclopedicpopular.org
X-WR-CALDESC:Esdeveniments per Ateneu Enciclopèdic Popular
REFRESH-INTERVAL;VALUE=DURATION:PT1H
X-Robots-Tag:noindex
X-PUBLISHED-TTL:PT1H
BEGIN:VTIMEZONE
TZID:UTC
BEGIN:STANDARD
TZOFFSETFROM:+0000
TZOFFSETTO:+0000
TZNAME:UTC
DTSTART:20260101T000000
END:STANDARD
END:VTIMEZONE
BEGIN:VEVENT
DTSTART;TZID=UTC:20260424T180000
DTEND;TZID=UTC:20260424T180000
DTSTAMP:20260424T005334
CREATED:20260421T101359Z
LAST-MODIFIED:20260421T101359Z
UID:8308-1777053600-1777053600@ateneuenciclopedicpopular.org
SUMMARY:Presentació de les primeres jornades de POESIA ANARQUISTA de l'AEP
DESCRIPTION:A les 18h es farà la presentació de les jornades \nSeguit\,  a les 18:15h de la presentació del poemari de Fernando Barbero \n“La muerte siempre nos deja con algo por hacer” \nI tancarem a les 19:30h amb el cabaret poètic “ELS IMMORTALS” i un pica-pica
URL:https://ateneuenciclopedicpopular.org/activitat/presentacio-de-les-primeres-jornades-de-poesia-anarquista-de-laep/
LOCATION:Sala Margarita Xirgu
CATEGORIES:Presentació
ATTACH;FMTTYPE=image/jpeg:https://ateneuenciclopedicpopular.org/wp-content/uploads/2026/04/DIV24_jornades_Poe.jpg
END:VEVENT
BEGIN:VEVENT
DTSTART;TZID=UTC:20260424T180000
DTEND;TZID=UTC:20260426T150000
DTSTAMP:20260424T005334
CREATED:20260415T135517Z
LAST-MODIFIED:20260415T140052Z
UID:8296-1777053600-1777215600@ateneuenciclopedicpopular.org
SUMMARY:Primeres Jornades Poètiques Anarquistes de l'Ateneu Enciclopèdic Popular
DESCRIPTION:Guardeu-vos els dies 24\, 25 i 26 d’abril per passar-los juntes\n· ANARQUIA ·\n· Micros oberts · Tallers ·\n· Exposició · Merkadillo poètic · Anarquistes ·\n· Cabaret poètic · Taula rodona · Xerrada-debat · Poesia visual ·\n· Veus irreverents · Anarquisme · Dissabte poètic ·\n· Poetes immortals · Poetes d’avui i ara ·\n· Mostra de vídeos poètics ·\n· AMOR ·\n \n 
URL:https://ateneuenciclopedicpopular.org/activitat/primeres-jornades-poetiques-anarquistes-de-lateneu-enciclopedic-popular/
LOCATION:Sala Margarita Xirgu
ATTACH;FMTTYPE=image/jpeg:https://ateneuenciclopedicpopular.org/wp-content/uploads/2026/04/Proposta_cartell_V11.jpeg
END:VEVENT
BEGIN:VEVENT
DTSTART;TZID=UTC:20260424T183000
DTEND;TZID=UTC:20260424T183000
DTSTAMP:20260424T005334
CREATED:20260421T095903Z
LAST-MODIFIED:20260421T101716Z
UID:8303-1777055400-1777055400@ateneuenciclopedicpopular.org
SUMMARY:Presentació del poemari LA MUERTE SIEMPRE NOS DEJA CON ALGO POR HACER amb l'autor Fernando Barbero
DESCRIPTION:La muerte siempre nos deja con algo por hacer es un poemario que recorre la geografía vital de Fernando Barbero Carrasco a través de cuatro ejes vertebradores: la memoria personal y política\, el viaje como descubrimiento\, la montaña como espacio de libertad\, y el compromiso social. La obra transita entre lo autobiográfico y lo colectivo\, entre la intimidad del recuerdo y la denuncia social\, empleando un lenguaje directo pero cargado de imágenes potentes. \nEl autor construye un autorretrato generacional de quienes vivieron el franquismo\, participaron en movimientos contraculturales y mantienen viva una mirada crítica sobre el presente. \nEl poemario presenta una arquitectura tripartita que funciona como viaje concéntrico: desde el interior del yo hacia el exterior del mundo\, desde la introspección hacia la acción social. Esta disposición no es casual sino deliberadamente construida para generar un efecto de expansión progresiva. \nLa voz de Fernando Barbero es reconocible y coherente en todos y cada uno de los poemas. No hay imposturas ni cambios de registro artificiales. El autor habla desde su experiencia obrera\, su militancia libertaria\, su trabajo en prisiones\, su amor por la montaña y el viaje\, sin traicionar nunca esa autenticidad. \n\nLa presentació començarà a les 18:15h\nEL AUTOR: \nHa escrito y publicado la novela El sueño de Homero (Ed. Personal\, 2005)\, el libro de viajes Diario de un caminante boquiabierto (Ed. Personal\, 2007)\, la recopilación de relatos El vértigo de su mirada (Bubock Editorial\, 2012)\, el ensayo histórico Anarquistas vengadores (Queimada Ediciones\, 2013)\, la selección de relatos históricos De guerras y revoluciones (Queimada Ediciones\, 2016)\, el manual Breve y somera historia del anarquismo. Precedentes\, impulso anárquico e historia del pensamiento y acción ácratas (Queimada Ediciones\, 2018) y los poemarios La madalena de Bukowski (Amargord\, 2020)\, Bosques\, montañas y gente (Océano Atlántico\, 2021) y El viento\, los vientos\, Poesía para entenderlos (Océano Atlántico\, 2024). \nDiferentes recopilaciones contienen algún poema suyo\, entre otras: Campamento dignidad. Poemas para la conciencia (Baladre\, 2013); Contra. Poesía ante la represión (Coordinadora Anti-Represión de Murcia\, 2016); Voces del Extremo 2012-2016 (Amargord\, 2017); Conmovidas. Abrazos para la paz (Luso-española de ediciones\, 2019); Voces del Extremo. Poesía & Harragas (Amargod\, 2019); A sangue dos ríos (Cámara Municipal do Fundao / Casa da Poesía Eugénio de Andrade\, 2019) y Absenta Poetas (publicación de poesía de Cantabria)…\, etc. \nActualmente imparte como voluntario de la Ong AMPARA\, sendos talleres de escritura creativa en las cárceles de hombres —Madrid 2— y de mujeres —Madrid 1— ambas de Alcalá-Meco. Colabora en Onda Cero Alcalá y publica sobre la historia del anarquismo una columna en la revista ácrata de Buenos Aires —Argentina— La Chispa; otra en la publicación Agracia del Ateneo Libertario de Gracia y otra en Altajo —CNT de Aranjuez—. \nPertenece a la Asociación Paréntesis\, que tiene como objetivo arrancar cárcel a personas privadas de libertad propiciando salidas programadas y sobre todo publicando libros de internas e internos. \nFuente: https://edicionesrilke.com/la-muerte-siempre-nos-deja-con-algo-por-hacer-fernando-barbero-carrasco/ \n 
URL:https://ateneuenciclopedicpopular.org/activitat/presentacio-del-poemari-la-muerte-siempre-nos-deja-con-algo-por-hacer-amb-lautor-fernando-barbero/
LOCATION:Sala Margarita Xirgu
CATEGORIES:Presentacions de llibres
ATTACH;FMTTYPE=image/jpeg:https://ateneuenciclopedicpopular.org/wp-content/uploads/2026/04/Div24_FBarbero.jpg
END:VEVENT
BEGIN:VEVENT
DTSTART;TZID=UTC:20260424T193000
DTEND;TZID=UTC:20260424T193000
DTSTAMP:20260424T005334
CREATED:20260421T102516Z
LAST-MODIFIED:20260422T144648Z
UID:8313-1777059000-1777059000@ateneuenciclopedicpopular.org
SUMMARY:Cabaret poètic ELS IMMORTALS
DESCRIPTION:19:30 – Cabaret poètic “ELS IMMORTALS” (en homenatge al 90è aniversari de la Revolució Social) \nLECTURA POÈTICA DE: \n\n\n\n\nFelip Cortiella · La llibertad · Als Joves // Del diario El Progreso · Fue a la guerra el hijo mío… // Helios Gómez · Belsen // Sara Berenguer · Luz! · Ser poeta // Joan Salvat Papasseit · Nocturn per acordió Miguel Hernández · Vientos del pueblo me llevan.. // Garcia Lorca · Romance de la Guardia Civil Española // León Felipe · SÉ todos los cuentos // Lucia Sanchez Saornil · Romance de la vida pasión y muerte de la lavandera de Guadalmedina // Xavier Cañadas · Libertad o muerte // José Agustín Goytisolo · Más que una palabra\, la libertad… // Ursula K Le Guin · Vacas a viva voz // Adolfo Castaños · Los adoquines de la playa · El poeta es siempre un disidente // Lizano · El olfato poético · Mamíferos Amparo Poch · El niño asesinado · ¿La Escuela? // Pere Sousa · El Soneto // Xavier Sabater · Cristo y tres tiros en la espalda · Crisis \n\n\n\n\nA càrrec dels rapsodes: Rosa Grau · Elisenda Pardo · Imanol Toraletxipi · Ramon Pereira · Josep Roca Oriol Estripaboires · María Ángeles Igartua · Mirka · Mierk · Fernando Ramírez · Anna Segura · Mireia Torralba · Mac Márquez · Kurtis · Cronia · Andreu Aisa \n\n\n\n\n\nI amb la intervenció musical puntual del mestre Bernardo Fantini a la viola \n\n\n\nHi haurà Pica-Pica en acabar
URL:https://ateneuenciclopedicpopular.org/activitat/cabaret-poetic-els-immortals/
LOCATION:Sala Margarita Xirgu
CATEGORIES:Cabaret poètic-musical
ATTACH;FMTTYPE=image/jpeg:https://ateneuenciclopedicpopular.org/wp-content/uploads/2026/04/DIV24_Immortals-1.jpg
END:VEVENT
END:VCALENDAR