BEGIN:VCALENDAR
VERSION:2.0
PRODID:-//Ateneu Enciclopèdic Popular - ECPv6.0.13.1//NONSGML v1.0//EN
CALSCALE:GREGORIAN
METHOD:PUBLISH
X-WR-CALNAME:Ateneu Enciclopèdic Popular
X-ORIGINAL-URL:https://ateneuenciclopedicpopular.org
X-WR-CALDESC:Esdeveniments per Ateneu Enciclopèdic Popular
REFRESH-INTERVAL;VALUE=DURATION:PT1H
X-Robots-Tag:noindex
X-PUBLISHED-TTL:PT1H
BEGIN:VTIMEZONE
TZID:UTC
BEGIN:STANDARD
TZOFFSETFROM:+0000
TZOFFSETTO:+0000
TZNAME:UTC
DTSTART:20260101T000000
END:STANDARD
END:VTIMEZONE
BEGIN:VEVENT
DTSTART;TZID=UTC:20260425T193000
DTEND;TZID=UTC:20260425T193000
DTSTAMP:20260421T190339
CREATED:20260421T114200Z
LAST-MODIFIED:20260421T130419Z
UID:8320-1777145400-1777145400@ateneuenciclopedicpopular.org
SUMMARY:POETES D'AVUI I ARA en el 4t dissabte poètic
DESCRIPTION:Dins les 1rs Jornades poètiques anarquistes de l’AEP \nEl 4t dissabte poètic amb “POETES D’AVUI I ARA”\n\n\nPARTICIPEN:\n\n\nPep Castells · Elisenda Pardo\n\nAndreu Aisa · Ferran Aisa \nCurtis i Kronia · Jordi Costa \nJosé Icaria · Oriol Estripaboires \nPrudenci Batalla · Joan Vinuesa amb Miquel Jordà \nJosé Roca · Mag Márquez \n\nMireia Torralba · Ramón Pereira\n\n 
URL:https://ateneuenciclopedicpopular.org/activitat/poetes-davui-i-ara-en-el-4t-dissabte-poetic/
LOCATION:Sala Margarita Xirgu
CATEGORIES:Cabaret poètic-musical
ATTACH;FMTTYPE=image/jpeg:https://ateneuenciclopedicpopular.org/wp-content/uploads/2026/04/Diss25_poetes_avui_ara-2.jpg
END:VEVENT
END:VCALENDAR