BEGIN:VCALENDAR
VERSION:2.0
PRODID:-//Ateneu Enciclopèdic Popular - ECPv6.0.13.1//NONSGML v1.0//EN
CALSCALE:GREGORIAN
METHOD:PUBLISH
X-WR-CALNAME:Ateneu Enciclopèdic Popular
X-ORIGINAL-URL:https://ateneuenciclopedicpopular.org
X-WR-CALDESC:Esdeveniments per Ateneu Enciclopèdic Popular
REFRESH-INTERVAL;VALUE=DURATION:PT1H
X-Robots-Tag:noindex
X-PUBLISHED-TTL:PT1H
BEGIN:VTIMEZONE
TZID:UTC
BEGIN:STANDARD
TZOFFSETFROM:+0000
TZOFFSETTO:+0000
TZNAME:UTC
DTSTART:20220101T000000
END:STANDARD
END:VTIMEZONE
BEGIN:VEVENT
DTSTART;TZID=UTC:20220303T184500
DTEND;TZID=UTC:20220303T210000
DTSTAMP:20260420T153927
CREATED:20220224T124150Z
LAST-MODIFIED:20220224T124150Z
UID:5863-1646333100-1646341200@ateneuenciclopedicpopular.org
SUMMARY:Passi del documental Ibrahim\, un destí per definir
DESCRIPTION:IBRAHIM\, UN DESTÏ PER DEFINIR\, és un documental dirigit\, el 2019\, per Lina Al Abed \nA la xerrada-debat posterior al passi del documental hi comptarem amb la presència de la directora \nProducció: Palestina\, Líban. Durada: 75 min. \nVersió original en àrab subtitulada en català \nSinopsi \nEn aparença Ibrahim Al Abed era un pare de família palestí ordinari amb una feina ordinària resident a Damasc. Però Ibrahim també era Rashid\, membre secret del grup Abu Nidal\, també conegut com el Consell Revolucionari\, una facció militant palestina. El 1987 va desaparèixer\, abandonant la seva dona i cinc fills\, un dels quals era Lina Al Abed\, directora d’aquest documental. \nLina Al Abed \nCineasta palestina\, es va graduar a la Facultat de Periodisme de la Universitat de Damasc. El seu projecte de graduació va consistir en un documental sobre el poeta i escriptor sirià Mohamed Al-Maghout\, emès al canal Al-jazeera el 2007. El seu primer curt documental “Noor Alhuda” va ser produït pel canal Al-Arabiya i va rebre el premi del jurat DOX-BOX com a millor Documental sirià el 2010. Va produir i dirigir el seu llargmetratge documental “Damasc\, el meu primer petó”\, que es va estrenar a Doc Leipzig i es va emetre a Arte el 2013. “Un somni de monstres poderosos”\, el seu segon curtmetratge\, va ser guardonat com a millor documental al Arab Short Festival de Beirut 2014.
URL:https://ateneuenciclopedicpopular.org/activitat/passi-del-documental-ibrahim-un-desti-per-definir/
LOCATION:Sala Margarita Xirgu
CATEGORIES:Debat,Documental,Presentació
ATTACH;FMTTYPE=image/jpeg:https://ateneuenciclopedicpopular.org/wp-content/uploads/2022/02/Palestina.jpg
END:VEVENT
BEGIN:VEVENT
DTSTART;TZID=UTC:20220304T190000
DTEND;TZID=UTC:20220304T210000
DTSTAMP:20260420T153927
CREATED:20220225T113417Z
LAST-MODIFIED:20220225T113417Z
UID:5870-1646420400-1646427600@ateneuenciclopedicpopular.org
SUMMARY:Presentació facsímil del número 11 de l'històrica revista Mujeres Libres
DESCRIPTION:Dins de la tasca de la Fundació Anselmo Lorenzo en el rescat i difusió de la cultura llibertària\, intentem abordar materials i documents necessaris i amb un impacte a l’actualitat. \nPer això\, des de fa uns anys estem rescatant la història doblement oblidada de la Federació de Mujeres Libres\, entenent que el feminisme s’ha convertir en un dels principals fronts de lluita pel canvi social. \nJornades\, tasca d’arxiu\, una magnífica exposició itinerant i el proposar-nos reeditar el conjunt de la revista “Mujeres Libres” en versió facsímil\, atenent al valor històric i artístic de la publicació anarcofeminista original. \nDesprés de l’èxit de la publicació del número 1\, ara llencem el número 11 i us el presentem \nEn la presentació\, organitzada per la Fundación Anselmo Lorenzo i la CNT Catalunya- Balears\, intervindran representants de l’Ateneu Enciclopèdic\, de l’actual Federació de Mujeres Libres i de la Fundació Anselmo Lorenzo. \nPer què el número 11?\nLa revista\, que comença a editar-se el 1936 i acaba la 1a època el 1939\, pateix nombrosos canvis motivats pel cop feixista\, el triomf revolucionari i els tres anys de guerra… una ràpida evolució. \nCreiem que el número 11\, en plena guerra\, aportarà una idea clara de la importància que va assolir Mujeres Libres en un època en que el pes de la religió catòlica y la tradició patriarcal fa més significativa la increíble força d’aquesta organització específica de dones. \nUna organització que arribà a tenir 30.000 dondes afiliades i implantació a tot el territori no sotmés pels feixistes. \n58 pàágines que recullen la creació de la Federació Nacional\, les activitats i tallers de capacitació professional\, les publicacions editades\, un míting fet a València per Federica Montseny\, Lucía Sánchez Saornil y María Jiménez\, anàlisis sobre la situació de la dona\, cròniques de guerra i articles divulgatius. Emma Goldman també col·labora amb una peça que mostra l’estreta relació de l’anarcofeminisme internacional amb la lluita antifeixista de l’Estat espanyol. \nIngent material d’un curòs disseny i il·lustracions de l’artista Baltasar Lobo que mostra la potència que va assolir l’organització i us sorprendrà. \nPublicarem la revista completa tan aviat com sigui possible. Un treball enorme per a la Fundació però que entenem vindrà a emplenar un buit historiogràfic injustificable.
URL:https://ateneuenciclopedicpopular.org/activitat/presentacio-facsimil-del-numero-11-de-lhistorica-revista-mujeres-libres/
LOCATION:Sala Margarita Xirgu
CATEGORIES:Presentació,Presentacions de llibres
ATTACH;FMTTYPE=image/jpeg:https://ateneuenciclopedicpopular.org/wp-content/uploads/2022/02/MMLL-Revista-11.jpg
END:VEVENT
END:VCALENDAR