BEGIN:VCALENDAR
VERSION:2.0
PRODID:-//Ateneu Enciclopèdic Popular - ECPv6.0.13.1//NONSGML v1.0//EN
CALSCALE:GREGORIAN
METHOD:PUBLISH
X-WR-CALNAME:Ateneu Enciclopèdic Popular
X-ORIGINAL-URL:https://ateneuenciclopedicpopular.org
X-WR-CALDESC:Esdeveniments per Ateneu Enciclopèdic Popular
REFRESH-INTERVAL;VALUE=DURATION:PT1H
X-Robots-Tag:noindex
X-PUBLISHED-TTL:PT1H
BEGIN:VTIMEZONE
TZID:UTC
BEGIN:STANDARD
TZOFFSETFROM:+0000
TZOFFSETTO:+0000
TZNAME:UTC
DTSTART:20230101T000000
END:STANDARD
END:VTIMEZONE
BEGIN:VEVENT
DTSTART;TZID=UTC:20230113T190000
DTEND;TZID=UTC:20230113T190000
DTSTAMP:20260419T224549
CREATED:20230108T113521Z
LAST-MODIFIED:20230108T113521Z
UID:6940-1673636400-1673636400@ateneuenciclopedicpopular.org
SUMMARY:Presentació pública de l'Associació Territoris d'exili
DESCRIPTION:«Territoris d’exili» és el nom que s’ha donat a l’associació que aquí es dirigeix a tu. Fundada a Barcelona el 2020 amb la finalitat de socialitzar una herència immobiliària fruit d’un d’aquells nombrosos exilis que marquen la història de l’anarquisme. \nLa idea és fer d’aquest pis un bé comú a disposició del moviment anarquista internacional com a lloc d’estades militants a Barcelona. Com a segon motiu\, és fer-ne un lloc de reflexió\, recerca\, conservació i difusió d’una memòria viva de les lluites per l’emancipació social\, dotat en particular d’una biblioteca i d’alguns arxius rellevants del tema dels exilis; els intercanvis que van ocasionar van donar i donen lloc arreu del món a la circulació i floriment de pensaments i accions anarquistes. \nEl projecte aspira a generar reunions d’interès internacional susceptibles de facilitar\, entre d’altres coses\, l’establiment i la circulació d’estudis com\, per exemple\, compilacions bibliogràfiques\, fent possible d’equipar projectes editorials i molts d’altres\, tots capaços de donar cos material\, estructurar\, solidificar a través de fronteres les solidaritats entre lluites emancipatòries.
URL:https://ateneuenciclopedicpopular.org/activitat/presentacio-publica-de-lassociacio-territoris-dexili/
LOCATION:Sala Margarita Xirgu
CATEGORIES:Presentació
ATTACH;FMTTYPE=image/jpeg:https://ateneuenciclopedicpopular.org/wp-content/uploads/2023/01/13.01.2023.-TdE_AEP.jpg
ORGANIZER;CN="Associacio%20Territoris%20d%27Exili":MAILTO:territorisexili@sindominio.net
END:VEVENT
BEGIN:VEVENT
DTSTART;TZID=UTC:20230114T123000
DTEND;TZID=UTC:20230114T150000
DTSTAMP:20260419T224549
CREATED:20230104T174047Z
LAST-MODIFIED:20230104T174047Z
UID:6935-1673699400-1673708400@ateneuenciclopedicpopular.org
SUMMARY:Presentació llibre-vermut: Amor y Libertad (Poemario)
DESCRIPTION:Presentació del llibre de poemes de Thaï que porta per títol Amor y Libertad (Poemario) \nAmb un vermut i a l’hora del vermut es farà la presentació\, debat i lectura de poemes\, amb la participació de Tata Thaï i El Lokal
URL:https://ateneuenciclopedicpopular.org/activitat/presentacio-llibre-vermut-amor-y-libertad-poemario/
LOCATION:Sala Margarita Xirgu
CATEGORIES:Poesia,Presentació,vermut amenitzat
ATTACH;FMTTYPE=image/jpeg:https://ateneuenciclopedicpopular.org/wp-content/uploads/2023/01/Poemes-Thai.jpg
ORGANIZER;CN="El%20Lokal":MAILTO:ellokal@pangea.org
END:VEVENT
END:VCALENDAR