BEGIN:VCALENDAR
VERSION:2.0
PRODID:-//Ateneu Enciclopèdic Popular - ECPv6.0.13.1//NONSGML v1.0//EN
CALSCALE:GREGORIAN
METHOD:PUBLISH
X-WR-CALNAME:Ateneu Enciclopèdic Popular
X-ORIGINAL-URL:https://ateneuenciclopedicpopular.org
X-WR-CALDESC:Esdeveniments per Ateneu Enciclopèdic Popular
REFRESH-INTERVAL;VALUE=DURATION:PT1H
X-Robots-Tag:noindex
X-PUBLISHED-TTL:PT1H
BEGIN:VTIMEZONE
TZID:UTC
BEGIN:STANDARD
TZOFFSETFROM:+0000
TZOFFSETTO:+0000
TZNAME:UTC
DTSTART:20220101T000000
END:STANDARD
END:VTIMEZONE
BEGIN:VEVENT
DTSTART;TZID=UTC:20220214T190000
DTEND;TZID=UTC:20220214T210000
DTSTAMP:20260420T001703
CREATED:20220205T125344Z
LAST-MODIFIED:20220205T125344Z
UID:5751-1644865200-1644872400@ateneuenciclopedicpopular.org
SUMMARY:1a\, sesión del "Taller de introducción al anarquismo"
DESCRIPTION:Primera sesión:\nLa sociedad contra el estado. ¿Cómo construir sociedades igualitarias?\n[No hace falta inscripción. Para tener acceso a la bibliografía puedes mandar un correo a joueling@gmail.com ]
URL:https://ateneuenciclopedicpopular.org/activitat/1a-sesion-del-taller-de-introduccion-al-anarquismo/
LOCATION:Aula Llib. Rodenas
CATEGORIES:Taller - Curs
ATTACH;FMTTYPE=application/pdf:https://ateneuenciclopedicpopular.org/wp-content/uploads/2022/02/Session-1.-Taller-Intro-Anarquista.pdf
END:VEVENT
END:VCALENDAR