BEGIN:VCALENDAR
VERSION:2.0
PRODID:-//Ateneu Enciclopèdic Popular - ECPv6.0.13.1//NONSGML v1.0//EN
CALSCALE:GREGORIAN
METHOD:PUBLISH
X-ORIGINAL-URL:https://ateneuenciclopedicpopular.org
X-WR-CALDESC:Esdeveniments per Ateneu Enciclopèdic Popular
REFRESH-INTERVAL;VALUE=DURATION:PT1H
X-Robots-Tag:noindex
X-PUBLISHED-TTL:PT1H
BEGIN:VTIMEZONE
TZID:UTC
BEGIN:STANDARD
TZOFFSETFROM:+0000
TZOFFSETTO:+0000
TZNAME:UTC
DTSTART:20240101T000000
END:STANDARD
END:VTIMEZONE
BEGIN:VEVENT
DTSTART;TZID=UTC:20240702T190000
DTEND;TZID=UTC:20240702T210000
DTSTAMP:20260420T184349
CREATED:20240624T175221Z
LAST-MODIFIED:20240626T155308Z
UID:7659-1719946800-1719954000@ateneuenciclopedicpopular.org
SUMMARY:Cine Fòrum a l'Ateneu: Yo\, Daniel Blake
DESCRIPTION:Una proposta de les companyes del Grup d’Història Social Contemporània de l’AEP \nEns conviden al visionat de la pel·lícula i a un debat posterior sobre temes d’actualitat\, d’interès social\, d’interés general…. \nYO\, DANIEL BLAKE \n\nYo\, Daniel Blake és un film del 2016\, dirigit per Ken Loach \nPer primera vegada a la vida\, víctima de problemes de cor\, Daniel Blake\, fuster anglès de 59 anys\, es veu obligat a acudir als ajuts socials. Malgrat això\, tot i que el seu metge li ha prohibit treballar\, l’administració li obliga a cercar una feina si no vol rebre una sanció. En el transcurs de les seves cites all “job center”\, Daniel es creua amb Rachel\, una mare soltera de dues criatures que va haver d’acceptar un allotjament a 450km de la seva ciutat per a evitar una llar d’acollida. Presoners del garbuix d’aberracions actuals de Gran Bretanya\, Daniel i Rachel intentaran ajudar-se mutuament. \nUna pel·lícula per reflexionar sobre les tecnologies de control i servidors que les administracions públiques utilitzen. Una forma de discriminació que va dirigida a marginar grups amplis de població i a robar temps de vida creant\, a més\, dependències addictives.
URL:https://ateneuenciclopedicpopular.org/activitat/cine-forum-a-lateneu-yo-daniel-blake/
LOCATION:Sala Margarita Xirgu
CATEGORIES:Cine Club,Cinefòrum
ATTACH;FMTTYPE=image/jpeg:https://ateneuenciclopedicpopular.org/wp-content/uploads/2024/06/Yo-Daniel-Blake.jpg
END:VEVENT
END:VCALENDAR