BEGIN:VCALENDAR
VERSION:2.0
PRODID:-//Ateneu Enciclopèdic Popular - ECPv6.0.13.1//NONSGML v1.0//EN
CALSCALE:GREGORIAN
METHOD:PUBLISH
X-WR-CALNAME:Ateneu Enciclopèdic Popular
X-ORIGINAL-URL:https://ateneuenciclopedicpopular.org
X-WR-CALDESC:Esdeveniments per Ateneu Enciclopèdic Popular
REFRESH-INTERVAL;VALUE=DURATION:PT1H
X-Robots-Tag:noindex
X-PUBLISHED-TTL:PT1H
BEGIN:VTIMEZONE
TZID:UTC
BEGIN:STANDARD
TZOFFSETFROM:+0000
TZOFFSETTO:+0000
TZNAME:UTC
DTSTART:20240101T000000
END:STANDARD
END:VTIMEZONE
BEGIN:VEVENT
DTSTART;TZID=UTC:20240125T190000
DTEND;TZID=UTC:20240125T210000
DTSTAMP:20260420T074843
CREATED:20240110T182141Z
LAST-MODIFIED:20240110T182736Z
UID:7439-1706209200-1706216400@ateneuenciclopedicpopular.org
SUMMARY:Presentació del llibre Cinema al Frente
DESCRIPTION:Presentació del llibre Cinema al Frente  \nA càrrec de la seva autora\, Pau Martínez \nFruit d’un enorme treball investigador\, l’obra ofereix un ampli panorama sobre el cine realitzat pel moviment anarquista durant la Guerra Civil. L’excepcional circumstància provocada pel conflicte armat va emparar l’establiment d’un sistema col·lectivitzat en mans dels llibertaris i la creació d’una filmografia insòlita en el conjunt de la cinematografia espanyola i internacional. Es tracta dels documents visuals més primerencs de la breu experiència revolucionaria empresa a Catalunya  i Aragó; un conjunt de pel·lícules molt heterogèni entre reportatges de guerra\, documentals i films d’argument. A més del caràcter eminentment propagandístic de les cintes\, es construeix un discurs audiovisual més fructífer i complex que la mera propaganda. Destaquen les experimentacions formals i l’exploració de nous recursos expressius poc experimentats fins el moment\, com la hibridació entre gènere documental i ficció. \nEl text recòrre el conjunt de les quaranta i quatre pel·lícules conservades en el seu context històric. I aporta una sintésis del seu contingut amb breus comentaris per a destacar els aspectes formals més rellevants. Al final es detalla la relació de tots els filmes realitzar en la llista més completa elaborada fins avui\, que consta de vuitanta-tres títols produïts a Barcelona i vint-i-tres a Madrid.
URL:https://ateneuenciclopedicpopular.org/activitat/presentacio-del-llibre-cinema-al-frente/
LOCATION:Sala Margarita Xirgu
CATEGORIES:Presentacions de llibres
ATTACH;FMTTYPE=image/jpeg:https://ateneuenciclopedicpopular.org/wp-content/uploads/2024/01/Cinema-al-Frente_web.jpg
END:VEVENT
END:VCALENDAR