BEGIN:VCALENDAR
VERSION:2.0
PRODID:-//Ateneu Enciclopèdic Popular - ECPv6.0.13.1//NONSGML v1.0//EN
CALSCALE:GREGORIAN
METHOD:PUBLISH
X-WR-CALNAME:Ateneu Enciclopèdic Popular
X-ORIGINAL-URL:https://ateneuenciclopedicpopular.org
X-WR-CALDESC:Esdeveniments per Ateneu Enciclopèdic Popular
REFRESH-INTERVAL;VALUE=DURATION:PT1H
X-Robots-Tag:noindex
X-PUBLISHED-TTL:PT1H
BEGIN:VTIMEZONE
TZID:UTC
BEGIN:STANDARD
TZOFFSETFROM:+0000
TZOFFSETTO:+0000
TZNAME:UTC
DTSTART:20230101T000000
END:STANDARD
END:VTIMEZONE
BEGIN:VEVENT
DTSTART;TZID=UTC:20230527T183000
DTEND;TZID=UTC:20230527T213000
DTSTAMP:20260421T083548
CREATED:20230430T075842Z
LAST-MODIFIED:20230515T171419Z
UID:7146-1685212200-1685223000@ateneuenciclopedicpopular.org
SUMMARY:Cinema-debat Utopies: La Belle Verte
DESCRIPTION:Debat amb el Grup d’Història en el marc de temàtica UTOPIES. Pensem que la pel·lícula La Belle Verte enriquirà el debat sobre el tema. \nLa Belle Verte és un film de Colin Serreau de 1996. \nEl xoc d’una visitant d’un altre planeta\, que sembla haver aconseguit unes formes de vida i societat avançades amb la situació de la Terra. Una trobada entre móns a Paris. Una base per a discutir sobre les societats\, les reals i les considerades utòpiques.
URL:https://ateneuenciclopedicpopular.org/activitat/cinema-debat-la-belle-verte/
LOCATION:Sala Margarita Xirgu
CATEGORIES:Cinefòrum,Debat
ATTACH;FMTTYPE=image/jpeg:https://ateneuenciclopedicpopular.org/wp-content/uploads/2023/04/La-Belle-Verte.jpg
END:VEVENT
END:VCALENDAR