BEGIN:VCALENDAR
VERSION:2.0
PRODID:-//Ateneu Enciclopèdic Popular - ECPv6.0.13.1//NONSGML v1.0//EN
CALSCALE:GREGORIAN
METHOD:PUBLISH
X-WR-CALNAME:Ateneu Enciclopèdic Popular
X-ORIGINAL-URL:https://ateneuenciclopedicpopular.org
X-WR-CALDESC:Esdeveniments per Ateneu Enciclopèdic Popular
REFRESH-INTERVAL;VALUE=DURATION:PT1H
X-Robots-Tag:noindex
X-PUBLISHED-TTL:PT1H
BEGIN:VTIMEZONE
TZID:UTC
BEGIN:STANDARD
TZOFFSETFROM:+0000
TZOFFSETTO:+0000
TZNAME:UTC
DTSTART:20220101T000000
END:STANDARD
END:VTIMEZONE
BEGIN:VEVENT
DTSTART;TZID=UTC:20220324T190000
DTEND;TZID=UTC:20220324T210000
DTSTAMP:20260419T154805
CREATED:20220314T161205Z
LAST-MODIFIED:20220314T161205Z
UID:5969-1648148400-1648155600@ateneuenciclopedicpopular.org
SUMMARY:Presentació de l'edició facsímil del Decret de Col·lectivitzacions de 1936
DESCRIPTION:Presentació de la reedició en facsímil del Decret de Col·lectivitzacions de 1936\, 85 anys després de la seva publicació. \nEmpesos pels seus ideals i enmig d’una guerra\, els treballadors i treballadores de Catalunya van apostar per l’autogestió de l’economia. Generacions d’obrers havien estat construint una societat paral·lela al capitalisme\, amb ateneus\, sindicats\, cooperatives i escoles llibertàries\, per fer front a l’explotació laboral\, l’analfabetisme i la pobresa. El camí que havien trobat era el de la revolució social\, emancipar-se de tota autoritat mitjançant les seves pròpies estructures\, sense esperar que ningú ho fes per ells. No confiaven en l’Estat\, ni en l’Església\, ni en els Militars\, ni en els Empresaris. Tots els havien traït\, fent prevaldre els seus interessos particulars i de classe. \nAmb la intervenció d’Agustín Guillamón que ha relitzat un estudi històric al voltant del text per aportar perspectiva i una mirada crítica. \nOrganitzat per l’Editorial Descontrol
URL:https://ateneuenciclopedicpopular.org/activitat/presentacio-de-ledicio-facsimil-del-decret-de-collectivitzacions-de-1936/
LOCATION:Sala Margarita Xirgu
CATEGORIES:Presentacions de llibres
ATTACH;FMTTYPE=image/jpeg:https://ateneuenciclopedicpopular.org/wp-content/uploads/2022/03/CARTELL-decret-AEP-24_3_22.jpg
END:VEVENT
END:VCALENDAR