BEGIN:VCALENDAR
VERSION:2.0
PRODID:-//Ateneu Enciclopèdic Popular - ECPv6.0.13.1//NONSGML v1.0//EN
CALSCALE:GREGORIAN
METHOD:PUBLISH
X-WR-CALNAME:Ateneu Enciclopèdic Popular
X-ORIGINAL-URL:https://ateneuenciclopedicpopular.org
X-WR-CALDESC:Esdeveniments per Ateneu Enciclopèdic Popular
REFRESH-INTERVAL;VALUE=DURATION:PT1H
X-Robots-Tag:noindex
X-PUBLISHED-TTL:PT1H
BEGIN:VTIMEZONE
TZID:UTC
BEGIN:STANDARD
TZOFFSETFROM:+0000
TZOFFSETTO:+0000
TZNAME:UTC
DTSTART:20230101T000000
END:STANDARD
END:VTIMEZONE
BEGIN:VEVENT
DTSTART;TZID=UTC:20230613T184500
DTEND;TZID=UTC:20230613T210000
DTSTAMP:20260421T194022
CREATED:20230606T175844Z
LAST-MODIFIED:20230606T175844Z
UID:7211-1686681900-1686690000@ateneuenciclopedicpopular.org
SUMMARY:Cine Fòrum a l'Ateneu: Requiem por un sueño
DESCRIPTION:Trenta-sisena Sessió del Cine Fòrum de l’Ateneu Enciclopèdic Popular. \nCine Fòrum… gaudir del cinema i fer servir el cinema per parlar\, reflexionar i debatre sobre aspectes de la vida i la societat actuals. \nRequeim por un sueño és una pel·lícula dirigida  per Darren Aronofsky l ‘any 2000 \nHarry i la seva mare tenen somnis molt diferents: ella està permanentment a dieta esperant el dia en què pugui participar en el seu concurs televisiu preferit; l’ambició de Harry i la seva xicota Marion és fer-se rics venent droga i utilitzar els guanys per a obrir un negoci propi\, però mai tenen els diners suficients per a això. Malgrat tot\, Harry i Marion no es resignen i faran l’inimaginable per a aconseguir la vida que anhelen. \n\n 
URL:https://ateneuenciclopedicpopular.org/activitat/cine-forum-a-lateneu-requiem-por-un-sueno/
LOCATION:Sala Margarita Xirgu
CATEGORIES:Cine Club,Cinefòrum
ATTACH;FMTTYPE=image/jpeg:https://ateneuenciclopedicpopular.org/wp-content/uploads/2023/06/Requiem.jpg
END:VEVENT
END:VCALENDAR