BEGIN:VCALENDAR
VERSION:2.0
PRODID:-//Ateneu Enciclopèdic Popular - ECPv6.0.13.1//NONSGML v1.0//EN
CALSCALE:GREGORIAN
METHOD:PUBLISH
X-ORIGINAL-URL:https://ateneuenciclopedicpopular.org
X-WR-CALDESC:Esdeveniments per Ateneu Enciclopèdic Popular
REFRESH-INTERVAL;VALUE=DURATION:PT1H
X-Robots-Tag:noindex
X-PUBLISHED-TTL:PT1H
BEGIN:VTIMEZONE
TZID:UTC
BEGIN:STANDARD
TZOFFSETFROM:+0000
TZOFFSETTO:+0000
TZNAME:UTC
DTSTART:20260101T000000
END:STANDARD
END:VTIMEZONE
BEGIN:VEVENT
DTSTART;TZID=UTC:20260409T190000
DTEND;TZID=UTC:20260409T190000
DTSTAMP:20260420T073802
CREATED:20260331T124358Z
LAST-MODIFIED:20260402T130454Z
UID:8280-1775761200-1775761200@ateneuenciclopedicpopular.org
SUMMARY:Òpera a l'Ateneu: CARMEN
DESCRIPTION:ÒPERA A L’ATENEU \nXerrada amb audició en vídeo de l’òpera CARMEN de Georges Bizet\, estrenada l’any 1875 a París. Ambientada a Sevilla\, narra un relació amorosa molt passional que va suposar un gran escàndol aleshores i actualment és una de les òperes més representades a teatres de tot el món. \n\nA CÀRREC DE JOSEP M. JENÉ
URL:https://ateneuenciclopedicpopular.org/activitat/opera-a-lateneu-2/
LOCATION:Sala Margarita Xirgu
ATTACH;FMTTYPE=image/jpeg:https://ateneuenciclopedicpopular.org/wp-content/uploads/2026/03/cartel-opera-carmen-bizet.jpg
END:VEVENT
END:VCALENDAR