BEGIN:VCALENDAR
VERSION:2.0
PRODID:-//Ateneu Enciclopèdic Popular - ECPv6.0.13.1//NONSGML v1.0//EN
CALSCALE:GREGORIAN
METHOD:PUBLISH
X-ORIGINAL-URL:https://ateneuenciclopedicpopular.org
X-WR-CALDESC:Esdeveniments per Ateneu Enciclopèdic Popular
REFRESH-INTERVAL;VALUE=DURATION:PT1H
X-Robots-Tag:noindex
X-PUBLISHED-TTL:PT1H
BEGIN:VTIMEZONE
TZID:UTC
BEGIN:STANDARD
TZOFFSETFROM:+0000
TZOFFSETTO:+0000
TZNAME:UTC
DTSTART:20220101T000000
END:STANDARD
END:VTIMEZONE
BEGIN:VEVENT
DTSTART;TZID=UTC:20220311T190000
DTEND;TZID=UTC:20220311T210000
DTSTAMP:20260421T185339
CREATED:20220224T113118Z
LAST-MODIFIED:20220224T113118Z
UID:5859-1647025200-1647032400@ateneuenciclopedicpopular.org
SUMMARY:Cabaret poètic-musical Micro obert!
DESCRIPTION:Com un avançament de la Primavera\, arriba el gran… \nCabaret poètic-musical\, amb Micro Obert\, a l’Ateneu Enciclopèdic Popular… \nOrganitzat per la Secció Literària de l’Ateneu i el Beto Stocker \nI el Micro Obert ens ofereix la possibilitat\, a totes i tots\, de compartir poèsia i música pel cos i la ment. \nSi voleu participar a aquest Micro Obert\, per poder tenir una previsió\, dirigiu-vos\, PER WHATSAPP\, a: \nM. Ángeles…. para la poesia: 677528736 \nBeto…. para la música: 692529649 \n  \n 
URL:https://ateneuenciclopedicpopular.org/activitat/cabaret-poetic-musical-micro-obert/
LOCATION:Sala Margarita Xirgu
CATEGORIES:Concert,Poesia
ATTACH;FMTTYPE=image/jpeg:https://ateneuenciclopedicpopular.org/wp-content/uploads/2022/02/Cabaret-Poetic.jpg
END:VEVENT
END:VCALENDAR