BEGIN:VCALENDAR
VERSION:2.0
PRODID:-//Ateneu Enciclopèdic Popular - ECPv6.0.13.1//NONSGML v1.0//EN
CALSCALE:GREGORIAN
METHOD:PUBLISH
X-ORIGINAL-URL:https://ateneuenciclopedicpopular.org
X-WR-CALDESC:Esdeveniments per Ateneu Enciclopèdic Popular
REFRESH-INTERVAL;VALUE=DURATION:PT1H
X-Robots-Tag:noindex
X-PUBLISHED-TTL:PT1H
BEGIN:VTIMEZONE
TZID:UTC
BEGIN:STANDARD
TZOFFSETFROM:+0000
TZOFFSETTO:+0000
TZNAME:UTC
DTSTART:20220101T000000
END:STANDARD
END:VTIMEZONE
BEGIN:VEVENT
DTSTART;TZID=UTC:20220429T190000
DTEND;TZID=UTC:20220429T210000
DTSTAMP:20260421T023453
CREATED:20220421T153758Z
LAST-MODIFIED:20220421T153758Z
UID:6118-1651258800-1651266000@ateneuenciclopedicpopular.org
SUMMARY:Presentació del llibret "Poesia de carrer" per la seva autora
DESCRIPTION:Rosa M. Grau ens passejarà per aquest seu mirar\, respirar i sentir l’entorn\, que ens comparteix en aquest preciós llibret on la poesia vola en la llibertat de l’aire dels carrers. Repàs\, recerca i futur. \nTindrem el plaer de la persona i la veu d’algú que ha fet de la poesia tendresa i combat \nL’autora es descriu a si mateixaNeix a Barcelona el 21 d’octubre de 1947.\nCom a actriu participo en companyies com Génesis Teatral\, La Camama Teatre\, Minimax Teatre.\nCofundadora de la Companyia de Teatre Independent Iguanas el 1988.\nEl treball el fonamento en la veu com a millor vehicle de comunicació. Coopero en els Festivals de Polipoesia de Barcelona i amb en Xavier Sabater formem la Il·lògic Art Company.\nL’essència del so i de la paraula és un aspecte que ens aporta el sentir del poema\, tenint en compte la musicalitat\, la llum que necessita\, l’entonació més adequada\, si s’ha de recitar a una o més veus\, si aquestes veus han de ser tractades amb ecos o per bastidors d’efectes electrònics o si el poema requereix altres mitjans de qualsevol tipus\, és així que arribem a la cyberpoesia i a la videopoesia.\nCol·laboro en les accions del grup de poetes BIO-LENTOS POESÍA AL RESCATE.
URL:https://ateneuenciclopedicpopular.org/activitat/presentacio-del-llibret-poesia-de-carrer-per-la-seva-autora/
LOCATION:Sala Margarita Xirgu
CATEGORIES:Poesia,Presentacions de llibres
ATTACH;FMTTYPE=image/jpeg:https://ateneuenciclopedicpopular.org/wp-content/uploads/2022/04/cartell-ateneu-enciclopedic.jpg
END:VEVENT
END:VCALENDAR