BEGIN:VCALENDAR
VERSION:2.0
PRODID:-//Ateneu Enciclopèdic Popular - ECPv6.0.13.1//NONSGML v1.0//EN
CALSCALE:GREGORIAN
METHOD:PUBLISH
X-ORIGINAL-URL:https://ateneuenciclopedicpopular.org
X-WR-CALDESC:Esdeveniments per Ateneu Enciclopèdic Popular
REFRESH-INTERVAL;VALUE=DURATION:PT1H
X-Robots-Tag:noindex
X-PUBLISHED-TTL:PT1H
BEGIN:VTIMEZONE
TZID:UTC
BEGIN:STANDARD
TZOFFSETFROM:+0000
TZOFFSETTO:+0000
TZNAME:UTC
DTSTART:20220101T000000
END:STANDARD
END:VTIMEZONE
BEGIN:VEVENT
DTSTART;TZID=UTC:20220510T183000
DTEND;TZID=UTC:20220510T190000
DTSTAMP:20260421T023603
CREATED:20220408T100212Z
LAST-MODIFIED:20220411T141600Z
UID:6084-1652207400-1652209200@ateneuenciclopedicpopular.org
SUMMARY:Cabaret poètic-musical Micro obert!
DESCRIPTION:Perquè la primavera ens posa\, torna el gran… \nCabaret poètic-musical\, amb Micro Obert\, a l’Ateneu Enciclopèdic Popular… \nOrganitzat per:  Secció Literària de l’AEP  – Grup Poètic Adolfo Castaños – Beto Stocker \nI el Micro Obert ens ofereix la possibilitat\, a totes i tots\, de compartir poèsia i música pel cos i la ment. Si voleu participar a aquest Micro Obert\, per poder tenir una previsió\, dirigiu-vos\, PER WHATSAPP\, a: \nM. Ángeles…. para la poesia: 677528736 \nBeto…. para la música: 692529649
URL:https://ateneuenciclopedicpopular.org/activitat/cabaret-poetic-musical-micro-obert-2/
LOCATION:Sala Margarita Xirgu
CATEGORIES:Cabaret poètic-musical
ATTACH;FMTTYPE=image/jpeg:https://ateneuenciclopedicpopular.org/wp-content/uploads/2022/04/cabaretpoetic10.05.22-1.jpg
END:VEVENT
END:VCALENDAR