BEGIN:VCALENDAR
VERSION:2.0
PRODID:-//Ateneu Enciclopèdic Popular - ECPv6.0.13.1//NONSGML v1.0//EN
CALSCALE:GREGORIAN
METHOD:PUBLISH
X-ORIGINAL-URL:https://ateneuenciclopedicpopular.org
X-WR-CALDESC:Esdeveniments per Ateneu Enciclopèdic Popular
REFRESH-INTERVAL;VALUE=DURATION:PT1H
X-Robots-Tag:noindex
X-PUBLISHED-TTL:PT1H
BEGIN:VTIMEZONE
TZID:UTC
BEGIN:STANDARD
TZOFFSETFROM:+0000
TZOFFSETTO:+0000
TZNAME:UTC
DTSTART:20220101T000000
END:STANDARD
END:VTIMEZONE
BEGIN:VEVENT
DTSTART;TZID=UTC:20220514T190000
DTEND;TZID=UTC:20220514T190000
DTSTAMP:20260421T060040
CREATED:20220421T144729Z
LAST-MODIFIED:20220421T144729Z
UID:6132-1652554800-1652554800@ateneuenciclopedicpopular.org
SUMMARY:Santa miseria
DESCRIPTION:Santa miseria\nEl arte como arma política\nPoesía Beat y música en directo \nPresentació al barri de la revista de poesia Pandora pels seus autors
URL:https://ateneuenciclopedicpopular.org/activitat/santa-miseria/
LOCATION:Sala Margarita Xirgu
ATTACH;FMTTYPE=image/jpeg:https://ateneuenciclopedicpopular.org/wp-content/uploads/2022/04/Pandora_14.5.22.jpeg
END:VEVENT
END:VCALENDAR