BEGIN:VCALENDAR
VERSION:2.0
PRODID:-//Ateneu Enciclopèdic Popular - ECPv6.0.13.1//NONSGML v1.0//EN
CALSCALE:GREGORIAN
METHOD:PUBLISH
X-ORIGINAL-URL:https://ateneuenciclopedicpopular.org
X-WR-CALDESC:Esdeveniments per Ateneu Enciclopèdic Popular
REFRESH-INTERVAL;VALUE=DURATION:PT1H
X-Robots-Tag:noindex
X-PUBLISHED-TTL:PT1H
BEGIN:VTIMEZONE
TZID:UTC
BEGIN:STANDARD
TZOFFSETFROM:+0000
TZOFFSETTO:+0000
TZNAME:UTC
DTSTART:20240101T000000
END:STANDARD
END:VTIMEZONE
BEGIN:VEVENT
DTSTART;TZID=UTC:20241008T190000
DTEND;TZID=UTC:20241008T210000
DTSTAMP:20260419T150000
CREATED:20240923T120409Z
LAST-MODIFIED:20240923T120409Z
UID:7727-1728414000-1728421200@ateneuenciclopedicpopular.org
SUMMARY:Cine Fòrum: La Haine
DESCRIPTION:Cine Fòrum a l’Ateneu Enciclopèdic Popular \nPer a gaudir del cinema i per pensar i analitzar el nostre entorn a través del cinema \nLa Haine\, film dirigit per Mathieu Kassovitz el 1995 \nDesprés d’una nit de disturbis en un barri marginal als afores de Paris\, tres amics adolescents (un jueu\, un àrab immigrant i un boxador amateur negre\, respectivament)\, són testimonis d’un fet en el qual un seu amic és ferit per la polícia. El vagareix per la ciutat\, la violència entre bandes i els conflictes amb la polícia són les constants en les 24 hores següents de la vida d’aquests joves. \nEl 8 d’octubre de 2024 a les 19 hores
URL:https://ateneuenciclopedicpopular.org/activitat/cine-forum-la-haine/
LOCATION:Sala Margarita Xirgu
CATEGORIES:Cine Club,Cinefòrum
ATTACH;FMTTYPE=image/jpeg:https://ateneuenciclopedicpopular.org/wp-content/uploads/2024/09/La-Haine.jpg
END:VEVENT
END:VCALENDAR