BEGIN:VCALENDAR
VERSION:2.0
PRODID:-//Ateneu Enciclopèdic Popular - ECPv6.0.13.1//NONSGML v1.0//EN
CALSCALE:GREGORIAN
METHOD:PUBLISH
X-WR-CALNAME:Ateneu Enciclopèdic Popular
X-ORIGINAL-URL:https://ateneuenciclopedicpopular.org
X-WR-CALDESC:Esdeveniments per Ateneu Enciclopèdic Popular
REFRESH-INTERVAL;VALUE=DURATION:PT1H
X-Robots-Tag:noindex
X-PUBLISHED-TTL:PT1H
BEGIN:VTIMEZONE
TZID:UTC
BEGIN:STANDARD
TZOFFSETFROM:+0000
TZOFFSETTO:+0000
TZNAME:UTC
DTSTART:20210101T000000
END:STANDARD
END:VTIMEZONE
BEGIN:VEVENT
DTSTART;TZID=UTC:20210915T183000
DTEND;TZID=UTC:20210915T210000
DTSTAMP:20260420T213610
CREATED:20210729T181449Z
LAST-MODIFIED:20210907T110154Z
UID:4849-1631730600-1631739600@ateneuenciclopedicpopular.org
SUMMARY:Què fou\,què és\, que vol ser l' Ateneu Enciclopèdic /CDHS al Raval
DESCRIPTION:Taula rodona- xerrada per donar a conèixer l’Ateneu als diferents grups i col·lectius i gent interessada. Amb la finalitat de relacionar el passat de l’Ateneu Enciclopèdic Popular amb l’avui social del barri i de la ciutat. \nAl llarg de l’acte es farà la presentació del número 43 de la revista Enciclopèdic\, el butlletí de l’Ateneu \n 
URL:https://ateneuenciclopedicpopular.org/activitat/que-fouque-es-que-vol-ser-l-ateneu-enciclopedic-cdhs-al-raval/
LOCATION:Sala Margarita Xirgu
CATEGORIES:Presentació
ATTACH;FMTTYPE=image/jpeg:https://ateneuenciclopedicpopular.org/wp-content/uploads/2021/07/IMG-20210906-WA0001.jpg
END:VEVENT
BEGIN:VEVENT
DTSTART;TZID=UTC:20210920T190000
DTEND;TZID=UTC:20210920T210000
DTSTAMP:20260420T213610
CREATED:20210909T153009Z
LAST-MODIFIED:20210913T101316Z
UID:5010-1632164400-1632171600@ateneuenciclopedicpopular.org
SUMMARY:Presentació del documental "Fedayin"
DESCRIPTION:(CAT) \nFedayin\, el combat de Georges Abdallah segueix el recorregut d’un incansable comunista àrab i combatent per Palestina. Des dels camps de refugiades palestines que han forjat la seva consciència\, a la mobilització internacional per al seu alliberament\, anem al descobriment de qui ha esdevingut un dels presos polítics més antics d’Europa. Seguim el seu compromís en la resistència palestina durant la guerra del Líban i després a Europa en el si de les FARL (Fraccions Bèl·liques Revolucionàries Libaneses). El trobarem a França on serà detingut l’any 1984 i condemnat per complicitat en execucions polítiques de representants dels Estats Units i d’Israel. \nMés enllà de l’acarnissament judicial i polític del qual Georges Abdallah és víctima\, la pel·lícula segueix una vida de resistència a través d’una sèrie d’entrevistes al Líban\, per conèixer la seva família\, parents i antics companys\, d’igual manera a Europa amb el seu advocat\, els seus partidaris i les persones que han estat al seu voltant. Avui\, passats més de 20 anys sent-li denegat reiteradament l’alliberament i malgrat la reclusió\, Georges Abdallah continua duent a terme un imprescindible combat contra l’imperialisme i el colonialisme. \n(Presentació a càrrec de Jann (Jean)-Marc Rouillan) \nPer què aquesta pel·lícula?\nEl nom de Georges Abdallah apareix regularment en manifestacions\, articles de premsa o en cartes de parlamentaris al Ministeri de Justícia. Però qui és ell en realitat? Per què un comunista libanès d’origen cristià ha estat empresonat a França durant més de 35 anys? Per què els palestins el consideren un dels seus presoners? En molts sentits\, la història de Georges Abdallah és tant la d’una època com la d’una esquerra palestina i àrab tan rica com desconeguda. \nA través d’aquesta pel·lícula\, hem tractat de respondre a aquestes preguntes tornant sobre el viatge de Georges Abdallah i\, a través d’ell\, al de la resistència palestina. Des de la Nakba fins al Setembre Negre a Jordània\, inclosa l’ocupació israeliana del Líban el 1982\, expliquem com i per què la causa palestina està en el centre del compromís de la joventut libanesa en la dècada de 1970. \nComptem amb una sèrie d’entrevistes\, en particular amb la seva família\, persones que el van conèixer abans del seu empresonament però també el seu advocat\, expresos polítics i diversos dels seus partidaris. Per a plasmar aquesta part de la història en imatges\, ens submergim en els nombrosos arxius\, alguns dels quals es van retransmetre per primera vegada a França. \nAquest documental produït pel col·lectiu Vacarme (s) Films no s’emmarca en l’hagiografia de Georges Abdallah\, sinó que pretén ser una eina per a comprendre (millor) el context polític i social en el qual es desenvolupa la lluita de Georges Abdallah. Un compromís que encara paga avui\, en trobar-se pres tot i tenir dret a l’alliberament des de 1999. Finalment\, aquesta pel·lícula mai hauria vist la llum sense la relació política que mantenen diversos membres de Vacarme (s) Films amb Georges Abdallah i el compromís d’una dècada en la campanya pel seu alliberament. \n  \n(CAST) \nFedayin\, la lucha de Georges Abdallah sigue el curso de un infatigable comunista árabe y luchador por Palestina. Desde los campos de refugiados palestinos que forjaron su conciencia\, hasta la movilización internacional por su liberación\, vamos a descubrir al que se ha convertido en uno de los presos políticos más antiguos de Europa. Seguimos su participación en la resistencia palestina durante la guerra en el Líbano y luego en Europa dentro de las FARL (Fracciones Armadas Revolucionarias Libanesas). Lo encontraremos en Francia donde será detenido en 1984 y condenado por complicidad en las ejecuciones políticas de representantes de Estados Unidos e Israel. \nMás allá del acoso judicial y político del que es víctima Georges Abdallah\, la película traza una vida de resistencia a través de una serie de entrevistas en el Líbano\, para encontrarse con su familia\, sus parientes y excompañeros pero también en Europa. Con su abogado\, sus seguidores. y personas que trabajaron con él. Hoy\, tras más de 20 años siéndole ninguneado el derecho a ser liberado y a pesar de estar encerrado\, Georges Abdallah está llevando a cabo una lucha esencial contra el imperialismo y el colonialismo. \n(Presentación a cargo de Jann (Jean)-Marc Rouillan) \n¿Por qué esta película? \nEl nombre de Georges Abdallah aparece regularmente en manifestaciones\, artículos de prensa o en cartas de parlamentarios al Ministerio de Justicia. ¿Pero quién es él en realidad? ¿Por qué un comunista libanés de origen cristiano ha estado encarcelado en Francia durante más de 35 años? ¿Por qué los palestinos lo consideran uno de sus prisioneros? En muchos sentidos\, la historia de Georges Abdallah es tanto la de una época como la de una izquierda palestina y árabe tan rica como desconocida. \nA través de esta película\, hemos tratado de responder a estas preguntas volviendo sobre el viaje de Georges Abdallah y\, a través de él\, el de la resistencia palestina. Desde la Nakba hasta el Septiembre Negro en Jordania\, incluida la ocupación israelí del Líbano en 1982\, explicamos cómo y por qué la causa palestina está en el centro del compromiso de la juventud libanesa en la década de 1970. \nContamos con una serie de entrevistas\, en particular con su familia\, personas que lo conocieron antes de su encarcelamiento pero también su abogado\, ex presos políticos y varios de sus partidarios. Para plasmar esta parte de la historia en imágenes\, nos sumergimos en los numerosos archivos\, algunos de los cuales se retransmitieron por primera vez en Francia. \nEste documental producido por el colectivo Vacarme (s) Films no se enmarca en la hagiografía de Georges Abdallah\, sino que pretende ser una herramienta para comprender (mejor) el contexto político y social en el que se desarrolla la lucha de Georges Abdallah. Un compromiso que aún paga hoy\, al encontrarse todavía preso todo y tener derecho a ser liberado desde 1999. Finalmente\, esta película nunca hubiera visto la luz sin la relación política que mantienen varios miembros de Vacarme (s) Films con Georges Abdallah y el compromiso de una década en la campaña por su liberación.
URL:https://ateneuenciclopedicpopular.org/activitat/presentacio-del-documental-fedayin/
LOCATION:Sala Margarita Xirgu
CATEGORIES:Documental
ATTACH;FMTTYPE=image/jpeg:https://ateneuenciclopedicpopular.org/wp-content/uploads/2021/09/3541.jpg
END:VEVENT
BEGIN:VEVENT
DTSTART;TZID=UTC:20210921T180000
DTEND;TZID=UTC:20210921T210000
DTSTAMP:20260420T213610
CREATED:20210730T183006Z
LAST-MODIFIED:20210803T155136Z
UID:4893-1632247200-1632258000@ateneuenciclopedicpopular.org
SUMMARY:Presentació del llibre de Pere Solà i Gussinyer Quadern de cel·la. Apunts de darrera hora
DESCRIPTION:Contextualització i explicació de la història narrada al llibre Quadern de cel·la. Apunts de darrera hora\, que presentarà el mateix autor\, Pere Solà i Gussinyer\, precedit tot per l’audició d’una petita peça de Mozart. La novel·la funciona amb la forma d’un diari de presó escrit al llarg del setembre i les dues primeres setmanes d’octubre de 1909 en el nou centre penitenciari de Barcelona\, la presó Model del carrer Entença\, amb una moderna distribució panòptica dels mòduls i situada al bell mig de la capital. Els tres darrers dies\, però\, la narració es trasllada a la fortalesa militar que\, des de la muntanya\, vigila impassible la ciutat. \n 
URL:https://ateneuenciclopedicpopular.org/activitat/presentacio-del-llibre-de-pere-sola-i-gussinyer-quadern-de-cel-la-apunts-de-darrera-hora/
LOCATION:Sala Margarita Xirgu
CATEGORIES:Presentacions de llibres
ATTACH;FMTTYPE=image/jpeg:https://ateneuenciclopedicpopular.org/wp-content/uploads/2021/07/Quadern-de-cella.jpg
END:VEVENT
BEGIN:VEVENT
DTSTART;TZID=UTC:20210923T190000
DTEND;TZID=UTC:20210923T210000
DTSTAMP:20260420T213610
CREATED:20210729T170435Z
LAST-MODIFIED:20210917T144830Z
UID:4837-1632423600-1632430800@ateneuenciclopedicpopular.org
SUMMARY:El Diluvio\, la prensa y la Segunda República
DESCRIPTION:Presentació del llibre El Diluvio\, la prensa y la Segunda República pel seu autor Gil Toll\, amb l’assistència de la historiadora i editora Anna Monjo \nEl Diluvio fue durante más de ochenta años el gran diario popular\, republicano y federalista de la ciudad de Barcelona. Su final abrupto\, en 1939\, explica parcialmente el desconocimiento del que fue una institución ciudadana. Este libro sintetiza una tesis doctoral en Historia que ha significado la recuperación de El Diluvio. El trabajo se centra en la Segunda República por ser el episodio de mayor trascendencia de la historia del periódico. Además\, enmarca la historia del diario en el contexto de la prensa de Barcelona y Madrid durante aquellos años. \nEl Diluvio fue el único apoyo mediático de Francesc Macià y la recién fundada Esquerra Republicana en las elecciones municipales de 1931. Alentó la revuelta pacífica el mismo 14 de abril\, señaló a Lluís Companys como el mejor candidato a suceder a Macià\, presentó una candidatura electoral de síntesis para superar la división republicana en 1933\, animó sin descanso la formación del Frente Popular y defendió la República durante la guerra hasta el último día. \nGràcies a Txalaparta per deixar-nos la ressenya \nhttps://www.txalaparta.eus/es/libros/el-diluvio-la-prensa-y-la-segunda-republica
URL:https://ateneuenciclopedicpopular.org/activitat/el-diluvio-la-prensa-y-la-segunda-republica/
LOCATION:Sala Margarita Xirgu
CATEGORIES:Presentacions de llibres
ATTACH;FMTTYPE=image/jpeg:https://ateneuenciclopedicpopular.org/wp-content/uploads/2021/07/el-diluvio-la-prensa-y-la-segunda-republica-txalaparta-eus.jpg
END:VEVENT
BEGIN:VEVENT
DTSTART;TZID=UTC:20210930T183000
DTEND;TZID=UTC:20210930T210000
DTSTAMP:20260420T213610
CREATED:20210804T172735Z
LAST-MODIFIED:20210906T231334Z
UID:4933-1633026600-1633035600@ateneuenciclopedicpopular.org
SUMMARY:Documental Alô! Tudo bem?  Brasil y la extrema derecha. La cultura en descomposición
DESCRIPTION:Pase del documental con la presencia del autor\, Helios Molina\, y una charla-debate posterior\, junto con el profesor Luigi Ruiz Peinado\, de la UB\, sobre el ascenso de la extrema derecha y cuales habrían de ser los comportamientos de la población concienciada en ese sentido. \nAlô! Tudo bem? O ¿Cómo la extrema derecha se apoderó del poder en el mayor país de América del sur? \nUn documental de Helios Molina \nSubtitulos en castellano de Xavier Oller – Duración: 1h 8′ \nEl documental nace en Brasil de un enfoque personal – con una verdadera agenda en el vasto mundo de la cultura carioca. Con un interrogante: ¿como puede ser que un pais conocido por sus grandes poetas e musicos pueda caer en esta caricatura del poder politico? Entender por qué más del 60% de los votos fueron para un “psicópata” nostálgico de los años de la dictadura. \nY es a través de artistas\, músicos\, cineastas\, diputados federales\, ex presidente Lula da Silva\, Anne Hidalgo (alcaldesa de Paris)\, agitadores culturales\, periodistas\, profesores universitarios (más de cuarenta personas) que me lanzo a las entrevistas armado con una discreta cámara – formato 4K. \nLa otra idea es descubrir a artistas en su arte y cuestionarles sobre la sociedad que les rodea y su poder político – en Río en primer lugar. \nEste documental no es sólo una serie de entrevistas que revelan una atmósfera pestilencial\, sino una dulce mezcla de arte\, política y poesía visual. La música desempeña un papel muy importante. \nSobre el autor: \nPeriodista con carnet de prensa francés desde 1989. Especialista en patrimonio robado\, en abusos mafiosos del mundo del arte\, tráfico de bienes culturales e circuitos internacionales ilegales. Conocedor del mercado del arte\, el mundo del coleccionismo\, de la cultura e artistas. Investigaciones e informes en Rusia\, África\, Europa\, Asia y América. Fundador de la revista cultural web Micmag.net (con 40 colaboradores de varios paises). Vive desde mayo 2020 entre Barcelona y Paris. Sigue viajando para varios reportajes con revistas internacionales. \nPara más información: sobre el autor y su obra \n 
URL:https://ateneuenciclopedicpopular.org/activitat/passi-del-documental-brasil-y-la-extrema-derecha-la-cultura-en-descomposicion/
LOCATION:Sala Margarita Xirgu
CATEGORIES:Documental
ATTACH;FMTTYPE=image/jpeg:https://ateneuenciclopedicpopular.org/wp-content/uploads/2021/08/cartel-brasil-final..jpg
END:VEVENT
END:VCALENDAR