BEGIN:VCALENDAR
VERSION:2.0
PRODID:-//Ateneu Enciclopèdic Popular - ECPv6.0.13.1//NONSGML v1.0//EN
CALSCALE:GREGORIAN
METHOD:PUBLISH
X-WR-CALNAME:Ateneu Enciclopèdic Popular
X-ORIGINAL-URL:https://ateneuenciclopedicpopular.org
X-WR-CALDESC:Esdeveniments per Ateneu Enciclopèdic Popular
REFRESH-INTERVAL;VALUE=DURATION:PT1H
X-Robots-Tag:noindex
X-PUBLISHED-TTL:PT1H
BEGIN:VTIMEZONE
TZID:UTC
BEGIN:STANDARD
TZOFFSETFROM:+0000
TZOFFSETTO:+0000
TZNAME:UTC
DTSTART:20210101T000000
END:STANDARD
END:VTIMEZONE
BEGIN:VEVENT
DTSTART;TZID=UTC:20211005T183000
DTEND;TZID=UTC:20211005T210000
DTSTAMP:20260420T200025
CREATED:20210925T115823Z
LAST-MODIFIED:20210925T115823Z
UID:5085-1633458600-1633467600@ateneuenciclopedicpopular.org
SUMMARY:Presentació de "Por sabido se calla"
DESCRIPTION:Presentació del llibre d’Alain Derbez\, músic i escriptor\, Por sabido se calla.  Arriba de Mèxic i vol compartir amb nosaltres les dues coses. La presentació del llibre anirà acompanyada d’una sessió de saxo a la que està convidat\, en plan jam session\, qui vulgui tocar amb ell. \nPor sabido se calla es un libro de ensayos desde la heterodoxia que va de la literatura a la historia pasando por el tamiz de la música. Hay ahí textos que lo mismo giran alrededor del camino de Santiago y -escriben en las presentaciones los doctores en Historia Ricardo Pérez Montfort y Ángel Miquel- “la burundanga de Celia Cruz. un paseo por la ruta al santuario gallego y la obra de una mística de la Edad Media (Hildegart von Bingen)”\, “un intento de razonar por qué Numancia y sus derivados han proliferado en versos\, novelas y pinturas\, pero tambíén en nombres de cantinas\, equipos de futbol y otras industrias”\, una torre medieval en Madrid o la historia de la relación entre la alquimia y la literatura para desembocar en un poema del chiapaneco Jaime Sabines sobre la piedra filosofal llevado a la música como danzón\, luego algo sobre la Sociedad Bascongada de los Amigos del País y su presencia en México\, la migración barcelonesa a México y una abandonada isla del Pacífico\, un halconero en la corte castellana de Juan II y el jazz\, la cultura y la identidad mexicanos\, entre otros temas “en un paseo amenísimo de este literato-historiador-jazzista en el que los procedimientos creativos son anunciados desde los títulos de los ensayos\, lo que quiere decir saltarse las trancas entre disciplinas y modos del conocimiento para atisbar escenarios insólitos y también elevar con sonoras palabras la bella y extraña catedral de este libro”. \nSobre el autor \nPoeta\, ensayista\, narrador y músico. Historiador por la UNAM. Es y ha sido columnista y colaborador de periódicos\, suplementos y revistas varios como La Jornada\, Reforma\, El Universal\, Letras Libres\, Este País\, entre otros. Es corresponsal en México de la revista madrileña Cuadernos de Jazz. Productor y conductor de radio desde fines de los años setenta tiene a su cargo series en Radio Educación\, Radio UNAM y Radio Universidad Veracruzana. Entre sus libros hallamos\, entre muchos otros\, El jazz en México\, datos para esta historia (F.C.E.)\, y El jazz según don Juan (Ed. La Zonámbula)\, La antología sobre el blues y el jazz en la literatura hispanoamericana\, Todo se escucha en el silencio (U.A.Z) y Ya no nos imaginamos la vida sin la radio\, una crónica sobre la historia de la radio indigenista en México (U. P. N.). Traductor del libro de Ajay Heble\, Caer en la que no era. Jazz\, disonancia y práctica crítica (Universidad Veracruzana\, 2012). Derbez tiene discos con música. letras y poemas de su autoría\, varios de ellos publicados por Ediciones Pentagrama y canciones suyas han sido interpretadas y grabadas por\, entre otros\, Eugenia León\, Tania Libertad\, Magos Herrera\, Gerardo Bátiz\, Real de 14\, La Fontegara\, Alex Lora\, Armando Rosas\, Betsy Pecanins\, Iraida Noriega y Oscar Chávez.
URL:https://ateneuenciclopedicpopular.org/activitat/presentacio-de-por-sabido-se-calla/
LOCATION:Sala Margarita Xirgu
CATEGORIES:Concert,Presentacions de llibres
ATTACH;FMTTYPE=image/png:https://ateneuenciclopedicpopular.org/wp-content/uploads/2021/09/Portada-Por-sabido.png
END:VEVENT
BEGIN:VEVENT
DTSTART;TZID=UTC:20211007T190000
DTEND;TZID=UTC:20211007T210000
DTSTAMP:20260420T200025
CREATED:20210731T154855Z
LAST-MODIFIED:20210917T135755Z
UID:4896-1633633200-1633640400@ateneuenciclopedicpopular.org
SUMMARY:Homenatge a Adolf Castaños
DESCRIPTION:Mª Ángeles Igartua\, Guiomar Castaños i Manel Aisa recordaran i conversaran entorn la vida i obra del recentment desaparegut company Adolf Castaños Garrofé\, com a Poeta i com a Persona\, gran amic de l’Ateneu Enciclopèdic del què\, durant els darrers vint anys\, n’ha estat vicepresident. \nUn tastet \nhttps://www.elcorreo.com/gipuzkoa/adios-a-un-poeta-dejo-huella-eibar-adolfo-castanos-20210311210401-nt.html
URL:https://ateneuenciclopedicpopular.org/activitat/homenatge-a-adolf-castanos/
LOCATION:Sala Margarita Xirgu
ATTACH;FMTTYPE=image/jpeg:https://ateneuenciclopedicpopular.org/wp-content/uploads/2021/07/IMG-20210916-WA0016.jpg
END:VEVENT
BEGIN:VEVENT
DTSTART;TZID=UTC:20211015T193000
DTEND;TZID=UTC:20211015T193000
DTSTAMP:20260420T200025
CREATED:20210911T124544Z
LAST-MODIFIED:20211011T100524Z
UID:5021-1634326200-1634326200@ateneuenciclopedicpopular.org
SUMMARY:BETO STOCKER\, CONCERT DE TROBA PROGRESSIVA
DESCRIPTION:Presentació dels últims temes del cantautor Beto Stocker\, qui es caracteritza per la seva temàtica social\, encara que carregada d’humor\, i per acompanyar-se amb una guitarra plena de jazz\, música contemporània\, rareses i\, sobretot\, molta troba. \nL’espectacle que ens presenta Beto Stocker està molt estretament relacionat amb les temàtiques socials\, àcrates i reivindicatives de l’Ateneu Enciclopèdic Popular.
URL:https://ateneuenciclopedicpopular.org/activitat/beto-stocker-concert-de-troba-progressiva/
LOCATION:Sala Margarita Xirgu
CATEGORIES:Concert
ATTACH;FMTTYPE=image/jpeg:https://ateneuenciclopedicpopular.org/wp-content/uploads/2021/09/Beto-Stocker-invitadas.jpg
END:VEVENT
BEGIN:VEVENT
DTSTART;TZID=UTC:20211028T183000
DTEND;TZID=UTC:20211028T183000
DTSTAMP:20260420T200025
CREATED:20211014T110203Z
LAST-MODIFIED:20211014T110203Z
UID:5128-1635445800-1635445800@ateneuenciclopedicpopular.org
SUMMARY:L'EXPROPIACIÓ DELS VOLTORS A BERLÍN
DESCRIPTION:Des del Sindicat de Llogateres volem donar a conèixer la iniciativa de referèndum per expropiar habitatges a grans tenidors que s’ha dut a terme a Berlín on ha guanyar el Sí\, i debatre sobre com podríem dur a terme alguna cosa semblant a Barcelona (o a Catalunya). \nXerrada a càrrec d’un membre impulsor de la campanya “Deutsche Wognen & Co enteignen!” ( Expropiació de Deutsche Wognen & Co!) \nhttp://sindicatdellogateres.org/ \n 
URL:https://ateneuenciclopedicpopular.org/activitat/lexpropiacio-dels-voltors-a-berlin/
CATEGORIES:Presentació
ATTACH;FMTTYPE=image/jpeg:https://ateneuenciclopedicpopular.org/wp-content/uploads/2021/10/Berlin-sindicatlloguer.jpg
END:VEVENT
END:VCALENDAR