BEGIN:VCALENDAR
VERSION:2.0
PRODID:-//Ateneu Enciclopèdic Popular - ECPv6.0.13.1//NONSGML v1.0//EN
CALSCALE:GREGORIAN
METHOD:PUBLISH
X-WR-CALNAME:Ateneu Enciclopèdic Popular
X-ORIGINAL-URL:https://ateneuenciclopedicpopular.org
X-WR-CALDESC:Esdeveniments per Ateneu Enciclopèdic Popular
REFRESH-INTERVAL;VALUE=DURATION:PT1H
X-Robots-Tag:noindex
X-PUBLISHED-TTL:PT1H
BEGIN:VTIMEZONE
TZID:UTC
BEGIN:STANDARD
TZOFFSETFROM:+0000
TZOFFSETTO:+0000
TZNAME:UTC
DTSTART:20210101T000000
END:STANDARD
END:VTIMEZONE
BEGIN:VEVENT
DTSTART;TZID=UTC:20211102T183000
DTEND;TZID=UTC:20211125T210000
DTSTAMP:20260420T171428
CREATED:20210729T190424Z
LAST-MODIFIED:20211020T095802Z
UID:4886-1635877800-1637874000@ateneuenciclopedicpopular.org
SUMMARY:Exposició sobre la vida i obra d'Antoni Téllez Solà
DESCRIPTION:Exposició de fotografies de guerrillers recopilades per l’autor i de llibres publicats per Antoni Téllez. \nEn el mateix àmbit de l’Exposició\, en commemoració del centenari del seu naixement\, es durà a terme una xerrada sobre la seva vida i obra el 6 de novembre.
URL:https://ateneuenciclopedicpopular.org/activitat/exposicio-sobre-la-vida-i-obra-dantoni-tellez-sola/
LOCATION:Sala Margarita Xirgu
CATEGORIES:Exposició
ATTACH;FMTTYPE=image/jpeg:https://ateneuenciclopedicpopular.org/wp-content/uploads/2021/07/44_Facerias-catala_web-1.jpg
END:VEVENT
BEGIN:VEVENT
DTSTART;TZID=UTC:20211104T190000
DTEND;TZID=UTC:20211104T210000
DTSTAMP:20260420T171428
CREATED:20211025T150634Z
LAST-MODIFIED:20211026T114542Z
UID:5254-1636052400-1636059600@ateneuenciclopedicpopular.org
SUMMARY:Presentació del llibre Puerta a ningún sitio
DESCRIPTION:Presentació del llibre: “Puerta a ningún sitio”. \nLa recuperació de la identitat de Cristina Fernández Pereira\, una de les dones afusellades en el camp de la Bota. Originària de Villasinde (el Bierzo\, Lleó)\, migrant i portera al carrer Tamarit. Una recuperació en clau memòria històrica. \nVeritat\, Memòria\, Justícia i Reparació.
URL:https://ateneuenciclopedicpopular.org/activitat/presentacio-del-llibre-puerta-a-ningun-sitio/
LOCATION:Sala Margarita Xirgu
CATEGORIES:Presentacions de llibres
ATTACH;FMTTYPE=image/jpeg:https://ateneuenciclopedicpopular.org/wp-content/uploads/2021/10/Prueba-Cartel-4_Web.jpg
END:VEVENT
BEGIN:VEVENT
DTSTART;TZID=UTC:20211106T190000
DTEND;TZID=UTC:20211106T210000
DTSTAMP:20260420T171428
CREATED:20210729T185329Z
LAST-MODIFIED:20211020T084049Z
UID:4882-1636225200-1636232400@ateneuenciclopedicpopular.org
SUMMARY:Homenatge a Antoni Téllez Solà\, en el centenari del seu naixement
DESCRIPTION:Xerrada\, amb la participació d’Harmonía Olga Pérez Barberán\, Tomàs Ibáñez i Ricard de Vargas\, per a donar a conèixer la personalitat d’Antoni Téllez i les seves  publicacions sobre resistència llibertària. \nL’homenatge també consta d’una exposició\, de fotografies de guerrillers recollides per l’autor i dels llibres publicats per Téllez\, Serà des de l’1 fins al 15 de novembre. \nAquí teniu un esbós biogràfic dels companys d’Estel Negre \nhttp://www.estelnegre.org/documents/tellez/tellez.html
URL:https://ateneuenciclopedicpopular.org/activitat/homenatge-a-antoni-tellez-sola-en-el-centenari-del-seu-naixement/
LOCATION:Sala Margarita Xirgu
CATEGORIES:Presentació
ATTACH;FMTTYPE=image/jpeg:https://ateneuenciclopedicpopular.org/wp-content/uploads/2021/07/44_Facerias-catala_web-1.jpg
END:VEVENT
BEGIN:VEVENT
DTSTART;TZID=UTC:20211109T190000
DTEND;TZID=UTC:20211109T210000
DTSTAMP:20260420T171428
CREATED:20211018T101151Z
LAST-MODIFIED:20211018T101151Z
UID:5223-1636484400-1636491600@ateneuenciclopedicpopular.org
SUMMARY:Cine Club a l'Ateneu: Themroc\, el cavernícola urbano
DESCRIPTION:Iniciem\, amb aquest film de Claude Faraldo\, les sessions mensuals de Cine Club de l’Ateneu Enciclopèdic Popular. \nCine Club… gaudir del cinema i fer servir el cinema per parlar\, reflexionar i debatre d’aspectes de la vida i la societat actuals. \nA la ressenya de la Filmoteca de Catalunya\, diu el següent sobre el film: \n\nUn treballador d’una fàbrica\, fart de la seva rutina d’obrer que l’anul·la com a persona\, decideix practicar els hàbits del període quaternari i comportar-se com un cavernícola. Dona via lliure als seus instints més primitius i practica el canibalisme i l’incest\, converteix el seu pis de París en una cova… \n\n\nUn film sense diàlegs\, amb rerefons filosòfic i antropològic\, que mostra de manera impactant la deshumanització de la civilització retratant de manera implacablement crítica alguns dels pilars bàsics que sostenen la nostra societat com són la família o qualsevol manifestació d’autoritat. \nUs hi esperem!
URL:https://ateneuenciclopedicpopular.org/activitat/cine-club-a-lateneu-themroc-el-cavernicola-urbano/
LOCATION:Sala Margarita Xirgu
CATEGORIES:Cine Club
ATTACH;FMTTYPE=application/pdf:https://ateneuenciclopedicpopular.org/wp-content/uploads/2021/10/Cartel-ultim-THEMROC.pdf
END:VEVENT
BEGIN:VEVENT
DTSTART;TZID=UTC:20211113T190000
DTEND;TZID=UTC:20211113T210000
DTSTAMP:20260420T171428
CREATED:20211022T124806Z
LAST-MODIFIED:20211105T154513Z
UID:5247-1636830000-1636837200@ateneuenciclopedicpopular.org
SUMMARY:TÉCNICAS HUMILDES PARA EL SIGLO DE LA GRAN PRUEBA
DESCRIPTION:Adrián Almazán presentarà el seu llibre Técnica y tecnología: Cómo conversar con un tecnolófilo (Taugenit\, 2021). La presentació anirà seguida d’un debat on podrem discutir amb l’autor les idees d’un llibre que gira al voltant de quatre mites sobre la tecnologia: 1) “sempre hi ha hagut tecnologia i sempre n’hi haurà” 2) “el progrés és imparable” 3) “la tecnologia és neutral\, tot depèn de l’ús que se’n faci” i 4) “només la tecnologia pot solucionar els problemes causats per la tecnologia”. Almazán diferencia entre “tècnica” i “tecnologia” i fa una crítica d’aquesta última com a producte de la modernitat capitalista\, que dóna eines per superar visions “tecnolòfiles” simplistes i entendre millor el paper de la materialitat en la dominació. \nAdrián Almazán és doctor en Filosofia. Va llicenciar-se en Física a la Universidad Autónoma de Madrid\, alternant la seva formació científica amb la militància en diversos col·lectius llibertaris\, espais on va adquirir una formació poliètica col·lectiva i autònoma i va entrar en contacte per primera vegada amb la crítica al progrés i la tecnologia. A partir de 2014 va embarcar-se en la formació acadèmica en filosofia de la mà de Jorge Riechmann\, amb qui va cursar el Máster en Crítica y Argumentación Filosófica i va doctorar-se en Filosofia l’any 2018. Aquest període coincideix amb la seva participació en el col·lectiu editorial d’Ediciones el Salmón\, col·lectiu responsable de la publicació de la revista Cul de Sac. Després de tancar aquesta etapa\, centra la seva militància a Ecologistas en Acción\, on és un dels coordinadors de l’Àrea de Digitalització i CEM\, i en el col·lectiu La Torna. Actualment és membre d’Ecologistak Martxan. Almazán ha participat en diversos llibres col·lectius\, com Ecosocialismo descalzo\, i ha publicat desenes d’articles sobre la relació entre tecnologia i política des d’una perspectiva ecosocial\, així com sobre la nova ruralitat com a alternativa civilitzatòria. Publica regularment a diaris virtuals com CTXT\, ElDiario o 15/15/15. \n…
URL:https://ateneuenciclopedicpopular.org/activitat/presentacio-llibre-tecnica-y-tecnologia-como-conversar-con-un-tecnofilo/
LOCATION:Sala Margarita Xirgu
CATEGORIES:Presentacions de llibres
ATTACH;FMTTYPE=image/jpeg:https://ateneuenciclopedicpopular.org/wp-content/uploads/2021/10/ADRIAN-ALMAZAN.jpg
END:VEVENT
BEGIN:VEVENT
DTSTART;TZID=UTC:20211118T184500
DTEND;TZID=UTC:20211118T210000
DTSTAMP:20260420T171428
CREATED:20211111T172556Z
LAST-MODIFIED:20211111T172803Z
UID:5341-1637261100-1637269200@ateneuenciclopedicpopular.org
SUMMARY:Acte-debat sobre l’escolta\, la presencialitat i la derivació en persones amb malestar emocional a l’Atenció Primària de Salut. Parlem-ne.
DESCRIPTION:La inscripció és gratuïta i la podeu fer en https://focap.wordpress.com/2021/10/29/18-11-2021-acte-debat-sobre-lescolta-la-presencialitat-i-la-derivacio-en-persones-amb-malestar-emocional-a-laps-parlem-ne/ \nEl patiment emocional és freqüent en les persones que acudeixen a les consultes d’atenció primària de salut (APS)\, tot i que és habitual que la complexitat i la incertesa vital i clínica facin que allò bio-psico-social quedi entrellaçat en una troca difícil de separar. A les nostres consultes\, a causa de l’experiència de la pandèmia COVID que vivim des del passat març del 2020 i les implicacions en els diferents àmbits de les vides de les persones\, es percep un increment aquests patiments i de la demanda d’ajuda psicològica. Aquest fet coincideix amb la implantació\, per part del CatSalut\, del “Programa de benestar emocional i Salut Comunitària a l’APS i comunitària”\, i de l’arribada\, que ja s’està produint\, de psicòlegs i altres perfils professionals (anomenats referents de benestar emocional) a les àrees bàsiques de salut amb adscripció als equips d’atenció primària (EAP) per dur a terme una tasca de suport en l’àmbit comunitari.  \nEl Fòrum Català d’Atenció Primària (FoCAP)\, l’any passat\, va donar a conèixer un document en el qual es reflexionava sobre els diferents models de treball conjunt d’APS i Salut Mental (SM) plantejant una reflexió més enllà del debat basat en la dicotomia professionals de psicologia sí/no en els EAP. És un document a través del qual es presenta un marc teòric per aquesta relació revisant l’evidència disponible dels diferents models d’atenció (model col·laboratiu vs. model substitutiu o model formatiu\, el valor de la presencialitat\, l’escolta\, la longitudinalitat i el vincle en l’atenció a les persones) i que considerem continua vigent encara que la concreció de la seva aplicació correspongui a la valoració de cada lloc i al moment que vivim actualment. \nEl FoCAP\, l’Associació Espanyola de Neuropsiquiatria (AEN Catalunya) i la Fundació Congrés Català de Salut Mental (FCCSM) proposem un acte-debat\, tenint com a punt de partida aquest document\, per reflexionar sobre l’escolta\, la presencialitat i la derivació en persones amb malestar emocional. L’acte tindrà lloc el pròxim dia 18 de novembre 2021 a l’Ateneu Enciclopèdic del Raval de 18.45h. a 21h. Comptarem amb la participació de professionals d’APS\, de SM i ciutadania (representada per la Federació d’Associacions Veïnals de Barcelona)\, a qui s’ha proposat un primer diàleg a partir de les següents preguntes:  \nConsiderant l’escolta com una de les principals habilitats i una tasca activa en l’atenció i vincle assistencial\, quina diferència hi ha en el fet d’escoltar del/la professional sanitari?\nQuè és el que ell/ella escolta\, que és molt important\, tal vegada complex\, però no convé dur-ho al/la psicòleg/a?\nPel que fa a les derivacions a salut mental\, sempre és delicat el moment del canvi de professional. Com l’acompanya el/la professional de la salut?\nI\, per altra banda\, ha canviat el tipus de derivació després de la pandèmia?  \nA continuació\, s’obrirà el debat a les persones assistents que esperem que sigui molt enriquidor. Desitgem que l’acte sigui d’interès per a professionals i també per a les persones que treballen des de les comunitats per una millor comprensió del patiment emocional i una millor atenció sanitària.
URL:https://ateneuenciclopedicpopular.org/activitat/acte-debat-sobre-lescolta-la-presencialitat-i-la-derivacio-en-persones-amb-malestar-emocional-a-latencio-primaria-de-salut-parlem-ne/
LOCATION:Sala Margarita Xirgu
CATEGORIES:Debat
ATTACH;FMTTYPE=image/jpeg:https://ateneuenciclopedicpopular.org/wp-content/uploads/2021/11/cartell18-10-212-scaled.jpeg
END:VEVENT
BEGIN:VEVENT
DTSTART;TZID=UTC:20211121T120000
DTEND;TZID=UTC:20211121T130000
DTSTAMP:20260420T171428
CREATED:20211116T163423Z
LAST-MODIFIED:20211116T163742Z
UID:5385-1637496000-1637499600@ateneuenciclopedicpopular.org
SUMMARY:Acte d'homenatge a Durruti en els 85 anys de la seva mort
DESCRIPTION:Benvolguts/des companys/es: \nDes de fa ja molts anys\, l’impuls per la memòria i l’amor per les idees d’unes dones extraordinàries han convocat a anarconsindicalistes\, anarquistes i llibertaris a commemorar la mort de Durruti al cementiri de Montjuïc. Però el temps passa i moltes ja ens han deixat. Així doncs\, ens volem convertir en un suport a l’organitzadora essencial\, l’Antonina Rodrigo i\, en col·laboració us convoquem a l’acte que tindrà lloc el proper DIUMENGE 21 de novembre a les 12 hores junt a la tomba del nostre company. \nÉs Durruti\, però també és un símbol de la resta dels que van lluitar i van patir per la llibertat i la Revolució. Us hi esperem!!! \n 
URL:https://ateneuenciclopedicpopular.org/activitat/acte-dhomenatge-a-durruti-en-els-85-anys-de-la-seva-mort/
LOCATION:Cementiri de MontjuIc\, Mare de Déu de Port\, 56\, Barcelona
CATEGORIES:Aniversari
ATTACH;FMTTYPE=image/jpeg:https://ateneuenciclopedicpopular.org/wp-content/uploads/2021/11/Durruti.jpg
END:VEVENT
BEGIN:VEVENT
DTSTART;TZID=UTC:20211122T190000
DTEND;TZID=UTC:20211122T210000
DTSTAMP:20260420T171428
CREATED:20211116T130507Z
LAST-MODIFIED:20211116T130507Z
UID:5387-1637607600-1637614800@ateneuenciclopedicpopular.org
SUMMARY:
DESCRIPTION:3a Sessió del Taller d’Història d’Ateneisme\, amb el títol “Ateneu Enciclopèdic”\ndilluns 22 de novembre a l’aula Ada Martí. Inscripcions a ateneuenciclopedic@gmail.com  fins el 21 de novembre\, deixant les dades per poder-nos comunicar amb vosaltres. \nL’objectiu del Taller és conèixer una mica millor com eren els ateneus el primer terç del segle XX\, despertar la curiositat pel coneixement i interrelacionar-nos. En aquesta sessió i la propera aprofundirem en el coneixement de la nostra pròpia història\, des del moment del naixement el 1902 fins avui. \nPerquè aquest taller?\nLa Secció d’Història de l’Ateneu Enciclopèdic\nTornar a impulsar una secció com la d’Història és al meu criteri importantíssim per la salut de l’Ateneu Enciclopèdic i del Centre de Documentació Històric Social (CDHS)\, i no solament això sinó també obrir el ventall que ens permet tenir la possibilitat d’escoltar altres veus\, sempre molt escaients i interessants\, però sobretot\, instructives. \nLa Secció d’Història sempre s’ha caracteritzat per la seva vinculació a la nostra Biblioteca Hemeroteca arxiu CDHS\, amb la qual en temps passats va arribar a editar nombroses publicacions\, sola o en coedició editorial\, i quasi totes relacionades amb el moviment obrer i la seva vessant llibertària. Segur què ja tindrem ocasió de comprovar totes aquelles il·lusions impreses i passades i retornar a actualitzar el que calgui. \nTambé són importants les nombroses exposicions itinerants que hem arribat a dissenyar\, i que en el seu dia van fer uns recorreguts importants per tota la geografia espanyola i part d’Europa\, aquestes exposicions portaven les temàtiques de “L’Escola Moderna i Francesc Ferrer i Guàrdia”\, passant per “Salvador Puig Antic i el Mil” (que ha hagut de refer-se en més d’una ocasió)\, o “L’Efervescència social dels anys vint\, Barcelona 1917- 1923”\, o el mateix de la “Premsa llibertària de clandestinitat 1939-1975”\, o aquella que recorda “Els anys de l’Ateneu Enciclopèdic” sempre compta’n amb la documentació sorgida del CDHS\, altres exposicions\, etc. \nAixí com la Revista “Enciclopèdic”\, que de moment ha arribat fins el numero 43 i que guarda relació amb totes les persones que convoquen al mateix CDHS-AEP\, ara potser toca refermar un nou equip d’edició de l’Enciclopèdic que reculli bona part del que passa al nostre entorn. \nSegur que ha arribat el moment de posar en valor de nou\, aquest vell projecte i adaptar-lo a les noves circumstàncies\, tant de l’Ateneu Enciclopèdic com de les persones què puguin estar interessades en aquesta nova aventura\, en ple segle XXI. Per això obrim aquest ventall\, perquè les persones encuriosides per la història puguin acompanyar-nos en la nova aventura\, i aquelles que\, d’una manera o altra vulguin ser-ne partícips\, no dubtin en col·laborar. Obrir el ventall a la investigació\, o bé a la col·laboració amb el CDHS\, participar en Tallers d’estudi com per exemple: “L’Autogestió”\, “Municipalisme”\, “Cooperativisme”\, “l’autoorganització”\, etc. Per això res millor que recuperar la Secció d’Història de l’Ateneu amb totes les iniciatives de memòria que avui dia apareixen al nostre voltant. \nI per acabar\, deixar un apunt per la secció Literària\, no ens oblidem d’ella\, perquè en qualsevol moment serà qüestió de recuperar-la\, amb altres referents si és necessari. \n(Reflexió de Manel Aisa Pàmpols\, membre de la Secció d’Història de l’Ateneu Enciclopèdic Popular i conductor del taller) \nProperes sessions del Taller: \n29.11.2021 – 19 a 20: 4a sessió: Ateneu Enciclopèdic \n30.11.2021 – 19 a 20: 5a sessió: Ateneus Llibertaris (Joventuts Llibertàries) \n13.12.2121 – 19 a 20: 6a sessió: Ateneus Llibertaris (Joventuts Llibertàries) \n14.12.2021 – 19 a 20: 7a sessió: Ateneus\, Ateneus Esperantistes \nProbablement les dues primeres sessions s’hauran d’estendre i el taller també\, arribant als Ateneus Llibertaris del anys 1970. \n  \n 
URL:https://ateneuenciclopedicpopular.org/activitat/5387/
ATTACH;FMTTYPE=image/jpeg:https://ateneuenciclopedicpopular.org/wp-content/uploads/2021/10/SKM_224e21062912150.jpg
END:VEVENT
BEGIN:VEVENT
DTSTART;TZID=UTC:20211123T184500
DTEND;TZID=UTC:20211123T210000
DTSTAMP:20260420T171428
CREATED:20211112T113241Z
LAST-MODIFIED:20211112T113241Z
UID:5350-1637693100-1637701200@ateneuenciclopedicpopular.org
SUMMARY:Cine Fòrum a l'Ateneu: La dictadura perfecta
DESCRIPTION:Segona Sessió del Cine Fòrum de l’Ateneu Enciclopèdic Popular. \nCine Fòrum… gaudir del cinema i fer servir el cinema per parlar\, reflexionar i debatre d’aspectes de la vida i la societat actuals. \nLa dictadura perfecta és una pel·lícula del director mexicà Luis Estrada\, estrenada el 2014 \nEn to de sàtira\, el film explica que\, una cadena de televisió intenta desviar l’atenció d’un error comés pel president de la república emetent un vidéo que involucra en alguns crims a un altre polític\, el governador Carmelo Vargas i com aquest decideix negociar amb la cadena per a canviar la seva imatge i convertir-se en una estrella política. \nUs hi esperem! El 23 de novembre a les 18’45 hores
URL:https://ateneuenciclopedicpopular.org/activitat/cine-forum-a-lateneu-la-dictadura-perfecta/
LOCATION:Sala Margarita Xirgu
CATEGORIES:Cine Club
ATTACH;FMTTYPE=image/jpeg:https://ateneuenciclopedicpopular.org/wp-content/uploads/2021/11/La-dictadura-perfecta_2.jpg
END:VEVENT
BEGIN:VEVENT
DTSTART;TZID=UTC:20211125T190000
DTEND;TZID=UTC:20211125T210000
DTSTAMP:20260420T171428
CREATED:20210729T183009Z
LAST-MODIFIED:20211105T094557Z
UID:4853-1637866800-1637874000@ateneuenciclopedicpopular.org
SUMMARY:Presentació de la col·lecció "Històries del Raval"
DESCRIPTION:Us presentem una col·lecció  editada per l’Associació Cultural “El Lokal” del Raval\, i que ja ha arribat als 12 títols publicats\, per tal de donar a conèixer l’origen\, els títols i les investigacions que l’han fet realitat\, i que té com a finalitat recuperar la història oblidada de la gent del barri que varen fer possible escoles racionalistes\, espais culturals\, sindicats obrers\, publicacions… i que varen lluitar per un món més just i solidari. \nDarrer títol: Josep Barceló i El Robatori de Sant Jaume \n(Comptarem amb la presència d’alguns dels seus autors i autores)
URL:https://ateneuenciclopedicpopular.org/activitat/presentacio-de-la-colleccio-histories-del-raval/
LOCATION:Sala Margarita Xirgu
CATEGORIES:Presentacions de llibres
ATTACH;FMTTYPE=application/pdf:https://ateneuenciclopedicpopular.org/wp-content/uploads/2021/07/Cartell-col.-25.11.21.pdf
END:VEVENT
END:VCALENDAR