BEGIN:VCALENDAR
VERSION:2.0
PRODID:-//Ateneu Enciclopèdic Popular - ECPv6.0.13.1//NONSGML v1.0//EN
CALSCALE:GREGORIAN
METHOD:PUBLISH
X-ORIGINAL-URL:https://ateneuenciclopedicpopular.org
X-WR-CALDESC:Esdeveniments per Ateneu Enciclopèdic Popular
REFRESH-INTERVAL;VALUE=DURATION:PT1H
X-Robots-Tag:noindex
X-PUBLISHED-TTL:PT1H
BEGIN:VTIMEZONE
TZID:UTC
BEGIN:STANDARD
TZOFFSETFROM:+0000
TZOFFSETTO:+0000
TZNAME:UTC
DTSTART:20210101T000000
END:STANDARD
END:VTIMEZONE
BEGIN:VEVENT
DTSTART;TZID=UTC:20211210T183000
DTEND;TZID=UTC:20211210T210000
DTSTAMP:20260420T154656
CREATED:20211124T122732Z
LAST-MODIFIED:20211124T122732Z
UID:5433-1639161000-1639170000@ateneuenciclopedicpopular.org
SUMMARY:Cine -debate presentació peli: EL ESPÍRITU DEL 45
DESCRIPTION:Cine – debate presentación película: EL ESPÍRITU DEL 45. Dirigida por Ken Loach \nObjetivo de la actividad: Debatir sobre la construcción de la llamada Sociedad del Bienestar . Presencia de los partidos socialdemócratas en Inglaterra y de los sindicatos. El discurso y la política económica neoliberal asumida por éstos ¿Hubo en España una sociedad del bienestar? La pérdida de la conciencia de clase. \nThe Spirit of ’45 es un documental de 2013 del director británico Ken Loach \, que se centra y celebra los cambios radicales en la Gran Bretaña de la posguerra bajo el gobierno laborista de Clement Attlee \, que llegó al poder en 1945. Se basa principalmente en material de archivo y entrevistas\, y sin una voz en off narrativa\, la película relata la pobreza endémica en Gran Bretaña antes de la guerra\, el sentido de optimismo que siguió a la victoria en la Segunda Guerra Mundial y la posterior expansión del estado de bienestar\, fundación del Servicio Nacional de Salud y nacionalización de partes importantes de la economía del Reino Unido. La película documenta hasta qué punto estos logros\, tal como los ve Loach\, han sido objeto de ataques en las décadas siguientes\, particularmente bajo los gobiernos conservadores de Margaret Thatcher en los años ochenta. Loach dijo que el modelo de la película era “historia oral\, con imágenes”. (Wikipedia) \n(Esta sesión de cine-debate es ofrecida y conducida por el Grupo de Historia del Raval)
URL:https://ateneuenciclopedicpopular.org/activitat/cine-debate-presentacio-peli-el-espiritu-del-45/
LOCATION:Sala Margarita Xirgu
ATTACH;FMTTYPE=application/pdf:https://ateneuenciclopedicpopular.org/wp-content/uploads/2021/11/Ken-Loach.indd_.pdf
END:VEVENT
BEGIN:VEVENT
DTSTART;TZID=UTC:20211214T184500
DTEND;TZID=UTC:20211214T210000
DTSTAMP:20260420T154656
CREATED:20211203T172637Z
LAST-MODIFIED:20211203T172637Z
UID:5480-1639507500-1639515600@ateneuenciclopedicpopular.org
SUMMARY:Cine Fòrum a l'Ateneu: La ola
DESCRIPTION:Tercera Sessió del Cine Fòrum de l’Ateneu Enciclopèdic Popular. \nCine Fòrum… gaudir del cinema i fer servir el cinema per parlar\, reflexionar i debatre d’aspectes de la vida i la societat actuals. \nLa ola és una pel·lícula dirigida per Dennis Gansel el 2008 \nDurant un projecte setmanal\, el professor Rainer Wenger ensenya als estudiants de la seva classe el tema de la forma de govern. Els estudiants es mostren escèptics davant de la idea que pogués tornar una dictadura com la del III Reich a l’Alemanya dels nostres dies. El professor decideix començar un experiment amb els estudiants per demostrar com és de fàcil manipular les masses\, que fàcilment prenen el camí del totalitarisme i les conductes reaccionaries. \nBasada en un experiment real que es va dur a terme el 1967.
URL:https://ateneuenciclopedicpopular.org/activitat/cine-forum-a-lateneu-la-ola/
LOCATION:Sala Margarita Xirgu
CATEGORIES:Cine Club
ATTACH;FMTTYPE=image/jpeg:https://ateneuenciclopedicpopular.org/wp-content/uploads/2021/12/IMG-20211202-WA0002.jpg
END:VEVENT
BEGIN:VEVENT
DTSTART;TZID=UTC:20211228T184500
DTEND;TZID=UTC:20211228T210000
DTSTAMP:20260420T154656
CREATED:20211215T160700Z
LAST-MODIFIED:20211215T160815Z
UID:5516-1640717100-1640725200@ateneuenciclopedicpopular.org
SUMMARY:Cine Fòrum a l'Ateneu: Pacto de fuga
DESCRIPTION:Quarta Sessió del Cine Fòrum de l’Ateneu Enciclopèdic Popular. \nCine Fòrum… gaudir del cinema i fer servir el cinema per parlar\, reflexionar i debatre sobre aspectes de la vida i la societat actuals. \nPacto de Fuga és una pel·lícula dirigida per David Albala el 2020 \nBasada en fets reals\, el film narra la fuga de 49 presos de la cárcel pública de Santiago de Xile\, planejada i duta a terme per 24 d’ells\, que van excavar un túnel de 80 metros amb un tornavis\, amagant les tones de terra al penal. En l’any de construcció ningú va veure res. Tot plegat\, converteix la fuga en una de les més espectaculars dels darrers temps. \n 
URL:https://ateneuenciclopedicpopular.org/activitat/cine-forum-a-lateneu-pacto-de-fuga/
LOCATION:Sala Margarita Xirgu
CATEGORIES:Cine Club
ATTACH;FMTTYPE=image/jpeg:https://ateneuenciclopedicpopular.org/wp-content/uploads/2021/12/XILE.jpg
END:VEVENT
END:VCALENDAR