BEGIN:VCALENDAR
VERSION:2.0
PRODID:-//Ateneu Enciclopèdic Popular - ECPv6.0.13.1//NONSGML v1.0//EN
CALSCALE:GREGORIAN
METHOD:PUBLISH
X-ORIGINAL-URL:https://ateneuenciclopedicpopular.org
X-WR-CALDESC:Esdeveniments per Ateneu Enciclopèdic Popular
REFRESH-INTERVAL;VALUE=DURATION:PT1H
X-Robots-Tag:noindex
X-PUBLISHED-TTL:PT1H
BEGIN:VTIMEZONE
TZID:UTC
BEGIN:STANDARD
TZOFFSETFROM:+0000
TZOFFSETTO:+0000
TZNAME:UTC
DTSTART:20220101T000000
END:STANDARD
END:VTIMEZONE
BEGIN:VEVENT
DTSTART;TZID=UTC:20220111T184500
DTEND;TZID=UTC:20220111T210000
DTSTAMP:20260420T142754
CREATED:20211227T125435Z
LAST-MODIFIED:20220113T095716Z
UID:5561-1641926700-1641934800@ateneuenciclopedicpopular.org
SUMMARY:Cine Fòrum a l'Ateneu: Shortbus
DESCRIPTION:Cinquena Sessió del Cine Fòrum de l’Ateneu Enciclopèdic Popular. \nCine Fòrum… gaudir del cinema i fer servir el cinema per parlar\, reflexionar i debatre sobre aspectes de la vida i la societat actuals. \nShortbus és una pel·lícula dirigida per John Cameron Mitchell l’any 2006 \nEn el marc de la Nova York post 11-S\, amb tota la pressió reaccionaria\, alguns ciutadans es troben a un club polisexual i underground\, fora del sistema\, el Shortbus. En mode de tragicomedia\, entre l’amor i el sexe… i l’art\, un trencament de la moralina social i política. \nUs hi esperem!!!
URL:https://ateneuenciclopedicpopular.org/activitat/cine-forum-a-lateneu-shortbus/
LOCATION:Sala Margarita Xirgu
CATEGORIES:Cine Club
ATTACH;FMTTYPE=image/jpeg:https://ateneuenciclopedicpopular.org/wp-content/uploads/2021/12/Shortbus.jpg
END:VEVENT
BEGIN:VEVENT
DTSTART;TZID=UTC:20220113T190000
DTEND;TZID=UTC:20220113T210000
DTSTAMP:20260420T142754
CREATED:20211204T132759Z
LAST-MODIFIED:20211222T170036Z
UID:5496-1642100400-1642107600@ateneuenciclopedicpopular.org
SUMMARY:Presentació del llibre "Caminando por el Raval: Rutas libertarias"
DESCRIPTION:Continuando con la historia del barrio del Raval\, la de sus resistencias\, sus espacios culturales y sus gentes\, presentamos el Nº 13 de nuestra colección Caminando por el Raval: Rutas libertarias . Se trata de una sugerencia de rutas para reconocer el lugar donde tuvieron lugar hechos que han construido nuestra historia\, algunos ya olvidados y que es nuestra intención recuperar.
URL:https://ateneuenciclopedicpopular.org/activitat/presentacio-del-llibre-caminando-por-el-raval-rutas-libertarias/
LOCATION:Sala Margarita Xirgu
CATEGORIES:Presentacions de llibres
ATTACH;FMTTYPE=application/pdf:https://ateneuenciclopedicpopular.org/wp-content/uploads/2021/12/Cartell-13.01.2022.pdf
END:VEVENT
BEGIN:VEVENT
DTSTART;TZID=UTC:20220117T190000
DTEND;TZID=UTC:20220117T210000
DTSTAMP:20260420T142754
CREATED:20220110T132545Z
LAST-MODIFIED:20220110T132545Z
UID:5617-1642446000-1642453200@ateneuenciclopedicpopular.org
SUMMARY:130 años de historia del anarquismo en la región chilena: del movimiento obrero a la actualidad
DESCRIPTION:Desde el inicio de la revuelta del 18 de octubre en Chile\, han proliferado las banderas negras en las calles\, se han masificado las asambleas y las agrupaciones reunidas bajo los principios de Acción Directa\, apoyo Mutuo y solidaridad. Algunos piensan que lxs anarquistas son nuevos grupos que han saltado al escenario de las luchas sociales en este país\, pero se equivocan\, pues actualmente se están cumpliendo 130 años de presencia libertaria en Chile\, y es conveniente conocer un poco de su recorrido\, desde el movimiento obrero\, pasando por las contraculturas\, hasta sus posibilidades en el presente. \nDan la conferencia dos miembros del Archivo Histórico La Revuelta\, Santiago de Chile.
URL:https://ateneuenciclopedicpopular.org/activitat/130-anos-de-historia-del-anarquismo-en-la-region-chilena-del-movimiento-obrero-a-la-actualidad/
LOCATION:Sala Margarita Xirgu
CATEGORIES:Conferència
ATTACH;FMTTYPE=image/jpeg:https://ateneuenciclopedicpopular.org/wp-content/uploads/2022/01/Xile.jpg
END:VEVENT
BEGIN:VEVENT
DTSTART;TZID=UTC:20220120T184500
DTEND;TZID=UTC:20220120T210000
DTSTAMP:20260420T142754
CREATED:20211130T171158Z
LAST-MODIFIED:20211227T120514Z
UID:5446-1642704300-1642712400@ateneuenciclopedicpopular.org
SUMMARY:Taula Rodona: Els ateneus llibertaris en temps de la transacció\, a propòsit del llibre de Xavier Oller "Nosaltres no vàrem pactar"
DESCRIPTION:Nosaltres no vàrem pactar. La transició a peu de carrer\n\n\n\n\n\n\n\nTaula Rodona. Els ateneus llibertaris en temps de la transacció\, a propòsit del llibre de X Oller “Nosaltres no vàrem pactar“ \nEls ateneus llibertaris sota la transacció foren uns espais de llibertat en el que encara no es tenia clar el que es volia fer\, però es tenia clar que es necessitava interrelacionar amb aquells que volien d’alguna manera gaudir de la llibertat del moment. \nI de la recerca de descobrir el que havia estat allò que ens explicaven els avis de la Barcelona revolucionaria\, per això aquella pintada d’« Abuelo ya estamos aqui». \nLes ganes de canviar les coses i de participar en aquell projecte va fer que molts joves s’agrupessin en els ateneus llibertaris i en grups afins que buscaven d’alguna manera alliberar-se d’un bon grapat de perjudicis que durant el franquisme estaven ben visibles o inclús alguns de soterrats.\nAquests joves d’alguna manera establiren una dinamització d’una part de la societat\, aquella que realment volia canviar el món. \nPer això la gran majoria dels ateneistes es multiplicaren i foren la base d’una ressorgida CNT que aleshores agrupava a tot el moviment llibertari.\nEsperem que el debat entorn del llibre de Xavier Oller «Nosaltres no Vàrem pactar» sigui enriquidor per a totes.\nContarem en el debat a destacats militants dels ateneus d’aquells anys com José Pérez Albalate\, Charli\, Manel Aisa \, Xavi Oller autor del llibre. \norganitza Secció d’Història de l’Ateneu Enciclopèdic/CDHS \nUs hi esperem
URL:https://ateneuenciclopedicpopular.org/activitat/taula-rodona-sobre-la-transicio-a-peu-de-carrer-seguint-les-petjades-del-llibre-editat-recentment-de-xavier-oller-nosaltres-no-varem-pactar/
LOCATION:Sala Margarita Xirgu
ATTACH;FMTTYPE=image/jpeg:https://ateneuenciclopedicpopular.org/wp-content/uploads/2021/11/Cartell-Xavi-Oller.jpg
END:VEVENT
BEGIN:VEVENT
DTSTART;TZID=UTC:20220121T193000
DTEND;TZID=UTC:20220121T210000
DTSTAMP:20260420T142754
CREATED:20220112T101403Z
LAST-MODIFIED:20220112T101403Z
UID:5627-1642793400-1642798800@ateneuenciclopedicpopular.org
SUMMARY:Presentació llibre: Les aventures de la Nona per la seva autora Montserrat Puig Garrido
DESCRIPTION:A la presentació s’afegiran “pasmoses” activitats\nL’obra\nLa Nona és una nena de nou anys a qui li encanten els llibres. De la seva imaginació sorgeix aquesta aventura on la solidaritat\, l’ecologia\, el treball laboriós\, la inclusió\, la raó\, el seny i sobretot l’amistat son la base d’una vida lliure a Autonomia. Però en Monadi\, rei d’Argirocràcia està vigilant per raptar i portar al seu país les persones  lliures per esclavitzar-les. Aconseguiran les nostres amigues alliberar la Nona d’un país on els diners són més lliures que les persones?\nL’autora\nMontserrat Puig Garrido. Pedagoga\, mim\, pallassa\, animadora multi-instrumental\, actriu\, activista al barri de Sants de fa força anys\, que es guanya les garrofes fent de monitora d’extraescolars. Resilient des de 1978. A les xarxes @Txetake\, com el seu clown. Amb el Col·lectiu Negres Tempestes\, van traduir al català Les aventures d’en Nono l’any 2009. Ara la Montse s’atreveix a feminitzar el text de Jean Grave i a actualitzar-ne la trama i el paisatge. Amb això ha aconseguit el premi Descontrol del 2020 que teniu entre les mans. Que gaudiu de la lectura.\nLes il·lustradores\nJúlia Edo Serrano\n@ju.ju.graphic.design\nNúria Mateu Sagués\n@dibujandoentredudas\nIrene Jerez i Bernet\n@irene.jerez.bernet
URL:https://ateneuenciclopedicpopular.org/activitat/presentacio-llibre-les-aventures-de-la-nona-per-la-seva-autora-montserrat-puig-garrido/
LOCATION:Sala Margarita Xirgu
CATEGORIES:Presentacions de llibres
ATTACH;FMTTYPE=image/jpeg:https://ateneuenciclopedicpopular.org/wp-content/uploads/2022/01/Nona.jpg
END:VEVENT
BEGIN:VEVENT
DTSTART;TZID=UTC:20220125T184500
DTEND;TZID=UTC:20220125T210000
DTSTAMP:20260420T142754
CREATED:20220113T100926Z
LAST-MODIFIED:20220113T100926Z
UID:5631-1643136300-1643144400@ateneuenciclopedicpopular.org
SUMMARY:Cine Fòrum a l'Ateneu: Brutos\, sucios y malos
DESCRIPTION:Sisena Sessió del Cine Fòrum de l’Ateneu Enciclopèdic Popular. \nCine Fòrum… gaudir del cinema i fer servir el cinema per parlar\, reflexionar i debatre sobre aspectes de la vida i la societat actuals. \nBrutos\, sucios y malos és una pel·lícula dirigida per Ettore Escola el 1976 \nUna familia nombrosa d’immigrant viu de forma mísera a la periferia de Roma. Al patriarca\, una asseguradora li ha lliurat un milió de lires per la perdua d’un ull. I el seu objectiu\, des d’aquell moment és allunyar els diners dels seus cobdiciosos familiars. Una lluita dins una familia on tots són extremadament egoïstes.
URL:https://ateneuenciclopedicpopular.org/activitat/cine-forum-a-lateneu-brutos-sucios-y-malos/
LOCATION:Sala Margarita Xirgu
CATEGORIES:Cine Club
ATTACH;FMTTYPE=image/jpeg:https://ateneuenciclopedicpopular.org/wp-content/uploads/2022/01/Brutos.jpg
END:VEVENT
BEGIN:VEVENT
DTSTART;TZID=UTC:20220127T183000
DTEND;TZID=UTC:20220127T210000
DTSTAMP:20260420T142754
CREATED:20211204T122943Z
LAST-MODIFIED:20220118T143848Z
UID:5493-1643308200-1643317200@ateneuenciclopedicpopular.org
SUMMARY:Presentació dels llibres "Fotografia i Revolució Social" i "Utòpica Tinta"
DESCRIPTION:PRESENTACIÓ DELS LLIBRES I DEL PROJECTE DE recuperació de la Gràfica Obrera i Anarquista\, AMB ELS INVESTIGADORS D’OVQ I DOS IL·LUSTRADORS CONTEMPORANIS -ROGER PELÀEZ I ROC BLACKBLOCK- QUE PORTEN EL TEMA AL PRESENT… I AL FUTUR\nGràfica anarquista. Fotografia i revolució social. 1936-1939\n\n\n\n\nEn temps de revolució els protagonismes canvien. Després del 19 de juliol de 1936\, havent aturat el cop d’estat feixista a Barcelona\, va arribar el moment del moviment llibertari\, articulat al voltant de la Confederació Nacional del Treball (CNT) i la Federació Anarquista Ibèrica (FAI). Gran part de l’economia va ser col·lectivitzada\, i aquesta col·lectivització va proporcionar als anarcosindicalistes els mitjans necessaris per a introduir la fotografia en els circuits editorials i propagandístics revolucionaris. Situada en la seu expropiada del Foment del Treball Nacional\, a la Via Durruti (actual Via Laietana)\, la Oficina de Información y Propaganda confederal va crear un arxiu fotogràfic de la revolució social\, fruit de la pràctica fotogràfica amateur d’alguns afiliats i dels encàrrecs a professionals\, com ara Kati Horna\, Margaret Michaelis\, Antoni Campañá o els Pérez se Rozas.\nLa derrota en la guerra va provocar que el 1939 una gran part d’aquell valuós fons documental fos tret a corre cuita de Barcelona i acabés\, després d’un atzarós periple per Europa\, a l’Institut Internacional d’Història Social d’Amsterdam\, a on actualment es troba dipositat.\nL’Arxiu Fotogràfic de Barcelona també conserva algunes d’aquelles fotografies. Ara\, quasi un segle després\, aquesta exposició ressegueix el rastre de l’arxiu revolucionari i redescobreix unes imatges\, la majoria inèdites\, que havien quedat en els llimbs de la desmemòria. Redimides de l’oblit\, aquestes fotografies afegeixen complexitat al relat històric de Barcelona a través de la força de la mirada obrera\, combativa i compromesa de l’anarcosindicalisme.\nAutors: Andrés Antebi\, Pablo González\, Teresa Ferré\, Roger Adam \n\n\n\n\n\n\n\n\n\nGràfica anarquista. Utòpica tinta 1931-1939\n\n\n\n\nDurant els anys de la Guerra Civil espanyola\, un grup de dibuixants van agafar el llapis per construir un món nou sorgit de l’ideal llibertari. Pel camí van lluitar contra el feixisme i el capitalisme\, van criticar la república i van posar el seu art al servei de la guerra. Silenciats i reprimits per la dictadura\, oblidats en democràcia\, renaixen ara de la tinta i el paper per reflexionar el present i mirar el futur. Es recullen il·lustracions i dibuixos d’Acín\, Shum\, Helios Gómez\, Monleón\, Grapa\, Cochet\, Boy\, Gumsay\, Carmona\, Sim\, Toni Vidal\, Les\, Lamolla\, Lobo\, Esbelt\, Niu\, KDNA o Badia Vilató. El llibre\, centrat en la il·lustració llibertària\, és el segon volum fruit del projecte d’investigació «Gràfica Anarquista» de l’Observatori de la Vida Quotidiana i que complementa l’anterior publicació Fotografia i Revolució Social (1936-1939).
URL:https://ateneuenciclopedicpopular.org/activitat/presentacio-dels-llibres-fotografia-i-revolucio-social-i-utopica-tinta/
LOCATION:Sala Margarita Xirgu
CATEGORIES:Presentacions de llibres
ATTACH;FMTTYPE=image/jpeg:https://ateneuenciclopedicpopular.org/wp-content/uploads/2021/12/Grafica-Obrera.jpg
END:VEVENT
BEGIN:VEVENT
DTSTART;TZID=UTC:20220131T184500
DTEND;TZID=UTC:20220131T210000
DTSTAMP:20260420T142754
CREATED:20211202T113600Z
LAST-MODIFIED:20211227T133936Z
UID:5475-1643654700-1643662800@ateneuenciclopedicpopular.org
SUMMARY:Taula rodona: 45 aniversari de la detenció del Comité Nacional i Regional de la FAI a Barcelona el 30 de gener de 1977
DESCRIPTION:Taula rodona: 45 Aniversari de la detenció del Comité Nacional i Regional de la FAI a Barcelona 30 de gener de 1977\n\n\nEl 31 de gener del 1977 el gabinet de premsa de la Prefectura de la Polícia informava de la detenció de cinquanta (sic) membres de la FAI membre celebraven una conferència peninsular. Entre els detinguts\, les procedències eren diverses\, de l’Estat i de l’estranger\, deien. \nVan dir que\, en registres efectuats als detinguts\, havien trobat quatre quilos de trilita\, metxes\, detonadors i perilloses impremtilles. \nA la Taula Rodona\, presentada per Manel Aisa i Eliseu Argenté a la que també hi assistiran alguns companys detinguts i torrturats en tal ocasió\, parlarem d’aquest esdeveniment de la modèlica Transacció. \n 
URL:https://ateneuenciclopedicpopular.org/activitat/taula-rodona-dels-45-anys-de-la-detencio-del-comite-nacional-i-regional-de-la-fai-a-barcelona-el-30-de-gener-de-1977/
LOCATION:Sala Margarita Xirgu
CATEGORIES:Taula rodona
ATTACH;FMTTYPE=image/jpeg:https://ateneuenciclopedicpopular.org/wp-content/uploads/2021/12/IMG-20211226-WA0005.jpg
END:VEVENT
END:VCALENDAR