BEGIN:VCALENDAR
VERSION:2.0
PRODID:-//Ateneu Enciclopèdic Popular - ECPv6.0.13.1//NONSGML v1.0//EN
CALSCALE:GREGORIAN
METHOD:PUBLISH
X-ORIGINAL-URL:https://ateneuenciclopedicpopular.org
X-WR-CALDESC:Esdeveniments per Ateneu Enciclopèdic Popular
REFRESH-INTERVAL;VALUE=DURATION:PT1H
X-Robots-Tag:noindex
X-PUBLISHED-TTL:PT1H
BEGIN:VTIMEZONE
TZID:UTC
BEGIN:STANDARD
TZOFFSETFROM:+0000
TZOFFSETTO:+0000
TZNAME:UTC
DTSTART:20220101T000000
END:STANDARD
END:VTIMEZONE
BEGIN:VEVENT
DTSTART;TZID=UTC:20220208T184500
DTEND;TZID=UTC:20220208T210000
DTSTAMP:20260420T130437
CREATED:20220126T174045Z
LAST-MODIFIED:20220201T201049Z
UID:5688-1644345900-1644354000@ateneuenciclopedicpopular.org
SUMMARY:Cine Fòrum a l'Ateneu: La estrategia del caracol
DESCRIPTION:Setena Sessió del Cine Fòrum de l’Ateneu Enciclopèdic Popular. \nCine Fòrum… gaudir del cinema i fer servir el cinema per parlar\, reflexionar i debatre sobre aspectes de la vida i la societat actuals. \nLa estrategia del caracol és una pel·lícula dirigida per Sergio Cabrera el 1993 \nEls veins d’un dels barris més pobres de Bogotá lluiten per a evitar l’enderroc de la casa on viuen\, propietat d’un milionari sense escrúpols. Encara que la seva lluita contra l’especulació i la corrupció sembla perduda d’antuvi\, posen en pràctica una original estrategia ideada per don Jacinto\, un vell anarquista espanyol.
URL:https://ateneuenciclopedicpopular.org/activitat/cine-forum-a-lateneu-la-estrategia-del-caracol/
LOCATION:Sala Margarita Xirgu
CATEGORIES:Cinefòrum
ATTACH;FMTTYPE=image/jpeg:https://ateneuenciclopedicpopular.org/wp-content/uploads/2022/01/Caracol.jpg
END:VEVENT
BEGIN:VEVENT
DTSTART;TZID=UTC:20220211T190000
DTEND;TZID=UTC:20220211T210000
DTSTAMP:20260420T130437
CREATED:20220203T163454Z
LAST-MODIFIED:20220203T173152Z
UID:5734-1644606000-1644613200@ateneuenciclopedicpopular.org
SUMMARY:Taula sobre violències des del espais de privació de llibertat
DESCRIPTION:Xerrada-debat\, a càrrec d’Amadeu Casellas i presentat i moderat per Gorka\, sobre les violències que s’exerceixen sobre les persones privades de llibertat\, sobre la perversió que signifiquen aquests espais. \nLa malauradament llarga experiència del ponent a la presó permetrà la visualització i denúncia de les condicions a l’interior d’aquesta espais. \nActivitat en el marc del 120 Aniversari de l’Ateneu Enciclopèdic i el 45è del Centre de Documentació Històric-Social
URL:https://ateneuenciclopedicpopular.org/activitat/taula-sobre-violencies-des-del-espais-de-privacio-de-llibertat/
LOCATION:Sala Margarita Xirgu
CATEGORIES:Debat,Taula rodona
ATTACH;FMTTYPE=image/jpeg:https://ateneuenciclopedicpopular.org/wp-content/uploads/2022/02/Presons.jpg
END:VEVENT
BEGIN:VEVENT
DTSTART;TZID=UTC:20220214T190000
DTEND;TZID=UTC:20220214T210000
DTSTAMP:20260420T130437
CREATED:20220205T125344Z
LAST-MODIFIED:20220205T125344Z
UID:5751-1644865200-1644872400@ateneuenciclopedicpopular.org
SUMMARY:1a\, sesión del "Taller de introducción al anarquismo"
DESCRIPTION:Primera sesión:\nLa sociedad contra el estado. ¿Cómo construir sociedades igualitarias?\n[No hace falta inscripción. Para tener acceso a la bibliografía puedes mandar un correo a joueling@gmail.com ]
URL:https://ateneuenciclopedicpopular.org/activitat/1a-sesion-del-taller-de-introduccion-al-anarquismo/
LOCATION:Aula Llib. Rodenas
CATEGORIES:Taller - Curs
ATTACH;FMTTYPE=application/pdf:https://ateneuenciclopedicpopular.org/wp-content/uploads/2022/02/Session-1.-Taller-Intro-Anarquista.pdf
END:VEVENT
BEGIN:VEVENT
DTSTART;TZID=UTC:20220222T184500
DTEND;TZID=UTC:20220222T210000
DTSTAMP:20260420T130437
CREATED:20220207T123427Z
LAST-MODIFIED:20220207T123427Z
UID:5754-1645555500-1645563600@ateneuenciclopedicpopular.org
SUMMARY:Cine Fòrum a l'Ateneu: Johnny cogió su fusil
DESCRIPTION:Vuitenai Sessió del Cine Fòrum de l’Ateneu Enciclopèdic Popular. \nCine Fòrum… gaudir del cinema i fer servir el cinema per parlar\, reflexionar i debatre sobre aspectes de la vida i la societat actuals. \nJohnny cogió su fusil és pel·lícula dirigida per Dalton Trumbo el 1971 \nEn esclatar la Primera Guerra Mundial\, Johnny\, que sempre ha volgut portar un fusell\, es presenta voluntari i marxa al Front. \nCarn de canó\, aviat cau abatut per l’explosió d’una granada. Sobreviu\, però sense braços ni cames ni sentits… només el seu cervell funciona encara. Sense saber que no ha perdut la consciència\, els metges\, per pura curiositat científica\, mantenen amb vida el seu cos\, per esbrinar quan pot sobreviure un cos humà en tals condicions. I Johnny va prenent consciència de la seva situació…
URL:https://ateneuenciclopedicpopular.org/activitat/cine-forum-a-lateneu-johnny-cogio-su-fusil/
LOCATION:Sala Margarita Xirgu
CATEGORIES:Cine Club,Cinefòrum
ATTACH;FMTTYPE=image/jpeg:https://ateneuenciclopedicpopular.org/wp-content/uploads/2022/02/Johnny.jpg
END:VEVENT
BEGIN:VEVENT
DTSTART;VALUE=DATE:20220223
DTEND;VALUE=DATE:20220305
DTSTAMP:20260420T130437
CREATED:20220221T142353Z
LAST-MODIFIED:20220221T142719Z
UID:5829-1645574400-1646438399@ateneuenciclopedicpopular.org
SUMMARY:Recordatori del 48è aniversari de l'assassinat de Salvador Puig Antich
DESCRIPTION:Programa \nExposició Homenatge en Record de Salvador Puig Antich. En la memòria i en el nostre cor. La teva lluita és la nostra lluita \nDel dimecres 23 de febrer al divendres 4 de març a l’Ateneu Enciclopèdic Popular (c/ Reina Amàlia\, 38 ‹M› L2 i L3 Paral·lel) \nActe recordatori i contra la repressió \nDissabte 26 de febrer\, 19h a l’Ateneu Enciclopèdic Popular (c/ Reina Amàlia\, 38 ‹M› L2 i L3 Paral·lel) \nParlaments \nParlaments sobre el MIL i Salvador Puig Antich \nParlaments sobre les presons\, els CIE’s\, antirrepressius de l’Estat i del món. \nCol·laboració musical \nToni Garcia \nOfrena floral al Cementiri de Montjuïc \nDimecres 2 de març de 2022\, 12h Ofrena floral al Cementiri de Montjuïc \nAgrupació 14\, nínxol 2737 \n(Casella B10 d’aquest plànol // Geolocalització: 41°21’32.4″N 2°09’27.9″E / OLC: 9555+H3X Barcelona)
URL:https://ateneuenciclopedicpopular.org/activitat/recordatori-del-48e-aniversari-de-lassassinat-de-salvador-puig-antich/
LOCATION:Sala Margarita Xirgu
CATEGORIES:Aniversari,Exposició
ATTACH;FMTTYPE=image/jpeg:https://ateneuenciclopedicpopular.org/wp-content/uploads/2022/02/Puig-Antich.jpg
END:VEVENT
BEGIN:VEVENT
DTSTART;TZID=UTC:20220224T190000
DTEND;TZID=UTC:20220224T210000
DTSTAMP:20260420T130437
CREATED:20220111T154854Z
LAST-MODIFIED:20220111T154854Z
UID:5624-1645729200-1645736400@ateneuenciclopedicpopular.org
SUMMARY:Presentació del llibre: Autoconstrucción. Por una autonomía del habitar de John F. C. Turner
DESCRIPTION:El libro traduce textos inéditos del arquitecto y pensador John Turner al castellano. Amplía además las claves fundamentales de su pensamiento\, insistiendo en su visión relacional de la vivienda y de la creación de lugar como proceso continuo. \nJohn F. C. Turner (*1927) es un arquitecto inglés famoso por su dedicación al estudio y la práctica de la vivienda autoconstruida. Estudió en la Architectural Association de Londres\, marcado por Patrick Geddes e influido por el anarquismo se interesó muy pronto por una visión de la arquitectura y el urbanismo que siempre considera su relación con los usuarios. \nCon treinta años acudió a Perú a trabajar en agencias nacionales e internacionales de vivienda. Así fue observador y colaborador en los procesos de formación de las barriadas de vivienda autoconstruidas de Lima y Arequipa\, lo que significó un cambio de rumbo en su vida. Desde los años sesenta publicó numerosos artículos y\, sobretodo\, los libros esenciales Freedom to build y Housing by people. Además participó en congresos y asesorías de cooperación sobre vivienda y hábitat en todo el mundo. \nSu interés por una visión amplia y holística del habitar\, por una interpretación de la creación de lugar como proceso\, no se ha detenido hasta hoy. Tras recibir el Premio Nobel Alternativo\, Turner continúa pensando y trabajando sobre las buenas experiencias de vivienda\, el urbanismo desde abajo y las prácticas comunitarias locales con el objetivo de encontrar herramientas que puedan facilitar la autonomía y el respeto hacia la ecología.
URL:https://ateneuenciclopedicpopular.org/activitat/presentacio-del-llibre-autoconstruccion-por-una-autonomia-del-habitar-de-john-f-c-turner/
LOCATION:Sala Margarita Xirgu
CATEGORIES:Presentacions de llibres
ATTACH;FMTTYPE=application/pdf:https://ateneuenciclopedicpopular.org/wp-content/uploads/2022/01/Turner.pdf
END:VEVENT
BEGIN:VEVENT
DTSTART;TZID=UTC:20220226T190000
DTEND;TZID=UTC:20220226T210000
DTSTAMP:20260420T130437
CREATED:20220221T145729Z
LAST-MODIFIED:20220221T145729Z
UID:5844-1645902000-1645909200@ateneuenciclopedicpopular.org
SUMMARY:Acte recordatori i contra la repressió: 48è aniversari de l'assassinat de Salvador Puig Antich
DESCRIPTION:Programa \nActe recordatori i contra la repressió \nDissabte 26 de febrer\, 19h a l’Ateneu Enciclopèdic Popular (c/ Reina Amàlia\, 38 ‹M› L2 i L3 Paral·lel) \nParlaments \nParlaments sobre el MIL i Salvador Puig Antich \nParlaments sobre les presons\, els CIE’s\, antirrepressius de l’Estat i del món. \nCol·laboració musical \nToni Garcia \n  \nExposició Homenatge en Record de Salvador Puig Antich. En la memòria i en el nostre cor. La teva lluita és la nostra lluita \nDel dimecres 23 de febrer al divendres 4 de març a l’Ateneu Enciclopèdic Popular (c/ Reina Amàlia\, 38 ‹M› L2 i L3 Paral·lel) \n  \nOfrena floral al Cementiri de Montjuïc \nDimecres 2 de març de 2022\, 12h Ofrena floral al Cementiri de Montjuïc \nAgrupació 14\, nínxol 2737 \n(Casella B10 d’aquest plànol // Geolocalització: 41°21’32.4″N 2°09’27.9″E / OLC: 9555+H3X Barcelona)
URL:https://ateneuenciclopedicpopular.org/activitat/acte-recordatori-i-contra-la-repressio-48e-aniversari-de-lassassinat-de-salvador-puig-antich/
LOCATION:Sala Margarita Xirgu
CATEGORIES:Aniversari,Taula rodona
ATTACH;FMTTYPE=image/jpeg:https://ateneuenciclopedicpopular.org/wp-content/uploads/2022/02/Puig-Antich.jpg
END:VEVENT
BEGIN:VEVENT
DTSTART;TZID=UTC:20220228T190000
DTEND;TZID=UTC:20220228T210000
DTSTAMP:20260420T130437
CREATED:20220228T154145Z
LAST-MODIFIED:20220228T154145Z
UID:5888-1646074800-1646082000@ateneuenciclopedicpopular.org
SUMMARY:3ª sesión del "Taller de introducción al anarquismo"
DESCRIPTION:Propuestas económicas del anarquismo: ¿Cómo organizar el trabajo?\n[No hace falta inscripción. Para tener acceso a la bibliografía puedes mandar un correo a joueling@gmail.com ]
URL:https://ateneuenciclopedicpopular.org/activitat/3a-sesion-del-taller-de-introduccion-al-anarquismo/
LOCATION:Aula Llib. Rodenas
CATEGORIES:Taller - Curs
ATTACH;FMTTYPE=image/jpeg:https://ateneuenciclopedicpopular.org/wp-content/uploads/2022/02/3sesiontalleranarquismo.jpg
END:VEVENT
END:VCALENDAR