BEGIN:VCALENDAR
VERSION:2.0
PRODID:-//Ateneu Enciclopèdic Popular - ECPv6.0.13.1//NONSGML v1.0//EN
CALSCALE:GREGORIAN
METHOD:PUBLISH
X-ORIGINAL-URL:https://ateneuenciclopedicpopular.org
X-WR-CALDESC:Esdeveniments per Ateneu Enciclopèdic Popular
REFRESH-INTERVAL;VALUE=DURATION:PT1H
X-Robots-Tag:noindex
X-PUBLISHED-TTL:PT1H
BEGIN:VTIMEZONE
TZID:UTC
BEGIN:STANDARD
TZOFFSETFROM:+0000
TZOFFSETTO:+0000
TZNAME:UTC
DTSTART:20220101T000000
END:STANDARD
END:VTIMEZONE
BEGIN:VEVENT
DTSTART;VALUE=DATE:20220223
DTEND;VALUE=DATE:20220305
DTSTAMP:20260420T142751
CREATED:20220221T142353Z
LAST-MODIFIED:20220221T142719Z
UID:5829-1645574400-1646438399@ateneuenciclopedicpopular.org
SUMMARY:Recordatori del 48è aniversari de l'assassinat de Salvador Puig Antich
DESCRIPTION:Programa \nExposició Homenatge en Record de Salvador Puig Antich. En la memòria i en el nostre cor. La teva lluita és la nostra lluita \nDel dimecres 23 de febrer al divendres 4 de març a l’Ateneu Enciclopèdic Popular (c/ Reina Amàlia\, 38 ‹M› L2 i L3 Paral·lel) \nActe recordatori i contra la repressió \nDissabte 26 de febrer\, 19h a l’Ateneu Enciclopèdic Popular (c/ Reina Amàlia\, 38 ‹M› L2 i L3 Paral·lel) \nParlaments \nParlaments sobre el MIL i Salvador Puig Antich \nParlaments sobre les presons\, els CIE’s\, antirrepressius de l’Estat i del món. \nCol·laboració musical \nToni Garcia \nOfrena floral al Cementiri de Montjuïc \nDimecres 2 de març de 2022\, 12h Ofrena floral al Cementiri de Montjuïc \nAgrupació 14\, nínxol 2737 \n(Casella B10 d’aquest plànol // Geolocalització: 41°21’32.4″N 2°09’27.9″E / OLC: 9555+H3X Barcelona)
URL:https://ateneuenciclopedicpopular.org/activitat/recordatori-del-48e-aniversari-de-lassassinat-de-salvador-puig-antich/
LOCATION:Sala Margarita Xirgu
CATEGORIES:Aniversari,Exposició
ATTACH;FMTTYPE=image/jpeg:https://ateneuenciclopedicpopular.org/wp-content/uploads/2022/02/Puig-Antich.jpg
END:VEVENT
BEGIN:VEVENT
DTSTART;TZID=UTC:20220302T120000
DTEND;TZID=UTC:20220302T130000
DTSTAMP:20260420T142751
CREATED:20220222T162920Z
LAST-MODIFIED:20220222T163517Z
UID:5846-1646222400-1646226000@ateneuenciclopedicpopular.org
SUMMARY:Ofrena floral al Cementiri de Montjuïc: 48è aniversari de l'assassinat de Salvador Puig Antich
DESCRIPTION:Programa \nOfrena floral al Cementiri de Montjuïc \nDimecres 2 de març de 2022\, 12h Ofrena floral al Cementiri de Montjuïc \nAgrupació 14\, nínxol 2737 \nAdjuntem geolocalització \n(Casella B10 d’aquest plànol // Geolocalització: 41°21’32.4″N 2°09’27.9″E / OLC: 9555+H3X Barcelona) \nExposició Homenatge en Record de Salvador Puig Antich. En la memòria i en el nostre cor. La teva lluita és la nostra lluita \nDel dimecres 23 de febrer al divendres 4 de març a l’Ateneu Enciclopèdic Popular (c/ Reina Amàlia\, 38 ‹M› L2 i L3 Paral·lel) \n  \nDins del programa també es va realitzar \nActe recordatori i contra la repressió \nDissabte 26 de febrer\, 19h a l’Ateneu Enciclopèdic Popular (c/ Reina Amàlia\, 38 ‹M› L2 i L3 Paral·lel) \nParlaments \nParlaments sobre el MIL i Salvador Puig Antich \nParlaments sobre les presons\, els CIE’s\, antirrepressius de l’Estat i del món. \nCol·laboració musical \nToni Garcia \n  \n  \n 
URL:https://ateneuenciclopedicpopular.org/activitat/ofrena-floral-al-cementiri-de-montjuic-48e-aniversari-de-lassassinat-de-salvador-puig-antich/
LOCATION:Cementiri de MontjuIc\, Mare de Déu de Port\, 56\, Barcelona
CATEGORIES:Aniversari
ATTACH;FMTTYPE=image/jpeg:https://ateneuenciclopedicpopular.org/wp-content/uploads/2022/02/Puig-Antich.jpg
END:VEVENT
BEGIN:VEVENT
DTSTART;TZID=UTC:20220303T184500
DTEND;TZID=UTC:20220303T210000
DTSTAMP:20260420T142751
CREATED:20220224T124150Z
LAST-MODIFIED:20220224T124150Z
UID:5863-1646333100-1646341200@ateneuenciclopedicpopular.org
SUMMARY:Passi del documental Ibrahim\, un destí per definir
DESCRIPTION:IBRAHIM\, UN DESTÏ PER DEFINIR\, és un documental dirigit\, el 2019\, per Lina Al Abed \nA la xerrada-debat posterior al passi del documental hi comptarem amb la presència de la directora \nProducció: Palestina\, Líban. Durada: 75 min. \nVersió original en àrab subtitulada en català \nSinopsi \nEn aparença Ibrahim Al Abed era un pare de família palestí ordinari amb una feina ordinària resident a Damasc. Però Ibrahim també era Rashid\, membre secret del grup Abu Nidal\, també conegut com el Consell Revolucionari\, una facció militant palestina. El 1987 va desaparèixer\, abandonant la seva dona i cinc fills\, un dels quals era Lina Al Abed\, directora d’aquest documental. \nLina Al Abed \nCineasta palestina\, es va graduar a la Facultat de Periodisme de la Universitat de Damasc. El seu projecte de graduació va consistir en un documental sobre el poeta i escriptor sirià Mohamed Al-Maghout\, emès al canal Al-jazeera el 2007. El seu primer curt documental “Noor Alhuda” va ser produït pel canal Al-Arabiya i va rebre el premi del jurat DOX-BOX com a millor Documental sirià el 2010. Va produir i dirigir el seu llargmetratge documental “Damasc\, el meu primer petó”\, que es va estrenar a Doc Leipzig i es va emetre a Arte el 2013. “Un somni de monstres poderosos”\, el seu segon curtmetratge\, va ser guardonat com a millor documental al Arab Short Festival de Beirut 2014.
URL:https://ateneuenciclopedicpopular.org/activitat/passi-del-documental-ibrahim-un-desti-per-definir/
LOCATION:Sala Margarita Xirgu
CATEGORIES:Debat,Documental,Presentació
ATTACH;FMTTYPE=image/jpeg:https://ateneuenciclopedicpopular.org/wp-content/uploads/2022/02/Palestina.jpg
END:VEVENT
BEGIN:VEVENT
DTSTART;TZID=UTC:20220304T190000
DTEND;TZID=UTC:20220304T210000
DTSTAMP:20260420T142751
CREATED:20220225T113417Z
LAST-MODIFIED:20220225T113417Z
UID:5870-1646420400-1646427600@ateneuenciclopedicpopular.org
SUMMARY:Presentació facsímil del número 11 de l'històrica revista Mujeres Libres
DESCRIPTION:Dins de la tasca de la Fundació Anselmo Lorenzo en el rescat i difusió de la cultura llibertària\, intentem abordar materials i documents necessaris i amb un impacte a l’actualitat. \nPer això\, des de fa uns anys estem rescatant la història doblement oblidada de la Federació de Mujeres Libres\, entenent que el feminisme s’ha convertir en un dels principals fronts de lluita pel canvi social. \nJornades\, tasca d’arxiu\, una magnífica exposició itinerant i el proposar-nos reeditar el conjunt de la revista “Mujeres Libres” en versió facsímil\, atenent al valor històric i artístic de la publicació anarcofeminista original. \nDesprés de l’èxit de la publicació del número 1\, ara llencem el número 11 i us el presentem \nEn la presentació\, organitzada per la Fundación Anselmo Lorenzo i la CNT Catalunya- Balears\, intervindran representants de l’Ateneu Enciclopèdic\, de l’actual Federació de Mujeres Libres i de la Fundació Anselmo Lorenzo. \nPer què el número 11?\nLa revista\, que comença a editar-se el 1936 i acaba la 1a època el 1939\, pateix nombrosos canvis motivats pel cop feixista\, el triomf revolucionari i els tres anys de guerra… una ràpida evolució. \nCreiem que el número 11\, en plena guerra\, aportarà una idea clara de la importància que va assolir Mujeres Libres en un època en que el pes de la religió catòlica y la tradició patriarcal fa més significativa la increíble força d’aquesta organització específica de dones. \nUna organització que arribà a tenir 30.000 dondes afiliades i implantació a tot el territori no sotmés pels feixistes. \n58 pàágines que recullen la creació de la Federació Nacional\, les activitats i tallers de capacitació professional\, les publicacions editades\, un míting fet a València per Federica Montseny\, Lucía Sánchez Saornil y María Jiménez\, anàlisis sobre la situació de la dona\, cròniques de guerra i articles divulgatius. Emma Goldman també col·labora amb una peça que mostra l’estreta relació de l’anarcofeminisme internacional amb la lluita antifeixista de l’Estat espanyol. \nIngent material d’un curòs disseny i il·lustracions de l’artista Baltasar Lobo que mostra la potència que va assolir l’organització i us sorprendrà. \nPublicarem la revista completa tan aviat com sigui possible. Un treball enorme per a la Fundació però que entenem vindrà a emplenar un buit historiogràfic injustificable.
URL:https://ateneuenciclopedicpopular.org/activitat/presentacio-facsimil-del-numero-11-de-lhistorica-revista-mujeres-libres/
LOCATION:Sala Margarita Xirgu
CATEGORIES:Presentació,Presentacions de llibres
ATTACH;FMTTYPE=image/jpeg:https://ateneuenciclopedicpopular.org/wp-content/uploads/2022/02/MMLL-Revista-11.jpg
END:VEVENT
BEGIN:VEVENT
DTSTART;TZID=UTC:20220307T184500
DTEND;TZID=UTC:20220307T210000
DTSTAMP:20260420T142751
CREATED:20220224T110318Z
LAST-MODIFIED:20220224T110318Z
UID:5856-1646678700-1646686800@ateneuenciclopedicpopular.org
SUMMARY:Cine Fòrum a l'Ateneu: Ni dios\, ni patrón\, ni marido
DESCRIPTION:Novena Sessió del Cine Fòrum de l’Ateneu Enciclopèdic Popular. \nAlerta! De forma puntual\, per no interferir a les accions del 8 de març\, aquesta sessió passa al dilluns anterior. Després tornarà als seus habituals dimarts. \nCine Fòrum… gaudir del cinema i fer servir el cinema per parlar\, reflexionar i debatre sobre aspectes de la vida i la societat actuals. \nNi dios\, ni patrón\, ni marido és una pel·lícula dirigida per Laura Mañá el 2010 \nEl 1896\, l’anarquista Virginia Bolten arriba a Buenos Aires\, on la seva amiga Matilde i altres dones treballen en els filats en pèsimes condicions laborals i ambientals. Decideixen\, amb Virgina\, reprendre un vell projecte d’ella\, editar un diari que denuncii l’explotació de classe i de gènere de les dones\, la “Voz de la Mujer”
URL:https://ateneuenciclopedicpopular.org/activitat/cine-forum-a-lateneu-ni-dios-ni-patron-ni-marido/
LOCATION:Sala Margarita Xirgu
CATEGORIES:Cine Club
ATTACH;FMTTYPE=image/jpeg:https://ateneuenciclopedicpopular.org/wp-content/uploads/2022/02/Ni-Dios.jpg
END:VEVENT
BEGIN:VEVENT
DTSTART;TZID=UTC:20220307T190000
DTEND;TZID=UTC:20220307T210000
DTSTAMP:20260420T142751
CREATED:20220228T155312Z
LAST-MODIFIED:20220228T155312Z
UID:5891-1646679600-1646686800@ateneuenciclopedicpopular.org
SUMMARY:4ª sesión del "Taller de introducción al anarquismo"
DESCRIPTION:Cuarta sesión:\nDesindustrialización y luchas identitarias: ¿Como se enfrenta el anarquismo a la sociedad de consumo?\n  \n[No hace falta inscripción. Para tener acceso a la bibliografía puedes mandar un correo a joueling@gmail.com ]
URL:https://ateneuenciclopedicpopular.org/activitat/4a-sesion-del-taller-de-introduccion-al-anarquismo/
LOCATION:Aula Llib. Rodenas
CATEGORIES:Taller - Curs
ATTACH;FMTTYPE=image/jpeg:https://ateneuenciclopedicpopular.org/wp-content/uploads/2022/02/4sesiontalleranarquismo-1.jpg
END:VEVENT
BEGIN:VEVENT
DTSTART;VALUE=DATE:20220310
DTEND;VALUE=DATE:20220423
DTSTAMP:20260420T142751
CREATED:20220224T132333Z
LAST-MODIFIED:20220423T085020Z
UID:5866-1646870400-1650671999@ateneuenciclopedicpopular.org
SUMMARY:Exposició "Sols el Poble salva el Poble"
DESCRIPTION:Fruit de la feina de Fotomovimiento\, una visió\, com diu el seu objectiu de Testimonio y difusión de la realidad social a través de la imagen \nEl suport mutu\, veins i veïnes durant la pandèmia \nEl primer dia de l’Exposició\, dia 10 de març\, aquells que la visitin podran gaudir d’una visita guiada amb les autores. \nDes dels primers dies del confinament i durant l’estat d’alarma les xarxes de suport autogestionades i alguns col·lectius veïnals\, van començar a cobrir les necessitats bàsiques de les seves veïnes\, arribant on no arribaven les Administracions Públiques. \nMilers de persones es van organitzar de manera horitzontal en els diferents barris i pobles de l’Estat\, per a distribuir aliments i productes d’higiene i primera necessitat. També oferien suport legal\, psicològic i acompanyament a totes aquelles personis en situació vulnerable. No eren ONG’s\, ni era caritat\, no es va tractar d’assistencialisme\, si no de xarxes solidàries de persones organitzades que es van donar suport mútuament i que continuen fent-ho en l’actualitat. \nEntre algunes iniciatives\, va destacar la del Sindicat Popular de Venedors Ambulants de Barcelona\, que va convertir la seva botiga del Top manta en un taller de costura per a cosir màscares i bates que després van repartir de manera gratuïta entre veïnes i hospitals. Posteriorment van traslladar el taller a un espai ocupat del Raval del qual finalment van ser desallotjats\, malgrat haver estat aplaudida la seva solidaritat per part de les Institucions. \nTambé van repartir menjar entre els manteros\, un dels col·lectius migrants més perjudicats per la falta d’accés a prestacions\, a causa de la seva irregularitat administrativa. \nLes organitzacions veïnals de defensa de l’habitatge\, els Sindicats d’Habitatge dels Barris\, van continuar defensant a les famílies en situació de vulnerabilitat i van continuar fent-ho amb més força una vegada que es va aixecar\, el 14 de setembre de 2020\, la moratòria de desnonaments decretada per l’Estat d’Alarma. Amb aquesta mesura es van activar de nou les ordres judicials i es van multiplicar els desnonaments per la força en tota la ciutat. \nLes fotografies d’aquesta exposició pertanyen al Barri de Raval\, però són exemple del que va ser i continua sent la labor de les xarxes de suport mutu i els sindicats d’habitatge de Barcelona\, que dia a dia treballen teixint resistències en la defensa dels barris i per la dignitat de les persones que els donen vida.
URL:https://ateneuenciclopedicpopular.org/activitat/exposicio-sols-el-poble-salva-el-poble/
LOCATION:Sala Margarita Xirgu
CATEGORIES:Exposició
ATTACH;FMTTYPE=image/jpeg:https://ateneuenciclopedicpopular.org/wp-content/uploads/2022/02/SolsElPobleSalvaElPoble.jpg
END:VEVENT
BEGIN:VEVENT
DTSTART;TZID=UTC:20220311T190000
DTEND;TZID=UTC:20220311T210000
DTSTAMP:20260420T142751
CREATED:20220224T113118Z
LAST-MODIFIED:20220224T113118Z
UID:5859-1647025200-1647032400@ateneuenciclopedicpopular.org
SUMMARY:Cabaret poètic-musical Micro obert!
DESCRIPTION:Com un avançament de la Primavera\, arriba el gran… \nCabaret poètic-musical\, amb Micro Obert\, a l’Ateneu Enciclopèdic Popular… \nOrganitzat per la Secció Literària de l’Ateneu i el Beto Stocker \nI el Micro Obert ens ofereix la possibilitat\, a totes i tots\, de compartir poèsia i música pel cos i la ment. \nSi voleu participar a aquest Micro Obert\, per poder tenir una previsió\, dirigiu-vos\, PER WHATSAPP\, a: \nM. Ángeles…. para la poesia: 677528736 \nBeto…. para la música: 692529649 \n  \n 
URL:https://ateneuenciclopedicpopular.org/activitat/cabaret-poetic-musical-micro-obert/
LOCATION:Sala Margarita Xirgu
CATEGORIES:Concert,Poesia
ATTACH;FMTTYPE=image/jpeg:https://ateneuenciclopedicpopular.org/wp-content/uploads/2022/02/Cabaret-Poetic.jpg
END:VEVENT
BEGIN:VEVENT
DTSTART;TZID=UTC:20220314T190000
DTEND;TZID=UTC:20220314T210000
DTSTAMP:20260420T142751
CREATED:20220228T160349Z
LAST-MODIFIED:20220228T160349Z
UID:5894-1647284400-1647291600@ateneuenciclopedicpopular.org
SUMMARY:5ª sesión del "Taller de introducción al anarquismo"
DESCRIPTION:Quinta sesión: \nEstrategias de resistencia y lucha: ¿Cómo y con quién organizarse?\n  \n[No hace falta inscripción. Para tener acceso a la bibliografía puedes mandar un correo a joueling@gmail.com ]
URL:https://ateneuenciclopedicpopular.org/activitat/5a-sesion-del-taller-de-introduccion-al-anarquismo/
LOCATION:Aula Llib. Rodenas
CATEGORIES:Taller - Curs
ATTACH;FMTTYPE=image/jpeg:https://ateneuenciclopedicpopular.org/wp-content/uploads/2022/02/5sesiontalleranarquismo.jpg
END:VEVENT
BEGIN:VEVENT
DTSTART;TZID=UTC:20220316T184500
DTEND;TZID=UTC:20220316T210000
DTSTAMP:20260420T142751
CREATED:20220228T101954Z
LAST-MODIFIED:20220228T101954Z
UID:5883-1647456300-1647464400@ateneuenciclopedicpopular.org
SUMMARY:La pedagogia llibertària i el seu recorregut a través del segles XX i XXI
DESCRIPTION:Un repàs de les experiències en pedagogia llibertària des del darrer segle a l’actualitat a càrrec de Valeria Giacomoni\, historiadora especialista en el tema\, redactora de la Revista A de Milano i de Semi sotto la neve \nParaules de la mateixa Valeria\, en una entrevista\, sobre l’orígen d’aquesta pedagogia a Catalunya: \n“La difusión de una escuela laica y racionalista en Cataluña se remonta a principios del siglo XX\, cuando la tasa de analfabetismo era muy alta y la mayoría de los centros escolares estaba bajo el control de la Iglesia. En 1901 en Barcelona\, se abrió la Escuela Moderna\, un proyecto pedagógico y editorial de Francesc Ferrer i Guàrdia\, muy revolucionario para la época\, en el que se rechazaba la transmisión de cualquier dogma y se enseñaban solo conceptos que fueran explicables científicamente. De esta manera se iniciaban los niños en el pensamiento crítico en lugar de un aprendizaje memorístico.”
URL:https://ateneuenciclopedicpopular.org/activitat/la-pedagogia-llibertaria-i-el-seu-recorregut-a-traves-del-segles-xx-i-xxi/
LOCATION:Sala Margarita Xirgu
CATEGORIES:Conferència,Debat
ATTACH;FMTTYPE=image/jpeg:https://ateneuenciclopedicpopular.org/wp-content/uploads/2022/02/cartell-Valeria_ok-1.jpg
END:VEVENT
BEGIN:VEVENT
DTSTART;TZID=UTC:20220321T190000
DTEND;TZID=UTC:20220321T210000
DTSTAMP:20260420T142751
CREATED:20220316T165420Z
LAST-MODIFIED:20220318T170836Z
UID:5973-1647889200-1647896400@ateneuenciclopedicpopular.org
SUMMARY:6a. Sessió del taller d'introducció a l'anarquisme
DESCRIPTION:Sexta sesión: \nAnarcofeminismo: ¿Qué perspectiva de género hay en las ideas libertarias?\n  \n[No hace falta inscripción. Para tener acceso a la bibliografía puedes mandar un correo a joueling@gmail.com ]
URL:https://ateneuenciclopedicpopular.org/activitat/5973/
LOCATION:Aula Llib. Rodenas
CATEGORIES:Taller - Curs
ATTACH;FMTTYPE=image/png:https://ateneuenciclopedicpopular.org/wp-content/uploads/2022/03/6a.sessio.taller.anarquismelogo.png
END:VEVENT
BEGIN:VEVENT
DTSTART;TZID=UTC:20220322T184500
DTEND;TZID=UTC:20220322T210000
DTSTAMP:20260420T142751
CREATED:20220309T193459Z
LAST-MODIFIED:20220314T120746Z
UID:5928-1647974700-1647982800@ateneuenciclopedicpopular.org
SUMMARY:Cine Fòrum a l'Ateneu: Midsommar
DESCRIPTION:Desena Sessió del Cine Fòrum de l’Ateneu Enciclopèdic Popular. \nCine Fòrum… gaudir del cinema i fer servir el cinema per parlar\, reflexionar i debatre sobre aspectes de la vida i la societat actuals. \nMidsommar és una pel·lícula dirigida per Ari Aster el 2019 \nCoproducció EEUU-Suècia-Hongria \nUna parella estatunidenca que no passa pel seu millor moment hi va\, amb uns amics\, al Midsommar\, un festival d’estiu que se celebra cada 90 anys en una vila remota de Suècia. El que comença com unes vacances de somni en un lloc on el sol no pon mai\, poc a poc es converteix en un fosc malson quan els misteriosos vilatans els conviden a participar en les seves pertorbadores activitats festives. \n  \n 
URL:https://ateneuenciclopedicpopular.org/activitat/cine-forum-a-lateneu-midsommar/
LOCATION:Sala Margarita Xirgu
CATEGORIES:Cinefòrum
ATTACH;FMTTYPE=image/jpeg:https://ateneuenciclopedicpopular.org/wp-content/uploads/2022/03/Midsommar.jpg
END:VEVENT
BEGIN:VEVENT
DTSTART;TZID=UTC:20220324T190000
DTEND;TZID=UTC:20220324T210000
DTSTAMP:20260420T142751
CREATED:20220314T161205Z
LAST-MODIFIED:20220314T161205Z
UID:5969-1648148400-1648155600@ateneuenciclopedicpopular.org
SUMMARY:Presentació de l'edició facsímil del Decret de Col·lectivitzacions de 1936
DESCRIPTION:Presentació de la reedició en facsímil del Decret de Col·lectivitzacions de 1936\, 85 anys després de la seva publicació. \nEmpesos pels seus ideals i enmig d’una guerra\, els treballadors i treballadores de Catalunya van apostar per l’autogestió de l’economia. Generacions d’obrers havien estat construint una societat paral·lela al capitalisme\, amb ateneus\, sindicats\, cooperatives i escoles llibertàries\, per fer front a l’explotació laboral\, l’analfabetisme i la pobresa. El camí que havien trobat era el de la revolució social\, emancipar-se de tota autoritat mitjançant les seves pròpies estructures\, sense esperar que ningú ho fes per ells. No confiaven en l’Estat\, ni en l’Església\, ni en els Militars\, ni en els Empresaris. Tots els havien traït\, fent prevaldre els seus interessos particulars i de classe. \nAmb la intervenció d’Agustín Guillamón que ha relitzat un estudi històric al voltant del text per aportar perspectiva i una mirada crítica. \nOrganitzat per l’Editorial Descontrol
URL:https://ateneuenciclopedicpopular.org/activitat/presentacio-de-ledicio-facsimil-del-decret-de-collectivitzacions-de-1936/
LOCATION:Sala Margarita Xirgu
CATEGORIES:Presentacions de llibres
ATTACH;FMTTYPE=image/jpeg:https://ateneuenciclopedicpopular.org/wp-content/uploads/2022/03/CARTELL-decret-AEP-24_3_22.jpg
END:VEVENT
BEGIN:VEVENT
DTSTART;TZID=UTC:20220325T190000
DTEND;TZID=UTC:20220325T210000
DTSTAMP:20260420T142751
CREATED:20220314T140255Z
LAST-MODIFIED:20220314T140743Z
UID:5964-1648234800-1648242000@ateneuenciclopedicpopular.org
SUMMARY:La gran vaga de la Roca del 76. 95 dies de lluita
DESCRIPTION:Presentació del llibre La gran huelga de la Roca del 76 de Jerónimo Casasola \nPresentació de la campanya de micromecenatge per al documental sobre la vaga del 76 \nEl documental que es vol realitzar està basat en el llibre que es presenta\, de Jerónimo Casasola Del Pozo\, “La gran huelga de la Roca. 95 días de lucha”\, on es narra el que van viure els treballadors de la fàbrica Roca Radiadores el 1976 durant els 95 dies que va durar la vaga\, en la que la solidaritat obrera\, el recolzament mutu\, les assemblees o la lluita foren trets d’identitat. Vol donar veu i visibilitat a les persones (obrers\, famílies..) que en van ser protagonistes i a la transcendència social\, més enllà del conflicte laboral\, que va tenir. \nOrganitzat per l’Ateneu Llibertari de Viladecans \nhttps://www.gofundme.com/f/documental-sobre-la-huelga-de-roca-del-76 
URL:https://ateneuenciclopedicpopular.org/activitat/la-gran-vaga-de-la-roca-del-76-95-dies-de-lluita/
LOCATION:Sala Margarita Xirgu
CATEGORIES:Presentacions de llibres
ATTACH;FMTTYPE=image/jpeg:https://ateneuenciclopedicpopular.org/wp-content/uploads/2022/03/roca.jpg
END:VEVENT
BEGIN:VEVENT
DTSTART;TZID=UTC:20220331T190000
DTEND;TZID=UTC:20220331T190000
DTSTAMP:20260420T142751
CREATED:20220325T105440Z
LAST-MODIFIED:20220325T152615Z
UID:6014-1648753200-1648753200@ateneuenciclopedicpopular.org
SUMMARY:GUERRA A UCRAÏNA: PERSPECTIVES ANTIAUTORITÀRIES
DESCRIPTION:Perspectives antiautoritàries de la guerra d’Ucraïna. \n  \nTaula rodona per conversar i debatre sobre la guerra d’Ucraïna des dels nostres mirars llibertaris. \n  \nAquesta activitat serà gravada i més endavant emesa per Ràdio Contrabanda (91.4 fm).
URL:https://ateneuenciclopedicpopular.org/activitat/guerra-a-ucraina-perspectives-antiautoritaries/
LOCATION:Sala Margarita Xirgu
CATEGORIES:Debat
ATTACH;FMTTYPE=image/png:https://ateneuenciclopedicpopular.org/wp-content/uploads/2022/03/TAULA.RODONA.ucraina-1.png
END:VEVENT
END:VCALENDAR