BEGIN:VCALENDAR
VERSION:2.0
PRODID:-//Ateneu Enciclopèdic Popular - ECPv6.0.13.1//NONSGML v1.0//EN
CALSCALE:GREGORIAN
METHOD:PUBLISH
X-WR-CALNAME:Ateneu Enciclopèdic Popular
X-ORIGINAL-URL:https://ateneuenciclopedicpopular.org
X-WR-CALDESC:Esdeveniments per Ateneu Enciclopèdic Popular
REFRESH-INTERVAL;VALUE=DURATION:PT1H
X-Robots-Tag:noindex
X-PUBLISHED-TTL:PT1H
BEGIN:VTIMEZONE
TZID:UTC
BEGIN:STANDARD
TZOFFSETFROM:+0000
TZOFFSETTO:+0000
TZNAME:UTC
DTSTART:20220101T000000
END:STANDARD
END:VTIMEZONE
BEGIN:VEVENT
DTSTART;TZID=UTC:20220601T190000
DTEND;TZID=UTC:20220601T190000
DTSTAMP:20260420T062617
CREATED:20220523T160911Z
LAST-MODIFIED:20220523T161526Z
UID:6255-1654110000-1654110000@ateneuenciclopedicpopular.org
SUMMARY:Presentació reedició disc No '92 en LP
DESCRIPTION:Presentació de la reedició del k7 “No ’92” en format LP\, contra les Olimpiades de Barcelona ’92\, a càrrec del Lokal\, companyes que van estar dins el moviment contra les olimpiades\, músics que van participar al disc i gent de la plataforma contra els Jocs d’Hivern al Pirineu. \n+info: https://ellokal.org/presentacio-de-la-reedicio-en-vinil-del-no-92/ \n 
URL:https://ateneuenciclopedicpopular.org/activitat/presentacio-reedicio-disc-no-92-en-lp/
LOCATION:Sala Margarita Xirgu
CATEGORIES:Presentació
ATTACH;FMTTYPE=image/jpeg:https://ateneuenciclopedicpopular.org/wp-content/uploads/2022/05/presentaci_no92-scaled.jpg
ORGANIZER;CN="El%20Lokal":MAILTO:ellokal@pangea.org
END:VEVENT
BEGIN:VEVENT
DTSTART;TZID=UTC:20220603T190000
DTEND;TZID=UTC:20220603T190000
DTSTAMP:20260420T062617
CREATED:20220523T161452Z
LAST-MODIFIED:20220523T161452Z
UID:6258-1654282800-1654282800@ateneuenciclopedicpopular.org
SUMMARY:Presentació llibre "De profesión: artista"
DESCRIPTION:Presentació de la biografia editada per Txalaparta de Marco Antonio Sanz de Acedo\, “más conocido como Eskroto y Gavilán quien fuera líder de los grupos Tijuana in Blue y Kojón Prieto y los Huajolotes”\, a càrrec de l’autor\, Txus Pérez Artuch\, i amb la participació de Carlos Azagra. \n+info: https://ellokal.org/presentacio-del-llibre-de-profesion-artista-biografia-de-eskroto-gavilan-colorao/
URL:https://ateneuenciclopedicpopular.org/activitat/presentacio-llibre-de-profesion-artista/
LOCATION:Sala Margarita Xirgu
CATEGORIES:Presentacions de llibres
ATTACH;FMTTYPE=image/jpeg:https://ateneuenciclopedicpopular.org/wp-content/uploads/2022/05/PRESENTACIO-EL-LOKAL-scaled.jpg
ORGANIZER;CN="El%20Lokal":MAILTO:ellokal@pangea.org
END:VEVENT
BEGIN:VEVENT
DTSTART;TZID=UTC:20220614T184500
DTEND;TZID=UTC:20220614T210000
DTSTAMP:20260420T062617
CREATED:20220531T174733Z
LAST-MODIFIED:20220531T174733Z
UID:6291-1655232300-1655240400@ateneuenciclopedicpopular.org
SUMMARY:Cine Fòrum a l'Ateneu: Irina Palm
DESCRIPTION:Setzena Sessió del Cine Fòrum de l’Ateneu Enciclopèdic Popular. \nCine Fòrum… gaudir del cinema i fer servir el cinema per parlar\, reflexionar i debatre sobre aspectes de la vida i la societat actuals. \nIrina Palm és una pel·lícula dirigida per Sam Garbaski l’any 2007 \nMaggie ha de trobar diners per un tractament mèdic pel seu net. Veu un anunci on demanen una hostessa i es presenta. Quan descobreix quin tipus d’acompanyament ha de fer\, se sorpren\, però accepta el treball. Maggie és tínida i ho passa molt malament en el món del sexe fins que una companya li ensenya els trucs de l’ofici fins convertir-la en la sol·licitada Irina Palm. Però la doble vida de Maggie no passa inadvertida als seus veins i s’haurà d’enfrontar a la doble moral provinciana.
URL:https://ateneuenciclopedicpopular.org/activitat/cine-forum-a-lateneu-irina-palm/
LOCATION:Sala Margarita Xirgu
CATEGORIES:Cine Club,Cinefòrum
ATTACH;FMTTYPE=image/jpeg:https://ateneuenciclopedicpopular.org/wp-content/uploads/2022/05/IMG-20220531-WA0012.jpg
END:VEVENT
BEGIN:VEVENT
DTSTART;TZID=UTC:20220617T190000
DTEND;TZID=UTC:20220617T190000
DTSTAMP:20260420T062617
CREATED:20220613T093333Z
LAST-MODIFIED:20220613T093333Z
UID:6324-1655492400-1655492400@ateneuenciclopedicpopular.org
SUMMARY:Xerrada "Centre de Documentació Històric Social 1977-2022: Per què es va fundar?\, Quin sentit té ara?"
DESCRIPTION:Xerrada a càrrec de Paco Madrid\, membre fundador del CDHS i Albert Caballero\, actual membre.
URL:https://ateneuenciclopedicpopular.org/activitat/xerrada-centre-de-documentacio-historic-social-1977-2022-per-que-es-va-fundar-quin-sentit-te-ara/
LOCATION:Sala Margarita Xirgu
CATEGORIES:Taula rodona
ATTACH;FMTTYPE=image/jpeg:https://ateneuenciclopedicpopular.org/wp-content/uploads/2022/06/17.6.22_AEP_pacomadrid.jpeg
END:VEVENT
BEGIN:VEVENT
DTSTART;TZID=UTC:20220628T184500
DTEND;TZID=UTC:20220628T210000
DTSTAMP:20260420T062617
CREATED:20220611T111305Z
LAST-MODIFIED:20220611T111305Z
UID:6315-1656441900-1656450000@ateneuenciclopedicpopular.org
SUMMARY:Cine Fòrum a l'Ateneu: Ciudad de Dios
DESCRIPTION:Dissetena Sessió del Cine Fòrum de l’Ateneu Enciclopèdic Popular. \nCine Fòrum… gaudir del cinema i fer servir el cinema per parlar\, reflexionar i debatre sobre aspectes de la vida i la societat actuals. \nCiudad de Dios és una pel·lícula dirigida per Fernando Meirelles i Kátia Lund l’any 2002 \nBasada en fets reals\, descriu el món del crim organitzat a Cidade de Deus\, zona de faveles a Rio de Janeiro\, quan la droga i la violència van imposar la seva llei\, a la segona meitat del segle passat. A finals dels 1960\, Buscapé\, d’onze anys\, observa als nens durs del seu barri\, les baralles\, robatoris\, enfrontaments amb la polícia. Però ell\, si aconsegueix de sobreviure\, vol ser fotògraf. Un altre nen\, Dadinho\, al contrari\, somia ser el delinquent més perillòs de Rio. \n  \n 
URL:https://ateneuenciclopedicpopular.org/activitat/cine-forum-a-lateneu-ciudad-de-dios/
LOCATION:Sala Margarita Xirgu
CATEGORIES:Cine Club,Cinefòrum
ATTACH;FMTTYPE=image/jpeg:https://ateneuenciclopedicpopular.org/wp-content/uploads/2022/06/IMG-20220609-WA0009.jpg
END:VEVENT
BEGIN:VEVENT
DTSTART;TZID=UTC:20220629T190000
DTEND;TZID=UTC:20220629T190000
DTSTAMP:20260420T062617
CREATED:20220603T062127Z
LAST-MODIFIED:20220603T062127Z
UID:6303-1656529200-1656529200@ateneuenciclopedicpopular.org
SUMMARY:Aniversari d'Ada Martí Vall
DESCRIPTION:Ada Martí Vall una Mujer Libre del barrio Xino de Barcelona 1914-1960 \nXerrada + recital de poesia
URL:https://ateneuenciclopedicpopular.org/activitat/aniversari-dada-marti-vall/
LOCATION:Sala Margarita Xirgu
CATEGORIES:Aniversari,Poesia
ATTACH;FMTTYPE=image/jpeg:https://ateneuenciclopedicpopular.org/wp-content/uploads/2022/06/29.6.AdaMarti.jpg
END:VEVENT
END:VCALENDAR