BEGIN:VCALENDAR
VERSION:2.0
PRODID:-//Ateneu Enciclopèdic Popular - ECPv6.0.13.1//NONSGML v1.0//EN
CALSCALE:GREGORIAN
METHOD:PUBLISH
X-ORIGINAL-URL:https://ateneuenciclopedicpopular.org
X-WR-CALDESC:Esdeveniments per Ateneu Enciclopèdic Popular
REFRESH-INTERVAL;VALUE=DURATION:PT1H
X-Robots-Tag:noindex
X-PUBLISHED-TTL:PT1H
BEGIN:VTIMEZONE
TZID:UTC
BEGIN:STANDARD
TZOFFSETFROM:+0000
TZOFFSETTO:+0000
TZNAME:UTC
DTSTART:20220101T000000
END:STANDARD
END:VTIMEZONE
BEGIN:VEVENT
DTSTART;TZID=UTC:20221004T184500
DTEND;TZID=UTC:20221004T210000
DTSTAMP:20260419T194432
CREATED:20220926T093842Z
LAST-MODIFIED:20220926T093842Z
UID:6589-1664909100-1664917200@ateneuenciclopedicpopular.org
SUMMARY:Cine Fòrum a l'Ateneu: Blue Bayou
DESCRIPTION:Vint-i-unena Sessió del Cine Fòrum de l’Ateneu Enciclopèdic Popular. \nCine Fòrum… gaudir del cinema i fer servir el cinema per parlar\, reflexionar i debatre sobre aspectes de la vida i la societat actuals. \nBlue Bayou és una pel·lícula dirigida per Justin Chon l’any 2021 \n\nLa història d’una familia que lluita pel seu futur. Antonio Le Blanc\, nascut a Corea\, fou adoptat y passà la joventut en una diminuta localitat de la zona pantanosa de Luisiana. Està casat amb l’amor de la seva vida\, Kathy\, que tenia una filla d’una relació anterior\, a la que Antonio estima com si fos seva. Mentre lluite per sortir endavant\, Antonio s’enfronta amb fastasmes del passar\, en assabentar-se que el país en el que es va criar podria deportar-lo.
URL:https://ateneuenciclopedicpopular.org/activitat/cine-forum-a-lateneu-blue-bayou/
LOCATION:Sala Margarita Xirgu
CATEGORIES:Cine Club,Cinefòrum
ATTACH;FMTTYPE=image/jpeg:https://ateneuenciclopedicpopular.org/wp-content/uploads/2022/09/Blue-Bayou.jpg
END:VEVENT
BEGIN:VEVENT
DTSTART;TZID=UTC:20221018T183000
DTEND;TZID=UTC:20221018T210000
DTSTAMP:20260419T194432
CREATED:20221004T153434Z
LAST-MODIFIED:20221004T153434Z
UID:6634-1666117800-1666126800@ateneuenciclopedicpopular.org
SUMMARY:Cine Fòrum a l'Ateneu: Marius y Jeannette
DESCRIPTION:Vint-i-dosena Sessió del Cine Fòrum de l’Ateneu Enciclopèdic Popular. \nCine Fòrum… gaudir del cinema i fer servir el cinema per parlar\, reflexionar i debatre sobre aspectes de la vida i la societat actuals. \nMarius y Jeannette és una pel·lícula dirigida per Robert Guédiguian l’any 1997 \nMarius y Jeannette\, dos quarantins que malviuen en un miserable barri de Marsella\, comparteixen un pesimista excepticisme davant la vida\, que els ha tractat molt durament. Ell passeja la seva coixesa per l’abandonada cimentera de la qué és vigilant. Ella lluita per tirar endavant els seus dos fills\, de diferents pares\, amb la seva miserable feina de caixera de supermercat. L’inesperada trobada i enamorament d’aquests dos perdedors farà que recuperin l’alegria i les ganes de lluitar\, que contagiaren als seus singulars veins. \n 
URL:https://ateneuenciclopedicpopular.org/activitat/cine-forum-a-lateneu-marius-y-jeannette/
LOCATION:Sala Margarita Xirgu
CATEGORIES:Cine Club,Cinefòrum
ATTACH;FMTTYPE=image/jpeg:https://ateneuenciclopedicpopular.org/wp-content/uploads/2022/10/Juliette-Cinema.jpg
END:VEVENT
BEGIN:VEVENT
DTSTART;TZID=UTC:20221022T203000
DTEND;TZID=UTC:20221022T233000
DTSTAMP:20260419T194432
CREATED:20221011T133231Z
LAST-MODIFIED:20221011T133231Z
UID:6679-1666470600-1666481400@ateneuenciclopedicpopular.org
SUMMARY:Micro Voltaire\, micro obert
DESCRIPTION:Micro Voltaire… un micro obert a totes i a tots…. persones i arts \nMúsica\, teatre\, dansa\, performance\, poesia… dinamitzat per Miquel Jarque i Alba Tor \nVeniu a Deixar-vos anar\, sense censures… a treure tots els arts que porteu a dins
URL:https://ateneuenciclopedicpopular.org/activitat/micro-voltaire-micro-obert/
LOCATION:Sala Margarita Xirgu
CATEGORIES:Cabaret poètic-musical,Concert,Poesia,Teatre
ATTACH;FMTTYPE=image/jpeg:https://ateneuenciclopedicpopular.org/wp-content/uploads/2022/10/Micro-22-octubre-2022.jpg
END:VEVENT
END:VCALENDAR